{"text_format":"1","workbook":"xlsx","n_sheets":14,"sheets":["図面","図面2階","計算結果","計算結果2階","N値（桁行）","N値（梁間）","面積計算","壁量計算","面積計算2階","壁量計算2階","桁行軸組","梁間軸組","部品","グリッド調整"],"not_rendered":{"charts":0,"images":0,"macros":1,"external_links":0,"defined_names":0,"comments":0,"pivot_tables":0},"unopened":[],"bounds":{"document_bytes":16777216,"sheet_cells":100000,"rows_first":2000,"rows_last":500,"rows_between":2000,"halvings":0,"cell_chars":16384,"cell_head_chars":4096},"cells_cut":0,"cells_raw":0,"read":"whole","date_system":"1900"}

{"sheet":"図面","index":0,"n_rows":27,"n_cols":41,"rows_kept":27,"cut":false,"hidden":false,"merged":[[36,26,36,29],[37,26,37,29],[38,26,38,29],[39,26,39,29],[26,1,26,4],[26,23,26,41],[33,26,33,29],[34,26,34,29],[35,26,35,29],[45,1,45,4],[41,22,42,22],[41,23,42,24],[42,8,42,10],[42,12,42,14],[42,16,42,17],[41,26,42,29],[41,7,41,18],[41,19,42,19],[41,20,42,21],[41,2,42,6],[24,8,24,14],[22,13,22,15],[18,31,18,34],[19,31,19,34],[20,31,20,34],[21,31,21,34],[22,31,22,34],[23,31,23,34],[17,29,23,29],[21,26,21,27],[23,7,23,8],[9,35,9,37],[10,35,10,37],[12,38,12,39],[13,38,13,39],[22,38,23,40],[11,35,11,40],[15,35,15,40],[12,35,12,37],[13,35,13,37],[14,35,14,37],[20,38,20,39],[8,35,8,37],[3,30,3,31],[4,30,4,31],[5,30,5,31],[6,30,6,31],[7,30,7,31],[3,32,3,33],[4,32,4,33],[5,32,5,33],[6,32,6,33],[7,32,7,33],[8,30,8,31],[9,30,9,31],[10,30,10,31],[11,30,11,31],[8,32,8,33],[9,32,9,33],[10,32,10,33],[11,32,11,33],[12,30,12,31],[13,30,13,31],[10,28,12,28],[17,38,17,39],[18,38,18,39],[14,38,14,39],[12,32,12,33],[13,32,13,33],[17,31,17,34],[14,32,15,33],[14,30,15,31],[2,35,2,37],[3,35,3,37],[4,35,4,37],[6,35,6,37],[7,35,7,37],[5,35,5,40]]}
[]
[null,"mm",null,910,910,910,910,910,910,910,910,910,910,910,910,910,910,910,910,910,910,910,910,910,910,910,"←数値入力(303〜1820まで）",null,null,null,null,null,null,null,null,null,null,null,null,null,"壁量単位：m"]
[null,null,"尺",{"$f":"D2/303","v":3.0033003300330035},3.0033003300330035,3.0033003300330035,3.0033003300330035,3.0033003300330035,3.0033003300330035,{"$f":"J2/303","v":3.0033003300330035},3.0033003300330035,3.0033003300330035,3.0033003300330035,3.0033003300330035,3.0033003300330035,3.0033003300330035,3.0033003300330035,3.0033003300330035,3.0033003300330035,3.0033003300330035,3.0033003300330035,3.0033003300330035,{"$f":"W2/303","v":3.0033003300330035},{"$f":"X2/303","v":3.0033003300330035},{"$f":"Y2/303","v":3.0033003300330035},{"$f":"Z2/303","v":3.0033003300330035},null,null,null,null,null,null,null,null,null,"壁量計算",null,null,"必要壁量","存在壁量","判定"]
[null,910,{"$f":"B4/303","v":3.0033003300330035},null,null,null,null,null,null,null,null,null,null,null,null,null,null,null,null,null,null,null,null,null,null,null,{"$f":"IF(COUNTIF(面積計算!AG4:AI4,1),\"●\",\" \")","v":" "},"↓N",null,null,"㎡",null,"坪",null,null,"桁行方向壁量",null,null,{"$f":"計算結果!AD10","v":12.51},{"$f":"計算結果!AE10","v":0},{"$f":"計算結果!AF10","v":""}]
[null,910,{"$f":"B5/303","v":3.0033003300330035},null,null,null,null,null,null,null,null,null,null,null,null,null,null,null,null,null,null,null,null,null,null,null,{"$f":"IF(COUNTIF(面積計算!AG5:AI5,1),\"●\",\" \")","v":" "},"↓N",null,null,{"$f":"sumColor(面積計算!$D$4:$Z$20,AD5)","v":0},null,{"$f":"AE5/3.3124","v":0},null,null,"梁間方向壁量",null,null,{"$f":"計算結果!AD11","v":26.33},{"$f":"計算結果!AE11","v":0},{"$f":"計算結果!AF11","v":""}]
[null,910,3.0033003300330035,null,null,null,null,null,null,null,null,null,null,null,null,null,null,null,null,null,null,null,null,null,null,null,{"$f":"IF(COUNTIF(面積計算!AG6:AI6,1),\"●\",\" \")","v":" "},"↓N",null,null,{"$f":"sumColor(面積計算!$D$4:$Z$20,AD6)","v":0},null,0,null,null,"存在壁量≧必要壁量"]
[null,910,3.0033003300330035,null,null,null,null,null,null,null,null,null,null,null,null,null,null,null,null,null,null,null,null,null,null,null,{"$f":"IF(COUNTIF(面積計算!AG7:AI7,1),\"●\",\" \")","v":" "},"↓N",null,null,{"$f":"sumColor(面積計算!$D$4:$Z$20,AD7)","v":0},null,0,null,null,"バランス計算",null,null,"必要壁量","存在壁量","判定"]
[null,910,3.0033003300330035,null,null,null,null,null,null,null,null,null,null,null,null,null,null,null,null,null,null,null,null,null,null,null,{"$f":"IF(COUNTIF(面積計算!AG8:AI8,1),\"●\",\" \")","v":" "},"↓N",null,null,{"$f":"sumColor(面積計算!$D$4:$Z$20,AD8)","v":0},null,0,null,null,"バランス(上)",null,null,{"$f":"計算結果!AE15","v":0},{"$f":"計算結果!AE16","v":0},{"$f":"計算結果!AF17","v":""}]
[null,910,3.0033003300330035,null,null,null,null,null,null,null,null,null,null,null,null,null,null,null,null,null,null,null,null,null,null,null,{"$f":"IF(COUNTIF(面積計算!AG9:AI9,1),\"●\",\" \")","v":" "},"↓N",null,null,{"$f":"sumColor(面積計算!$D$4:$Z$20,AD9)","v":0},null,0,null,null,"バランス(下)",null,null,{"$f":"計算結果!AE20","v":0},{"$f":"計算結果!AE21","v":0},{"$f":"計算結果!AF22","v":""}]
[null,910,3.0033003300330035,null,null,null,null,null,null,null,null,null,null,null,null,null,null,null,null,null,null,null,null,null,null,null,{"$f":"IF(COUNTIF(面積計算!AG10:AI10,1),\"●\",\" \")","v":" "},"↓N","↑",null,{"$f":"sumColor(面積計算!$D$4:$Z$20,AD10)","v":0},null,0,null,null,"バランス(左)",null,null,{"$f":"計算結果!AE25","v":0},{"$f":"計算結果!AE26","v":0},{"$f":"計算結果!AF27","v":""}]
[null,910,3.0033003300330035,null,null,null,null,null,null,null,null,null,null,null,null,null,null,null,null,null,null,null,null,null,null,null,{"$f":"IF(COUNTIF(面積計算!AG11:AI11,1),\"●\",\" \")","v":" "},"↓N","梁間方向",null,{"$f":"sumColor(面積計算!$D$4:$Z$20,AD11)","v":0},null,0,null,null,"バランス(右)",null,null,{"$f":"計算結果!AE30","v":0},{"$f":"計算結果!AE31","v":0},{"$f":"計算結果!AF32","v":""}]
[null,910,3.0033003300330035,null,null,null,null,null,null,null,null,null,null,null,null,null,null,null,null,null,null,null,null,null,null,null,{"$f":"IF(COUNTIF(面積計算!AG12:AI12,1),\"●\",\" \")","v":" "},"↓N",null,null,{"$f":"sumColor(面積計算!$D$4:$Z$20,AD12)","v":0},null,0,null,null,"存在壁量/必要壁量=充足率＞1.0　　※1"]
[null,910,3.0033003300330035,null,null,null,null,null,null,null,null,null,null,null,null,null,null,null,null,null,null,null,null,null,null,null,{"$f":"IF(COUNTIF(面積計算!AG13:AI13,1),\"●\",\" \")","v":" "},"↓N",null,null,{"$f":"sumColor(面積計算!$D$4:$Z$20,AD13)","v":0},null,0,null,null,"壁率比",null,null,"両端の値 小/大≧0.5",null,"判定"]
[null,910,3.0033003300330035,null,null,null,null,null,null,null,null,null,null,null,null,null,null,null,null,null,null,null,null,null,null,null,{"$f":"IF(COUNTIF(面積計算!AG14:AI14,1),\"●\",\" \")","v":" "},"↓N","↓",null,{"$f":"sumColor(面積計算!$D$4:$Z$20,AD14)","v":0},null,0,null,null,"上下壁率比",null,null,{"$f":"IF(AO14=\"計算不要\",\"\",計算結果!AD36)","v":""},null,{"$f":"計算結果!AF37","v":""}]
[null,910,3.0033003300330035,null,null,null,null,null,null,null,null,null,null,null,null,null,null,null,null,null,null,null,null,null,null,null,{"$f":"IF(COUNTIF(面積計算!AG15:AI15,1),\"●\",\" \")","v":" "},"↓N",null,"合",{"$f":"SUM(AE5:AE9)","v":0},null,0,null,null,"左右壁率比",null,null,{"$f":"IF(AO15=\"計算不要\",\"\",計算結果!AD40)","v":""},null,{"$f":"計算結果!AF41","v":""}]
[null,910,3.0033003300330035,null,null,null,null,null,null,null,null,null,null,null,null,null,null,null,null,null,null,null,null,null,null,null,{"$f":"IF(COUNTIF(面積計算!AG16:AI16,1),\"●\",\" \")","v":" "},"↓N",null,"計",null,null,null,null,null,"※1で両端のどちらか1.0未満の場合のみ計算"]
[null,910,3.0033003300330035,null,null,null,null,null,null,null,null,null,null,null,null,null,null,null,null,null,null,null,null,null,null,null,{"$f":"IF(COUNTIF(面積計算!AG17:AI17,1),\"●\",\" \")","v":" "},"↓N",null,null,null,null,null,null,null,null,null,null,null,null,"単位：㎡"]
[null,910,{"$f":"B18/303","v":3.0033003300330035},null,null,null,null,null,null,null,null,null,null,null,null,null,null,null,null,null,null,null,null,null,null,null,{"$f":"IF(COUNTIF(面積計算!AG18:AI18,1),\"●\",\" \")","v":" "},"↓N",null,"耐力壁","入力","耐力壁の種類",null,null,null,"記号","倍率",null,"見付面積(桁行方向)入力",null,25.02]
[null,910,{"$f":"B19/303","v":3.0033003300330035},null,null,null,null,null,null,null,null,null,null,null,null,null,null,null,null,null,null,null,null,null,null,null,{"$f":"IF(COUNTIF(面積計算!AG19:AI19,1),\"●\",\" \")","v":" "},"↓N",null,null,"あ","筋カイ45×90(右上)",null,null,null,"右上",2,null,"見付面積(梁間方向)入力",null,52.66]
[null,910,{"$f":"B20/303","v":3.0033003300330035},null,null,null,null,null,null,null,null,null,null,null,null,null,null,null,null,null,null,null,null,null,null,null,{"$f":"IF(COUNTIF(面積計算!AG20:AI20,1),\"●\",\" \")","v":" "},null,null,null,"い","筋カイ45×90(左上)",null,null,null,"左上",2]
[null,null,null,{"$f":"IF(COUNTIF(面積計算!D27:D29,1),\"●\",\" \")","v":" "},{"$f":"IF(COUNTIF(面積計算!E27:E29,1),\"●\",\" \")","v":" "},{"$f":"IF(COUNTIF(面積計算!F27:F29,1),\"●\",\" \")","v":" "},{"$f":"IF(COUNTIF(面積計算!G27:G29,1),\"●\",\" \")","v":" "},{"$f":"IF(COUNTIF(面積計算!H27:H29,1),\"●\",\" \")","v":" "},{"$f":"IF(COUNTIF(面積計算!I27:I29,1),\"●\",\" \")","v":" "},{"$f":"IF(COUNTIF(面積計算!J27:J29,1),\"●\",\" \")","v":" "},{"$f":"IF(COUNTIF(面積計算!K27:K29,1),\"●\",\" \")","v":" "},{"$f":"IF(COUNTIF(面積計算!L27:L29,1),\"●\",\" \")","v":" "},{"$f":"IF(COUNTIF(面積計算!M27:M29,1),\"●\",\" \")","v":" "},{"$f":"IF(COUNTIF(面積計算!N27:N29,1),\"●\",\" \")","v":" "},{"$f":"IF(COUNTIF(面積計算!O27:O29,1),\"●\",\" \")","v":" "},{"$f":"IF(COUNTIF(面積計算!P27:P29,1),\"●\",\" \")","v":" "},{"$f":"IF(COUNTIF(面積計算!Q27:Q29,1),\"●\",\" \")","v":" "},{"$f":"IF(COUNTIF(面積計算!R27:R29,1),\"●\",\" \")","v":" "},{"$f":"IF(COUNTIF(面積計算!S27:S29,1),\"●\",\" \")","v":" "},{"$f":"IF(COUNTIF(面積計算!T27:T29,1),\"●\",\" \")","v":" "},{"$f":"IF(COUNTIF(面積計算!U27:U29,1),\"●\",\" \")","v":" "},{"$f":"IF(COUNTIF(面積計算!V27:V29,1),\"●\",\" \")","v":" "},{"$f":"IF(COUNTIF(面積計算!W27:W29,1),\"●\",\" \")","v":" "},{"$f":"IF(COUNTIF(面積計算!X27:X29,1),\"●\",\" \")","v":" "},{"$f":"IF(COUNTIF(面積計算!Y27:Y29,1),\"●\",\" \")","v":" "},{"$f":"IF(COUNTIF(面積計算!Z27:Z29,1),\"●\",\" \")","v":" "},null,null,null,null,"う","筋カイ45×90(タスキ)",null,null,null,"タスキ",4,null,"地震力係数入力",null,33]
[null,null,null,"→\nN","→\nN","→\nN","→\nN","→\nN","→\nN","→\nN","→\nN","→\nN","→\nN","→\nN","→\nN","→\nN","→\nN","→\nN","→\nN","→\nN","→\nN","→\nN","→\nN","→\nN","→\nN",null,"１階",null,null,null,"え","耐力面材",null,null,null,"面材",2.5]
[null,null,null,null,null,null,null,null,null,null,null,null,"←","桁行方向",null,null,"→",null,null,null,null,null,null,null,null,null,null,null,null,null,"お","筋45×90(右上)+面材",null,null,null,"右面",4.5,null,"木算（もくさん）"]
[null,null,null,null,null,null,null,910,null,null,null,null,null,null,null,null,null,null,null,null,null,null,null,null,null,null,null,null,null,null,"か","筋45×90(左上)+面材",null,null,null,"左面",4.5]
[null,null,null,null,null,null,null,null,"↑数値入力(455〜1000まで）"]
[]
[null,"１階入力用",null,null,null,null,null,null,null,null,null,null,null,null,null,null,null,null,null,null,null,null,null,"※計算結果の値は小数点以下の四捨五入、切り捨て、切り上げをしておりません。小数点以下2位までで非表示となっています。\n　Excelでは非表示にした桁を四捨五入して表示されます。"]

{"sheet":"図面2階","index":1,"n_rows":27,"n_cols":41,"rows_kept":27,"cut":false,"hidden":false,"merged":[[21,26,21,27],[3,30,3,31],[3,32,3,33],[3,35,3,37],[6,35,6,37],[10,28,12,28],[10,30,10,31],[10,32,10,33],[10,35,10,37],[11,30,11,31],[11,32,11,33],[11,35,11,40],[8,30,8,31],[8,32,8,33],[8,35,8,37],[7,30,7,31],[7,32,7,33],[2,35,2,37],[14,30,15,31],[14,32,15,33],[14,35,14,37],[9,30,9,31],[9,32,9,33],[12,38,12,39],[13,30,13,31],[13,32,13,33],[13,35,13,37],[13,38,13,39],[21,31,21,34],[9,35,9,37],[4,30,4,31],[4,32,4,33],[4,35,4,37],[5,30,5,31],[7,35,7,37],[5,32,5,33],[5,35,5,40],[6,30,6,31],[6,32,6,33],[14,38,14,39],[15,35,15,40],[12,30,12,31],[12,32,12,33],[12,35,12,37],[24,8,24,14],[26,1,26,4],[26,24,26,41],[22,13,22,15],[22,31,22,34],[22,38,23,40],[23,8,23,10],[23,31,23,34],[17,29,23,29],[17,31,17,34],[17,38,17,39],[18,31,18,34],[18,38,18,39],[19,31,19,34],[20,31,20,34],[20,38,20,39]]}
[]
[null,"mm",null,{"$f":"図面!D2","v":910},{"$f":"図面!E2","v":910},{"$f":"図面!F2","v":910},{"$f":"図面!G2","v":910},{"$f":"図面!H2","v":910},{"$f":"図面!I2","v":910},{"$f":"図面!J2","v":910},{"$f":"図面!K2","v":910},{"$f":"図面!L2","v":910},{"$f":"図面!M2","v":910},{"$f":"図面!N2","v":910},{"$f":"図面!O2","v":910},{"$f":"図面!P2","v":910},{"$f":"図面!Q2","v":910},{"$f":"図面!R2","v":910},{"$f":"図面!S2","v":910},{"$f":"図面!T2","v":910},{"$f":"図面!U2","v":910},{"$f":"図面!V2","v":910},{"$f":"図面!W2","v":910},{"$f":"図面!X2","v":910},{"$f":"図面!Y2","v":910},{"$f":"図面!Z2","v":910},null,null,null,null,null,null,null,null,null,null,null,null,null,null,"壁量単位：m"]
[null,null,"尺",{"$f":"D2/303","v":3.0033003300330035},3.0033003300330035,3.0033003300330035,3.0033003300330035,3.0033003300330035,3.0033003300330035,{"$f":"J2/303","v":3.0033003300330035},3.0033003300330035,3.0033003300330035,3.0033003300330035,3.0033003300330035,3.0033003300330035,3.0033003300330035,3.0033003300330035,3.0033003300330035,3.0033003300330035,3.0033003300330035,3.0033003300330035,3.0033003300330035,{"$f":"W2/303","v":3.0033003300330035},{"$f":"X2/303","v":3.0033003300330035},{"$f":"Y2/303","v":3.0033003300330035},{"$f":"Z2/303","v":3.0033003300330035},null,null,null,null,null,null,null,null,null,"壁量計算",null,null,"必要壁量","存在壁量","判定"]
[null,{"$f":"図面!B4","v":910},{"$f":"B4/303","v":3.0033003300330035},null,null,null,null,null,null,null,null,null,null,null,null,null,null,null,null,null,null,null,null,null,null,null,{"$f":"IF(COUNTIF(面積計算2階!AG4:AI4,1),\"●\",\" \")","v":" "},"↓N",null,null,"㎡",null,"坪",null,null,"桁行方向壁量",null,null,{"$f":"計算結果2階!AD10","v":5.1749999999999998},{"$f":"計算結果2階!AE10","v":0},{"$f":"計算結果2階!AF10","v":""}]
[null,{"$f":"図面!B5","v":910},{"$f":"B5/303","v":3.0033003300330035},null,null,null,null,null,null,null,null,null,null,null,null,null,null,null,null,null,null,null,null,null,null,null,{"$f":"IF(COUNTIF(面積計算2階!AG5:AI5,1),\"●\",\" \")","v":" "},"↓N",null,null,{"$f":"sumColor(面積計算2階!$D$4:$Z$20,AD5)","v":0},null,{"$f":"AE5/3.3124","v":0},null,null,"梁間方向壁量",null,null,{"$f":"計算結果2階!AD11","v":13.125},{"$f":"計算結果2階!AE11","v":0},{"$f":"計算結果2階!AF11","v":""}]
[null,{"$f":"図面!B6","v":910},3.0033003300330035,null,null,null,null,null,null,null,null,null,null,null,null,null,null,null,null,null,null,null,null,null,null,null,{"$f":"IF(COUNTIF(面積計算2階!AG6:AI6,1),\"●\",\" \")","v":" "},"↓N",null,null,{"$f":"sumColor(面積計算2階!$D$4:$Z$20,AD6)","v":0},null,0,null,null,"存在壁量≧必要壁量"]
[null,{"$f":"図面!B7","v":910},3.0033003300330035,null,null,null,null,null,null,null,null,null,null,null,null,null,null,null,null,null,null,null,null,null,null,null,{"$f":"IF(COUNTIF(面積計算2階!AG7:AI7,1),\"●\",\" \")","v":" "},"↓N",null,null,{"$f":"sumColor(面積計算2階!$D$4:$Z$20,AD7)","v":0},null,0,null,null,"バランス計算",null,null,"必要壁量","存在壁量","判定"]
[null,{"$f":"図面!B8","v":910},3.0033003300330035,null,null,null,null,null,null,null,null,null,null,null,null,null,null,null,null,null,null,null,null,null,null,null,{"$f":"IF(COUNTIF(面積計算2階!AG8:AI8,1),\"●\",\" \")","v":" "},"↓N",null,null,{"$f":"sumColor(面積計算2階!$D$4:$Z$20,AD8)","v":0},null,0,null,null,"バランス(上)",null,null,{"$f":"計算結果2階!AE15","v":0},{"$f":"計算結果2階!AE16","v":0},{"$f":"計算結果2階!AF17","v":""}]
[null,{"$f":"図面!B9","v":910},3.0033003300330035,null,null,null,null,null,null,null,null,null,null,null,null,null,null,null,null,null,null,null,null,null,null,null,{"$f":"IF(COUNTIF(面積計算2階!AG9:AI9,1),\"●\",\" \")","v":" "},"↓N",null,null,{"$f":"sumColor(面積計算2階!$D$4:$Z$20,AD9)","v":0},null,0,null,null,"バランス(下)",null,null,{"$f":"計算結果2階!AE20","v":0},{"$f":"計算結果2階!AE21","v":0},{"$f":"計算結果2階!AF22","v":""}]
[null,{"$f":"図面!B10","v":910},3.0033003300330035,null,null,null,null,null,null,null,null,null,null,null,null,null,null,null,null,null,null,null,null,null,null,null,{"$f":"IF(COUNTIF(面積計算2階!AG10:AI10,1),\"●\",\" \")","v":" "},"↓N","↑",null,{"$f":"sumColor(面積計算2階!$D$4:$Z$20,AD10)","v":0},null,0,null,null,"バランス(左)",null,null,{"$f":"計算結果2階!AE25","v":0},{"$f":"計算結果2階!AE26","v":0},{"$f":"計算結果2階!AF27","v":""}]
[null,{"$f":"図面!B11","v":910},3.0033003300330035,null,null,null,null,null,null,null,null,null,null,null,null,null,null,null,null,null,null,null,null,null,null,null,{"$f":"IF(COUNTIF(面積計算2階!AG11:AI11,1),\"●\",\" \")","v":" "},"↓N","梁間方向",null,{"$f":"sumColor(面積計算2階!$D$4:$Z$20,AD11)","v":0},null,0,null,null,"バランス(右)",null,null,{"$f":"計算結果2階!AE30","v":0},{"$f":"計算結果2階!AE31","v":0},{"$f":"計算結果2階!AF32","v":""}]
[null,{"$f":"図面!B12","v":910},3.0033003300330035,null,null,null,null,null,null,null,null,null,null,null,null,null,null,null,null,null,null,null,null,null,null,null,{"$f":"IF(COUNTIF(面積計算2階!AG12:AI12,1),\"●\",\" \")","v":" "},"↓N",null,null,{"$f":"sumColor(面積計算2階!$D$4:$Z$20,AD12)","v":0},null,0,null,null,"存在壁量/必要壁量=充足率＞1.0　　※1"]
[null,{"$f":"図面!B13","v":910},3.0033003300330035,null,null,null,null,null,null,null,null,null,null,null,null,null,null,null,null,null,null,null,null,null,null,null,{"$f":"IF(COUNTIF(面積計算2階!AG13:AI13,1),\"●\",\" \")","v":" "},"↓N",null,null,{"$f":"sumColor(面積計算2階!$D$4:$Z$20,AD13)","v":0},null,0,null,null,"壁率比",null,null,"両端の値 小/大≧0.5",null,"判定"]
[null,{"$f":"図面!B14","v":910},3.0033003300330035,null,null,null,null,null,null,null,null,null,null,null,null,null,null,null,null,null,null,null,null,null,null,null,{"$f":"IF(COUNTIF(面積計算2階!AG14:AI14,1),\"●\",\" \")","v":" "},"↓N","↓",null,{"$f":"sumColor(面積計算2階!$D$4:$Z$20,AD14)","v":0},null,0,null,null,"上下壁率比",null,null,{"$f":"IF(AO14=\"計算不要\",\"\",計算結果!AD36)","v":""},null,{"$f":"計算結果2階!AF37","v":""}]
[null,{"$f":"図面!B15","v":910},3.0033003300330035,null,null,null,null,null,null,null,null,null,null,null,null,null,null,null,null,null,null,null,null,null,null,null,{"$f":"IF(COUNTIF(面積計算2階!AG15:AI15,1),\"●\",\" \")","v":" "},"↓N",null,"合",{"$f":"SUM(AE5:AE9)","v":0},null,0,null,null,"左右壁率比",null,null,{"$f":"IF(AO15=\"計算不要\",\"\",計算結果!AD40)","v":""},null,{"$f":"計算結果2階!AF41","v":""}]
[null,{"$f":"図面!B16","v":910},3.0033003300330035,null,null,null,null,null,null,null,null,null,null,null,null,null,null,null,null,null,null,null,null,null,null,null,{"$f":"IF(COUNTIF(面積計算2階!AG16:AI16,1),\"●\",\" \")","v":" "},"↓N",null,"計",null,null,null,null,null,"※1で両端のどちらか1.0未満の場合のみ計算"]
[null,{"$f":"図面!B17","v":910},3.0033003300330035,null,null,null,null,null,null,null,null,null,null,null,null,null,null,null,null,null,null,null,null,null,null,null,{"$f":"IF(COUNTIF(面積計算2階!AG17:AI17,1),\"●\",\" \")","v":" "},"↓N",null,null,null,null,null,null,null,null,null,null,null,null,"単位：㎡"]
[null,{"$f":"図面!B18","v":910},{"$f":"B18/303","v":3.0033003300330035},null,null,null,null,null,null,null,null,null,null,null,null,null,null,null,null,null,null,null,null,null,null,null,{"$f":"IF(COUNTIF(面積計算2階!AG18:AI18,1),\"●\",\" \")","v":" "},"↓N",null,"耐力壁","入力","耐力壁の種類",null,null,null,"記号","倍率",null,"見付面積(桁行方向)入力",null,10.35]
[null,{"$f":"図面!B19","v":910},{"$f":"B19/303","v":3.0033003300330035},null,null,null,null,null,null,null,null,null,null,null,null,null,null,null,null,null,null,null,null,null,null,null,{"$f":"IF(COUNTIF(面積計算2階!AG19:AI19,1),\"●\",\" \")","v":" "},"↓N",null,null,"あ","筋カイ45×90(右上)",null,null,null,"右上",2,null,"見付面積(梁間方向)入力",null,26.25]
[null,{"$f":"図面!B20","v":910},{"$f":"B20/303","v":3.0033003300330035},null,null,null,null,null,null,null,null,null,null,null,null,null,null,null,null,null,null,null,null,null,null,null,{"$f":"IF(COUNTIF(面積計算!AG20:AI20,1),\"●\",\" \")","v":" "},null,null,null,"い","筋カイ45×90(左上)",null,null,null,"左上",2]
[null,null,null,{"$f":"IF(COUNTIF(面積計算2階!D27:D29,1),\"●\",\" \")","v":" "},{"$f":"IF(COUNTIF(面積計算2階!E27:E29,1),\"●\",\" \")","v":" "},{"$f":"IF(COUNTIF(面積計算2階!F27:F29,1),\"●\",\" \")","v":" "},{"$f":"IF(COUNTIF(面積計算2階!G27:G29,1),\"●\",\" \")","v":" "},{"$f":"IF(COUNTIF(面積計算2階!H27:H29,1),\"●\",\" \")","v":" "},{"$f":"IF(COUNTIF(面積計算2階!I27:I29,1),\"●\",\" \")","v":" "},{"$f":"IF(COUNTIF(面積計算2階!J27:J29,1),\"●\",\" \")","v":" "},{"$f":"IF(COUNTIF(面積計算2階!K27:K29,1),\"●\",\" \")","v":" "},{"$f":"IF(COUNTIF(面積計算2階!L27:L29,1),\"●\",\" \")","v":" "},{"$f":"IF(COUNTIF(面積計算2階!M27:M29,1),\"●\",\" \")","v":" "},{"$f":"IF(COUNTIF(面積計算2階!N27:N29,1),\"●\",\" \")","v":" "},{"$f":"IF(COUNTIF(面積計算2階!O27:O29,1),\"●\",\" \")","v":" "},{"$f":"IF(COUNTIF(面積計算2階!P27:P29,1),\"●\",\" \")","v":" "},{"$f":"IF(COUNTIF(面積計算2階!Q27:Q29,1),\"●\",\" \")","v":" "},{"$f":"IF(COUNTIF(面積計算2階!R27:R29,1),\"●\",\" \")","v":" "},{"$f":"IF(COUNTIF(面積計算2階!S27:S29,1),\"●\",\" \")","v":" "},{"$f":"IF(COUNTIF(面積計算2階!T27:T29,1),\"●\",\" \")","v":" "},{"$f":"IF(COUNTIF(面積計算2階!U27:U29,1),\"●\",\" \")","v":" "},{"$f":"IF(COUNTIF(面積計算2階!V27:V29,1),\"●\",\" \")","v":" "},{"$f":"IF(COUNTIF(面積計算2階!W27:W29,1),\"●\",\" \")","v":" "},{"$f":"IF(COUNTIF(面積計算2階!X27:X29,1),\"●\",\" \")","v":" "},{"$f":"IF(COUNTIF(面積計算2階!Y27:Y29,1),\"●\",\" \")","v":" "},{"$f":"IF(COUNTIF(面積計算2階!Z27:Z29,1),\"●\",\" \")","v":" "},null,null,null,null,"う","筋カイ45×90(タスキ)",null,null,null,"タスキ",4,null,"地震力係数入力",null,21]
[null,null,null,"→\nN","→\nN","→\nN","→\nN","→\nN","→\nN","→\nN","→\nN","→\nN","→\nN","→\nN","→\nN","→\nN","→\nN","→\nN","→\nN","→\nN","→\nN","→\nN","→\nN","→\nN","→\nN",null,"２階",null,null,null,"え","耐力面材",null,null,null,"面材",2.5]
[null,null,null,null,null,null,null,null,null,null,null,null,"←","桁行方向",null,null,"→",null,null,null,null,null,null,null,null,null,null,null,null,null,"お","筋45×90(右上)+面材",null,null,null,"右面",4.5,null,"木算（もくさん）"]
[null,null,null,null,null,null,null,null,null,null,null,null,null,null,null,null,null,null,null,null,null,null,null,null,null,null,null,null,null,null,"か","筋45×90(左上)+面材",null,null,null,"左面",4.5]
[]
[]
[null,"２階入力用",null,null,null,null,null,null,null,null,null,null,null,null,null,null,null,null,null,null,null,null,null,null,"※計算結果の値は小数点以下の四捨五入、切り捨て、切り上げをしておりません。小数点以下2位までで非表示となっています。\n　Excelでは非表示にした桁を四捨五入して表示されます。"]

{"sheet":"計算結果","index":2,"n_rows":41,"n_cols":33,"rows_kept":41,"cut":false,"hidden":false,"merged":[[29,32,29,33],[29,34,29,35],[14,32,14,33],[14,34,14,35],[19,32,19,33],[19,34,19,35],[24,32,24,33],[24,34,24,35]]}
[]
[]
[null,null,null,{"$f":"図面!D2","v":910},{"$f":"図面!E2","v":910},{"$f":"図面!F2","v":910},{"$f":"図面!G2","v":910},{"$f":"図面!H2","v":910},{"$f":"図面!I2","v":910},{"$f":"図面!J2","v":910},{"$f":"図面!K2","v":910},{"$f":"図面!L2","v":910},{"$f":"図面!M2","v":910},{"$f":"図面!N2","v":910},{"$f":"図面!O2","v":910},{"$f":"図面!P2","v":910},{"$f":"図面!Q2","v":910},{"$f":"図面!R2","v":910},{"$f":"図面!S2","v":910},{"$f":"図面!T2","v":910},{"$f":"図面!U2","v":910},{"$f":"図面!V2","v":910},{"$f":"図面!W2","v":910},{"$f":"図面!X2","v":910},{"$f":"図面!Y2","v":910},{"$f":"図面!Z2","v":910},null,null,null,null,null,"壁量単位:m"]
[null,null,{"$f":"図面!B4","v":910},{"$f":"IF(図面!D4=\"\",\"\",図面!D4)","v":""},{"$f":"IF(図面!E4=\"\",\"\",図面!E4)","v":""},{"$f":"IF(図面!F4=\"\",\"\",図面!F4)","v":""},{"$f":"IF(図面!G4=\"\",\"\",図面!G4)","v":""},{"$f":"IF(図面!H4=\"\",\"\",図面!H4)","v":""},{"$f":"IF(図面!I4=\"\",\"\",図面!I4)","v":""},{"$f":"IF(図面!J4=\"\",\"\",図面!J4)","v":""},{"$f":"IF(図面!K4=\"\",\"\",図面!K4)","v":""},{"$f":"IF(図面!L4=\"\",\"\",図面!L4)","v":""},{"$f":"IF(図面!M4=\"\",\"\",図面!M4)","v":""},{"$f":"IF(図面!N4=\"\",\"\",図面!N4)","v":""},{"$f":"IF(図面!O4=\"\",\"\",図面!O4)","v":""},{"$f":"IF(図面!P4=\"\",\"\",図面!P4)","v":""},{"$f":"IF(図面!Q4=\"\",\"\",図面!Q4)","v":""},{"$f":"IF(図面!R4=\"\",\"\",図面!R4)","v":""},{"$f":"IF(図面!S4=\"\",\"\",図面!S4)","v":""},{"$f":"IF(図面!T4=\"\",\"\",図面!T4)","v":""},{"$f":"IF(図面!U4=\"\",\"\",図面!U4)","v":""},{"$f":"IF(図面!V4=\"\",\"\",図面!V4)","v":""},{"$f":"IF(図面!W4=\"\",\"\",図面!W4)","v":""},{"$f":"IF(図面!X4=\"\",\"\",図面!X4)","v":""},{"$f":"IF(図面!Y4=\"\",\"\",図面!Y4)","v":""},{"$f":"IF(図面!Z4=\"\",\"\",図面!Z4)","v":""},null,null,null,"係数","必要壁量","判定"]
[null,null,{"$f":"図面!B5","v":910},{"$f":"IF(図面!D5=\"\",\"\",図面!D5)","v":""},{"$f":"IF(図面!E5=\"\",\"\",図面!E5)","v":""},{"$f":"IF(図面!F5=\"\",\"\",図面!F5)","v":""},{"$f":"IF(図面!G5=\"\",\"\",図面!G5)","v":""},{"$f":"IF(図面!H5=\"\",\"\",図面!H5)","v":""},{"$f":"IF(図面!I5=\"\",\"\",図面!I5)","v":""},{"$f":"IF(図面!J5=\"\",\"\",図面!J5)","v":""},{"$f":"IF(図面!K5=\"\",\"\",図面!K5)","v":""},{"$f":"IF(図面!L5=\"\",\"\",図面!L5)","v":""},{"$f":"IF(図面!M5=\"\",\"\",図面!M5)","v":""},{"$f":"IF(図面!N5=\"\",\"\",図面!N5)","v":""},{"$f":"IF(図面!O5=\"\",\"\",図面!O5)","v":""},{"$f":"IF(図面!P5=\"\",\"\",図面!P5)","v":""},{"$f":"IF(図面!Q5=\"\",\"\",図面!Q5)","v":""},{"$f":"IF(図面!R5=\"\",\"\",図面!R5)","v":""},{"$f":"IF(図面!S5=\"\",\"\",図面!S5)","v":""},{"$f":"IF(図面!T5=\"\",\"\",図面!T5)","v":""},{"$f":"IF(図面!U5=\"\",\"\",図面!U5)","v":""},{"$f":"IF(図面!V5=\"\",\"\",図面!V5)","v":""},{"$f":"IF(図面!W5=\"\",\"\",図面!W5)","v":""},{"$f":"IF(図面!X5=\"\",\"\",図面!X5)","v":""},{"$f":"IF(図面!Y5=\"\",\"\",図面!Y5)","v":""},{"$f":"IF(図面!Z5=\"\",\"\",図面!Z5)","v":""},null,"延床面積",{"$f":"図面!AE15","v":0},{"$f":"図面!AO21","v":33},{"$f":"(AC5*AD5)/100","v":0}]
[null,null,{"$f":"図面!B6","v":910},{"$f":"IF(図面!D6=\"\",\"\",図面!D6)","v":""},{"$f":"IF(図面!E6=\"\",\"\",図面!E6)","v":""},{"$f":"IF(図面!F6=\"\",\"\",図面!F6)","v":""},{"$f":"IF(図面!G6=\"\",\"\",図面!G6)","v":""},{"$f":"IF(図面!H6=\"\",\"\",図面!H6)","v":""},{"$f":"IF(図面!I6=\"\",\"\",図面!I6)","v":""},{"$f":"IF(図面!J6=\"\",\"\",図面!J6)","v":""},{"$f":"IF(図面!K6=\"\",\"\",図面!K6)","v":""},{"$f":"IF(図面!L6=\"\",\"\",図面!L6)","v":""},{"$f":"IF(図面!M6=\"\",\"\",図面!M6)","v":""},{"$f":"IF(図面!N6=\"\",\"\",図面!N6)","v":""},{"$f":"IF(図面!O6=\"\",\"\",図面!O6)","v":""},{"$f":"IF(図面!P6=\"\",\"\",図面!P6)","v":""},{"$f":"IF(図面!Q6=\"\",\"\",図面!Q6)","v":""},{"$f":"IF(図面!R6=\"\",\"\",図面!R6)","v":""},{"$f":"IF(図面!S6=\"\",\"\",図面!S6)","v":""},{"$f":"IF(図面!T6=\"\",\"\",図面!T6)","v":""},{"$f":"IF(図面!U6=\"\",\"\",図面!U6)","v":""},{"$f":"IF(図面!V6=\"\",\"\",図面!V6)","v":""},{"$f":"IF(図面!W6=\"\",\"\",図面!W6)","v":""},{"$f":"IF(図面!X6=\"\",\"\",図面!X6)","v":""},{"$f":"IF(図面!Y6=\"\",\"\",図面!Y6)","v":""},{"$f":"IF(図面!Z6=\"\",\"\",図面!Z6)","v":""},null,"見付面積(桁行計算用）",{"$f":"図面!AO18","v":25.02},50,{"$f":"(AC6*AD6)/100","v":12.51},{"$f":"IF(AE5>AE6,\"床\",\"見付\")","v":"見付"},"床面積と見付面積での計算値の大きい方"]
[null,null,{"$f":"図面!B7","v":910},{"$f":"IF(図面!D7=\"\",\"\",図面!D7)","v":""},{"$f":"IF(図面!E7=\"\",\"\",図面!E7)","v":""},{"$f":"IF(図面!F7=\"\",\"\",図面!F7)","v":""},{"$f":"IF(図面!G7=\"\",\"\",図面!G7)","v":""},{"$f":"IF(図面!H7=\"\",\"\",図面!H7)","v":""},{"$f":"IF(図面!I7=\"\",\"\",図面!I7)","v":""},{"$f":"IF(図面!J7=\"\",\"\",図面!J7)","v":""},{"$f":"IF(図面!K7=\"\",\"\",図面!K7)","v":""},{"$f":"IF(図面!L7=\"\",\"\",図面!L7)","v":""},{"$f":"IF(図面!M7=\"\",\"\",図面!M7)","v":""},{"$f":"IF(図面!N7=\"\",\"\",図面!N7)","v":""},{"$f":"IF(図面!O7=\"\",\"\",図面!O7)","v":""},{"$f":"IF(図面!P7=\"\",\"\",図面!P7)","v":""},{"$f":"IF(図面!Q7=\"\",\"\",図面!Q7)","v":""},{"$f":"IF(図面!R7=\"\",\"\",図面!R7)","v":""},{"$f":"IF(図面!S7=\"\",\"\",図面!S7)","v":""},{"$f":"IF(図面!T7=\"\",\"\",図面!T7)","v":""},{"$f":"IF(図面!U7=\"\",\"\",図面!U7)","v":""},{"$f":"IF(図面!V7=\"\",\"\",図面!V7)","v":""},{"$f":"IF(図面!W7=\"\",\"\",図面!W7)","v":""},{"$f":"IF(図面!X7=\"\",\"\",図面!X7)","v":""},{"$f":"IF(図面!Y7=\"\",\"\",図面!Y7)","v":""},{"$f":"IF(図面!Z7=\"\",\"\",図面!Z7)","v":""},null,"見付面積(梁間計算用）",{"$f":"図面!AO19","v":52.66},50,{"$f":"(AC7*AD7)/100","v":26.33},{"$f":"IF(AE5>AE7,\"床\",\"見付\")","v":"見付"},"床面積と見付面積での計算値の大きい方"]
[null,null,{"$f":"図面!B8","v":910},{"$f":"IF(図面!D8=\"\",\"\",図面!D8)","v":""},{"$f":"IF(図面!E8=\"\",\"\",図面!E8)","v":""},{"$f":"IF(図面!F8=\"\",\"\",図面!F8)","v":""},{"$f":"IF(図面!G8=\"\",\"\",図面!G8)","v":""},{"$f":"IF(図面!H8=\"\",\"\",図面!H8)","v":""},{"$f":"IF(図面!I8=\"\",\"\",図面!I8)","v":""},{"$f":"IF(図面!J8=\"\",\"\",図面!J8)","v":""},{"$f":"IF(図面!K8=\"\",\"\",図面!K8)","v":""},{"$f":"IF(図面!L8=\"\",\"\",図面!L8)","v":""},{"$f":"IF(図面!M8=\"\",\"\",図面!M8)","v":""},{"$f":"IF(図面!N8=\"\",\"\",図面!N8)","v":""},{"$f":"IF(図面!O8=\"\",\"\",図面!O8)","v":""},{"$f":"IF(図面!P8=\"\",\"\",図面!P8)","v":""},{"$f":"IF(図面!Q8=\"\",\"\",図面!Q8)","v":""},{"$f":"IF(図面!R8=\"\",\"\",図面!R8)","v":""},{"$f":"IF(図面!S8=\"\",\"\",図面!S8)","v":""},{"$f":"IF(図面!T8=\"\",\"\",図面!T8)","v":""},{"$f":"IF(図面!U8=\"\",\"\",図面!U8)","v":""},{"$f":"IF(図面!V8=\"\",\"\",図面!V8)","v":""},{"$f":"IF(図面!W8=\"\",\"\",図面!W8)","v":""},{"$f":"IF(図面!X8=\"\",\"\",図面!X8)","v":""},{"$f":"IF(図面!Y8=\"\",\"\",図面!Y8)","v":""},{"$f":"IF(図面!Z8=\"\",\"\",図面!Z8)","v":""}]
[null,null,{"$f":"図面!B9","v":910},{"$f":"IF(図面!D9=\"\",\"\",図面!D9)","v":""},{"$f":"IF(図面!E9=\"\",\"\",図面!E9)","v":""},{"$f":"IF(図面!F9=\"\",\"\",図面!F9)","v":""},{"$f":"IF(図面!G9=\"\",\"\",図面!G9)","v":""},{"$f":"IF(図面!H9=\"\",\"\",図面!H9)","v":""},{"$f":"IF(図面!I9=\"\",\"\",図面!I9)","v":""},{"$f":"IF(図面!J9=\"\",\"\",図面!J9)","v":""},{"$f":"IF(図面!K9=\"\",\"\",図面!K9)","v":""},{"$f":"IF(図面!L9=\"\",\"\",図面!L9)","v":""},{"$f":"IF(図面!M9=\"\",\"\",図面!M9)","v":""},{"$f":"IF(図面!N9=\"\",\"\",図面!N9)","v":""},{"$f":"IF(図面!O9=\"\",\"\",図面!O9)","v":""},{"$f":"IF(図面!P9=\"\",\"\",図面!P9)","v":""},{"$f":"IF(図面!Q9=\"\",\"\",図面!Q9)","v":""},{"$f":"IF(図面!R9=\"\",\"\",図面!R9)","v":""},{"$f":"IF(図面!S9=\"\",\"\",図面!S9)","v":""},{"$f":"IF(図面!T9=\"\",\"\",図面!T9)","v":""},{"$f":"IF(図面!U9=\"\",\"\",図面!U9)","v":""},{"$f":"IF(図面!V9=\"\",\"\",図面!V9)","v":""},{"$f":"IF(図面!W9=\"\",\"\",図面!W9)","v":""},{"$f":"IF(図面!X9=\"\",\"\",図面!X9)","v":""},{"$f":"IF(図面!Y9=\"\",\"\",図面!Y9)","v":""},{"$f":"IF(図面!Z9=\"\",\"\",図面!Z9)","v":""},null,null,"計算値大","必要壁量","存在壁量","判定"]
[null,null,{"$f":"図面!B10","v":910},{"$f":"IF(図面!D10=\"\",\"\",図面!D10)","v":""},{"$f":"IF(図面!E10=\"\",\"\",図面!E10)","v":""},{"$f":"IF(図面!F10=\"\",\"\",図面!F10)","v":""},{"$f":"IF(図面!G10=\"\",\"\",図面!G10)","v":""},{"$f":"IF(図面!H10=\"\",\"\",図面!H10)","v":""},{"$f":"IF(図面!I10=\"\",\"\",図面!I10)","v":""},{"$f":"IF(図面!J10=\"\",\"\",図面!J10)","v":""},{"$f":"IF(図面!K10=\"\",\"\",図面!K10)","v":""},{"$f":"IF(図面!L10=\"\",\"\",図面!L10)","v":""},{"$f":"IF(図面!M10=\"\",\"\",図面!M10)","v":""},{"$f":"IF(図面!N10=\"\",\"\",図面!N10)","v":""},{"$f":"IF(図面!O10=\"\",\"\",図面!O10)","v":""},{"$f":"IF(図面!P10=\"\",\"\",図面!P10)","v":""},{"$f":"IF(図面!Q10=\"\",\"\",図面!Q10)","v":""},{"$f":"IF(図面!R10=\"\",\"\",図面!R10)","v":""},{"$f":"IF(図面!S10=\"\",\"\",図面!S10)","v":""},{"$f":"IF(図面!T10=\"\",\"\",図面!T10)","v":""},{"$f":"IF(図面!U10=\"\",\"\",図面!U10)","v":""},{"$f":"IF(図面!V10=\"\",\"\",図面!V10)","v":""},{"$f":"IF(図面!W10=\"\",\"\",図面!W10)","v":""},{"$f":"IF(図面!X10=\"\",\"\",図面!X10)","v":""},{"$f":"IF(図面!Y10=\"\",\"\",図面!Y10)","v":""},{"$f":"IF(図面!Z10=\"\",\"\",図面!Z10)","v":""},null,"桁行方向壁量",{"$f":"AF6","v":"見付"},{"$f":"MAX(AE5,AE6)","v":12.51},{"$f":"壁量計算!AO21","v":0},{"$f":"IF(AE10=0,\"\",IF(AE10>=MAX(AE5,AE6),(\"OK\"),(\"NG\")))","v":""},"必要壁量≦存在壁量"]
[null,null,{"$f":"図面!B11","v":910},{"$f":"IF(図面!D11=\"\",\"\",図面!D11)","v":""},{"$f":"IF(図面!E11=\"\",\"\",図面!E11)","v":""},{"$f":"IF(図面!F11=\"\",\"\",図面!F11)","v":""},{"$f":"IF(図面!G11=\"\",\"\",図面!G11)","v":""},{"$f":"IF(図面!H11=\"\",\"\",図面!H11)","v":""},{"$f":"IF(図面!I11=\"\",\"\",図面!I11)","v":""},{"$f":"IF(図面!J11=\"\",\"\",図面!J11)","v":""},{"$f":"IF(図面!K11=\"\",\"\",図面!K11)","v":""},{"$f":"IF(図面!L11=\"\",\"\",図面!L11)","v":""},{"$f":"IF(図面!M11=\"\",\"\",図面!M11)","v":""},{"$f":"IF(図面!N11=\"\",\"\",図面!N11)","v":""},{"$f":"IF(図面!O11=\"\",\"\",図面!O11)","v":""},{"$f":"IF(図面!P11=\"\",\"\",図面!P11)","v":""},{"$f":"IF(図面!Q11=\"\",\"\",図面!Q11)","v":""},{"$f":"IF(図面!R11=\"\",\"\",図面!R11)","v":""},{"$f":"IF(図面!S11=\"\",\"\",図面!S11)","v":""},{"$f":"IF(図面!T11=\"\",\"\",図面!T11)","v":""},{"$f":"IF(図面!U11=\"\",\"\",図面!U11)","v":""},{"$f":"IF(図面!V11=\"\",\"\",図面!V11)","v":""},{"$f":"IF(図面!W11=\"\",\"\",図面!W11)","v":""},{"$f":"IF(図面!X11=\"\",\"\",図面!X11)","v":""},{"$f":"IF(図面!Y11=\"\",\"\",図面!Y11)","v":""},{"$f":"IF(図面!Z11=\"\",\"\",図面!Z11)","v":""},null,"梁間方向壁量",{"$f":"AF7","v":"見付"},{"$f":"MAX(AE5,AE7)","v":26.33},{"$f":"壁量計算!AA35","v":0},{"$f":"IF(AE11=0,\"\",IF(AE11>=MAX(AE5,AE7),(\"OK\"),(\"NG\")))","v":""},"必要壁量≦存在壁量"]
[null,null,{"$f":"図面!B12","v":910},{"$f":"IF(図面!D12=\"\",\"\",図面!D12)","v":""},{"$f":"IF(図面!E12=\"\",\"\",図面!E12)","v":""},{"$f":"IF(図面!F12=\"\",\"\",図面!F12)","v":""},{"$f":"IF(図面!G12=\"\",\"\",図面!G12)","v":""},{"$f":"IF(図面!H12=\"\",\"\",図面!H12)","v":""},{"$f":"IF(図面!I12=\"\",\"\",図面!I12)","v":""},{"$f":"IF(図面!J12=\"\",\"\",図面!J12)","v":""},{"$f":"IF(図面!K12=\"\",\"\",図面!K12)","v":""},{"$f":"IF(図面!L12=\"\",\"\",図面!L12)","v":""},{"$f":"IF(図面!M12=\"\",\"\",図面!M12)","v":""},{"$f":"IF(図面!N12=\"\",\"\",図面!N12)","v":""},{"$f":"IF(図面!O12=\"\",\"\",図面!O12)","v":""},{"$f":"IF(図面!P12=\"\",\"\",図面!P12)","v":""},{"$f":"IF(図面!Q12=\"\",\"\",図面!Q12)","v":""},{"$f":"IF(図面!R12=\"\",\"\",図面!R12)","v":""},{"$f":"IF(図面!S12=\"\",\"\",図面!S12)","v":""},{"$f":"IF(図面!T12=\"\",\"\",図面!T12)","v":""},{"$f":"IF(図面!U12=\"\",\"\",図面!U12)","v":""},{"$f":"IF(図面!V12=\"\",\"\",図面!V12)","v":""},{"$f":"IF(図面!W12=\"\",\"\",図面!W12)","v":""},{"$f":"IF(図面!X12=\"\",\"\",図面!X12)","v":""},{"$f":"IF(図面!Y12=\"\",\"\",図面!Y12)","v":""},{"$f":"IF(図面!Z12=\"\",\"\",図面!Z12)","v":""}]
[null,null,{"$f":"図面!B13","v":910},{"$f":"IF(図面!D13=\"\",\"\",図面!D13)","v":""},{"$f":"IF(図面!E13=\"\",\"\",図面!E13)","v":""},{"$f":"IF(図面!F13=\"\",\"\",図面!F13)","v":""},{"$f":"IF(図面!G13=\"\",\"\",図面!G13)","v":""},{"$f":"IF(図面!H13=\"\",\"\",図面!H13)","v":""},{"$f":"IF(図面!I13=\"\",\"\",図面!I13)","v":""},{"$f":"IF(図面!J13=\"\",\"\",図面!J13)","v":""},{"$f":"IF(図面!K13=\"\",\"\",図面!K13)","v":""},{"$f":"IF(図面!L13=\"\",\"\",図面!L13)","v":""},{"$f":"IF(図面!M13=\"\",\"\",図面!M13)","v":""},{"$f":"IF(図面!N13=\"\",\"\",図面!N13)","v":""},{"$f":"IF(図面!O13=\"\",\"\",図面!O13)","v":""},{"$f":"IF(図面!P13=\"\",\"\",図面!P13)","v":""},{"$f":"IF(図面!Q13=\"\",\"\",図面!Q13)","v":""},{"$f":"IF(図面!R13=\"\",\"\",図面!R13)","v":""},{"$f":"IF(図面!S13=\"\",\"\",図面!S13)","v":""},{"$f":"IF(図面!T13=\"\",\"\",図面!T13)","v":""},{"$f":"IF(図面!U13=\"\",\"\",図面!U13)","v":""},{"$f":"IF(図面!V13=\"\",\"\",図面!V13)","v":""},{"$f":"IF(図面!W13=\"\",\"\",図面!W13)","v":""},{"$f":"IF(図面!X13=\"\",\"\",図面!X13)","v":""},{"$f":"IF(図面!Y13=\"\",\"\",図面!Y13)","v":""},{"$f":"IF(図面!Z13=\"\",\"\",図面!Z13)","v":""},null,"バランス計算",null,null,null,"壁量単位:cm"]
[null,null,{"$f":"図面!B14","v":910},{"$f":"IF(図面!D14=\"\",\"\",図面!D14)","v":""},{"$f":"IF(図面!E14=\"\",\"\",図面!E14)","v":""},{"$f":"IF(図面!F14=\"\",\"\",図面!F14)","v":""},{"$f":"IF(図面!G14=\"\",\"\",図面!G14)","v":""},{"$f":"IF(図面!H14=\"\",\"\",図面!H14)","v":""},{"$f":"IF(図面!I14=\"\",\"\",図面!I14)","v":""},{"$f":"IF(図面!J14=\"\",\"\",図面!J14)","v":""},{"$f":"IF(図面!K14=\"\",\"\",図面!K14)","v":""},{"$f":"IF(図面!L14=\"\",\"\",図面!L14)","v":""},{"$f":"IF(図面!M14=\"\",\"\",図面!M14)","v":""},{"$f":"IF(図面!N14=\"\",\"\",図面!N14)","v":""},{"$f":"IF(図面!O14=\"\",\"\",図面!O14)","v":""},{"$f":"IF(図面!P14=\"\",\"\",図面!P14)","v":""},{"$f":"IF(図面!Q14=\"\",\"\",図面!Q14)","v":""},{"$f":"IF(図面!R14=\"\",\"\",図面!R14)","v":""},{"$f":"IF(図面!S14=\"\",\"\",図面!S14)","v":""},{"$f":"IF(図面!T14=\"\",\"\",図面!T14)","v":""},{"$f":"IF(図面!U14=\"\",\"\",図面!U14)","v":""},{"$f":"IF(図面!V14=\"\",\"\",図面!V14)","v":""},{"$f":"IF(図面!W14=\"\",\"\",図面!W14)","v":""},{"$f":"IF(図面!X14=\"\",\"\",図面!X14)","v":""},{"$f":"IF(図面!Y14=\"\",\"\",図面!Y14)","v":""},{"$f":"IF(図面!Z14=\"\",\"\",図面!Z14)","v":""},null,"(上)","分割面積","係数","壁量","判定"]
[null,null,{"$f":"図面!B15","v":910},{"$f":"IF(図面!D15=\"\",\"\",図面!D15)","v":""},{"$f":"IF(図面!E15=\"\",\"\",図面!E15)","v":""},{"$f":"IF(図面!F15=\"\",\"\",図面!F15)","v":""},{"$f":"IF(図面!G15=\"\",\"\",図面!G15)","v":""},{"$f":"IF(図面!H15=\"\",\"\",図面!H15)","v":""},{"$f":"IF(図面!I15=\"\",\"\",図面!I15)","v":""},{"$f":"IF(図面!J15=\"\",\"\",図面!J15)","v":""},{"$f":"IF(図面!K15=\"\",\"\",図面!K15)","v":""},{"$f":"IF(図面!L15=\"\",\"\",図面!L15)","v":""},{"$f":"IF(図面!M15=\"\",\"\",図面!M15)","v":""},{"$f":"IF(図面!N15=\"\",\"\",図面!N15)","v":""},{"$f":"IF(図面!O15=\"\",\"\",図面!O15)","v":""},{"$f":"IF(図面!P15=\"\",\"\",図面!P15)","v":""},{"$f":"IF(図面!Q15=\"\",\"\",図面!Q15)","v":""},{"$f":"IF(図面!R15=\"\",\"\",図面!R15)","v":""},{"$f":"IF(図面!S15=\"\",\"\",図面!S15)","v":""},{"$f":"IF(図面!T15=\"\",\"\",図面!T15)","v":""},{"$f":"IF(図面!U15=\"\",\"\",図面!U15)","v":""},{"$f":"IF(図面!V15=\"\",\"\",図面!V15)","v":""},{"$f":"IF(図面!W15=\"\",\"\",図面!W15)","v":""},{"$f":"IF(図面!X15=\"\",\"\",図面!X15)","v":""},{"$f":"IF(図面!Y15=\"\",\"\",図面!Y15)","v":""},{"$f":"IF(図面!Z15=\"\",\"\",図面!Z15)","v":""},null,"必要壁量",{"$f":"面積計算!AK21","v":0},{"$f":"図面!$AO$21","v":33},{"$f":"(AC15*AD15)/100","v":0}]
[null,null,{"$f":"図面!B16","v":910},{"$f":"IF(図面!D16=\"\",\"\",図面!D16)","v":""},{"$f":"IF(図面!E16=\"\",\"\",図面!E16)","v":""},{"$f":"IF(図面!F16=\"\",\"\",図面!F16)","v":""},{"$f":"IF(図面!G16=\"\",\"\",図面!G16)","v":""},{"$f":"IF(図面!H16=\"\",\"\",図面!H16)","v":""},{"$f":"IF(図面!I16=\"\",\"\",図面!I16)","v":""},{"$f":"IF(図面!J16=\"\",\"\",図面!J16)","v":""},{"$f":"IF(図面!K16=\"\",\"\",図面!K16)","v":""},{"$f":"IF(図面!L16=\"\",\"\",図面!L16)","v":""},{"$f":"IF(図面!M16=\"\",\"\",図面!M16)","v":""},{"$f":"IF(図面!N16=\"\",\"\",図面!N16)","v":""},{"$f":"IF(図面!O16=\"\",\"\",図面!O16)","v":""},{"$f":"IF(図面!P16=\"\",\"\",図面!P16)","v":""},{"$f":"IF(図面!Q16=\"\",\"\",図面!Q16)","v":""},{"$f":"IF(図面!R16=\"\",\"\",図面!R16)","v":""},{"$f":"IF(図面!S16=\"\",\"\",図面!S16)","v":""},{"$f":"IF(図面!T16=\"\",\"\",図面!T16)","v":""},{"$f":"IF(図面!U16=\"\",\"\",図面!U16)","v":""},{"$f":"IF(図面!V16=\"\",\"\",図面!V16)","v":""},{"$f":"IF(図面!W16=\"\",\"\",図面!W16)","v":""},{"$f":"IF(図面!X16=\"\",\"\",図面!X16)","v":""},{"$f":"IF(図面!Y16=\"\",\"\",図面!Y16)","v":""},{"$f":"IF(図面!Z16=\"\",\"\",図面!Z16)","v":""},null,"存在壁量",null,null,{"$f":"壁量計算!AT21","v":0}]
[null,null,{"$f":"図面!B17","v":910},{"$f":"IF(図面!D17=\"\",\"\",図面!D17)","v":""},{"$f":"IF(図面!E17=\"\",\"\",図面!E17)","v":""},{"$f":"IF(図面!F17=\"\",\"\",図面!F17)","v":""},{"$f":"IF(図面!G17=\"\",\"\",図面!G17)","v":""},{"$f":"IF(図面!H17=\"\",\"\",図面!H17)","v":""},{"$f":"IF(図面!I17=\"\",\"\",図面!I17)","v":""},{"$f":"IF(図面!J17=\"\",\"\",図面!J17)","v":""},{"$f":"IF(図面!K17=\"\",\"\",図面!K17)","v":""},{"$f":"IF(図面!L17=\"\",\"\",図面!L17)","v":""},{"$f":"IF(図面!M17=\"\",\"\",図面!M17)","v":""},{"$f":"IF(図面!N17=\"\",\"\",図面!N17)","v":""},{"$f":"IF(図面!O17=\"\",\"\",図面!O17)","v":""},{"$f":"IF(図面!P17=\"\",\"\",図面!P17)","v":""},{"$f":"IF(図面!Q17=\"\",\"\",図面!Q17)","v":""},{"$f":"IF(図面!R17=\"\",\"\",図面!R17)","v":""},{"$f":"IF(図面!S17=\"\",\"\",図面!S17)","v":""},{"$f":"IF(図面!T17=\"\",\"\",図面!T17)","v":""},{"$f":"IF(図面!U17=\"\",\"\",図面!U17)","v":""},{"$f":"IF(図面!V17=\"\",\"\",図面!V17)","v":""},{"$f":"IF(図面!W17=\"\",\"\",図面!W17)","v":""},{"$f":"IF(図面!X17=\"\",\"\",図面!X17)","v":""},{"$f":"IF(図面!Y17=\"\",\"\",図面!Y17)","v":""},{"$f":"IF(図面!Z17=\"\",\"\",図面!Z17)","v":""},null,"壁量充足率",null,null,{"$f":"IFERROR(AE16/AE15,\"\")","v":""},{"$f":"IF(AE17=\"\",\"\",IF(AE16/AE15>1,(\"OK\"),(\"NG\")))","v":""},"存在壁量/必要壁量>1"]
[null,null,{"$f":"図面!B18","v":910},{"$f":"IF(図面!D18=\"\",\"\",図面!D18)","v":""},{"$f":"IF(図面!E18=\"\",\"\",図面!E18)","v":""},{"$f":"IF(図面!F18=\"\",\"\",図面!F18)","v":""},{"$f":"IF(図面!G18=\"\",\"\",図面!G18)","v":""},{"$f":"IF(図面!H18=\"\",\"\",図面!H18)","v":""},{"$f":"IF(図面!I18=\"\",\"\",図面!I18)","v":""},{"$f":"IF(図面!J18=\"\",\"\",図面!J18)","v":""},{"$f":"IF(図面!K18=\"\",\"\",図面!K18)","v":""},{"$f":"IF(図面!L18=\"\",\"\",図面!L18)","v":""},{"$f":"IF(図面!M18=\"\",\"\",図面!M18)","v":""},{"$f":"IF(図面!N18=\"\",\"\",図面!N18)","v":""},{"$f":"IF(図面!O18=\"\",\"\",図面!O18)","v":""},{"$f":"IF(図面!P18=\"\",\"\",図面!P18)","v":""},{"$f":"IF(図面!Q18=\"\",\"\",図面!Q18)","v":""},{"$f":"IF(図面!R18=\"\",\"\",図面!R18)","v":""},{"$f":"IF(図面!S18=\"\",\"\",図面!S18)","v":""},{"$f":"IF(図面!T18=\"\",\"\",図面!T18)","v":""},{"$f":"IF(図面!U18=\"\",\"\",図面!U18)","v":""},{"$f":"IF(図面!V18=\"\",\"\",図面!V18)","v":""},{"$f":"IF(図面!W18=\"\",\"\",図面!W18)","v":""},{"$f":"IF(図面!X18=\"\",\"\",図面!X18)","v":""},{"$f":"IF(図面!Y18=\"\",\"\",図面!Y18)","v":""},{"$f":"IF(図面!Z18=\"\",\"\",図面!Z18)","v":""}]
[null,null,{"$f":"図面!B19","v":910},{"$f":"IF(図面!D19=\"\",\"\",図面!D19)","v":""},{"$f":"IF(図面!E19=\"\",\"\",図面!E19)","v":""},{"$f":"IF(図面!F19=\"\",\"\",図面!F19)","v":""},{"$f":"IF(図面!G19=\"\",\"\",図面!G19)","v":""},{"$f":"IF(図面!H19=\"\",\"\",図面!H19)","v":""},{"$f":"IF(図面!I19=\"\",\"\",図面!I19)","v":""},{"$f":"IF(図面!J19=\"\",\"\",図面!J19)","v":""},{"$f":"IF(図面!K19=\"\",\"\",図面!K19)","v":""},{"$f":"IF(図面!L19=\"\",\"\",図面!L19)","v":""},{"$f":"IF(図面!M19=\"\",\"\",図面!M19)","v":""},{"$f":"IF(図面!N19=\"\",\"\",図面!N19)","v":""},{"$f":"IF(図面!O19=\"\",\"\",図面!O19)","v":""},{"$f":"IF(図面!P19=\"\",\"\",図面!P19)","v":""},{"$f":"IF(図面!Q19=\"\",\"\",図面!Q19)","v":""},{"$f":"IF(図面!R19=\"\",\"\",図面!R19)","v":""},{"$f":"IF(図面!S19=\"\",\"\",図面!S19)","v":""},{"$f":"IF(図面!T19=\"\",\"\",図面!T19)","v":""},{"$f":"IF(図面!U19=\"\",\"\",図面!U19)","v":""},{"$f":"IF(図面!V19=\"\",\"\",図面!V19)","v":""},{"$f":"IF(図面!W19=\"\",\"\",図面!W19)","v":""},{"$f":"IF(図面!X19=\"\",\"\",図面!X19)","v":""},{"$f":"IF(図面!Y19=\"\",\"\",図面!Y19)","v":""},{"$f":"IF(図面!Z19=\"\",\"\",図面!Z19)","v":""},null,"(下)","分割面積","係数","壁量","判定"]
[null,null,{"$f":"図面!B20","v":910},{"$f":"IF(図面!D20=\"\",\"\",図面!D20)","v":""},{"$f":"IF(図面!E20=\"\",\"\",図面!E20)","v":""},{"$f":"IF(図面!F20=\"\",\"\",図面!F20)","v":""},{"$f":"IF(図面!G20=\"\",\"\",図面!G20)","v":""},{"$f":"IF(図面!H20=\"\",\"\",図面!H20)","v":""},{"$f":"IF(図面!I20=\"\",\"\",図面!I20)","v":""},{"$f":"IF(図面!J20=\"\",\"\",図面!J20)","v":""},{"$f":"IF(図面!K20=\"\",\"\",図面!K20)","v":""},{"$f":"IF(図面!L20=\"\",\"\",図面!L20)","v":""},{"$f":"IF(図面!M20=\"\",\"\",図面!M20)","v":""},{"$f":"IF(図面!N20=\"\",\"\",図面!N20)","v":""},{"$f":"IF(図面!O20=\"\",\"\",図面!O20)","v":""},{"$f":"IF(図面!P20=\"\",\"\",図面!P20)","v":""},{"$f":"IF(図面!Q20=\"\",\"\",図面!Q20)","v":""},{"$f":"IF(図面!R20=\"\",\"\",図面!R20)","v":""},{"$f":"IF(図面!S20=\"\",\"\",図面!S20)","v":""},{"$f":"IF(図面!T20=\"\",\"\",図面!T20)","v":""},{"$f":"IF(図面!U20=\"\",\"\",図面!U20)","v":""},{"$f":"IF(図面!V20=\"\",\"\",図面!V20)","v":""},{"$f":"IF(図面!W20=\"\",\"\",図面!W20)","v":""},{"$f":"IF(図面!X20=\"\",\"\",図面!X20)","v":""},{"$f":"IF(図面!Y20=\"\",\"\",図面!Y20)","v":""},{"$f":"IF(図面!Z20=\"\",\"\",図面!Z20)","v":""},null,"必要壁量",{"$f":"面積計算!AL21","v":0},{"$f":"図面!$AO$21","v":33},{"$f":"(AC20*AD20)/100","v":0}]
[null,null,null,null,null,null,null,null,null,null,null,null,null,null,null,null,null,null,null,null,null,null,null,null,null,null,null,"存在壁量",null,null,{"$f":"壁量計算!AW21","v":0}]
[null,null,null,null,null,null,null,null,null,null,null,null,null,null,null,null,null,null,null,null,null,null,null,null,null,null,null,"壁量充足率",null,null,{"$f":"IFERROR(AE21/AE20,\"\")","v":""},{"$f":"IF(AE22=\"\",\"\",IF(AE21/AE20>1,(\"OK\"),(\"NG\")))","v":""},"存在壁量/必要壁量>1"]
[]
[null,null,null,null,null,null,null,null,null,null,null,null,null,null,null,null,null,null,null,null,null,null,null,null,null,null,null,"(左)","分割面積","係数","壁量","判定"]
[null,null,null,null,null,null,null,null,null,null,null,null,null,null,null,null,null,null,null,null,null,null,null,null,null,null,null,"必要壁量",{"$f":"面積計算!AA31","v":0},{"$f":"図面!$AO$21","v":33},{"$f":"(AC25*AD25)/100","v":0}]
[null,null,null,null,null,null,null,null,null,null,null,null,null,null,null,null,null,null,null,null,null,null,null,null,null,null,null,"存在壁量",null,null,{"$f":"壁量計算!AA40","v":0}]
[null,null,null,null,null,null,null,null,null,null,null,null,null,null,null,null,null,null,null,null,null,null,null,null,null,null,null,"壁量充足率",null,null,{"$f":"IFERROR(AE26/AE25,\"\")","v":""},{"$f":"IF(AE27=\"\",\"\",IF(AE26/AE25>1,(\"OK\"),(\"NG\")))","v":""},"存在壁量/必要壁量>1"]
[]
[null,null,null,null,null,null,null,null,null,null,null,null,null,null,null,null,null,null,null,null,null,null,null,null,null,null,null,"(右)","分割面積","係数","壁量","判定"]
[null,null,null,null,null,null,null,null,null,null,null,null,null,null,null,null,null,null,null,null,null,null,null,null,null,null,null,"必要壁量",{"$f":"面積計算!AA32","v":0},{"$f":"図面!$AO$21","v":33},{"$f":"(AC30*AD30)/100","v":0}]
[null,null,null,null,null,null,null,null,null,null,null,null,null,null,null,null,null,null,null,null,null,null,null,null,null,null,null,"存在壁量",null,null,{"$f":"壁量計算!AA43","v":0}]
[null,null,null,null,null,null,null,null,null,null,null,null,null,null,null,null,null,null,null,null,null,null,null,null,null,null,null,"壁量充足率",null,null,{"$f":"IFERROR(AE31/AE30,\"\")","v":""},{"$f":"IF(AE32=\"\",\"\",IF(AE31/AE30>1,(\"OK\"),(\"NG\")))","v":""},"存在壁量/必要壁量>1"]
[]
[null,null,null,null,null,null,null,null,null,null,null,null,null,null,null,null,null,null,null,null,null,null,null,null,null,null,null,"上下壁率比"]
[null,null,null,null,null,null,null,null,null,null,null,null,null,null,null,null,null,null,null,null,null,null,null,null,null,null,null,"小の値","大の値","壁率比","基準","判定"]
[null,null,null,null,null,null,null,null,null,null,null,null,null,null,null,null,null,null,null,null,null,null,null,null,null,null,null,{"$f":"MINA(AE17,AE22)","v":0},{"$f":"MAX(AE17,AE22)","v":0},{"$f":"IF(AB36=0,\"\",AB36/AC36)","v":""},"≧0.5",{"$f":"IF(AD36=\"\",\"\",IF(AD36>=0.5,(\"OK\"),(\"NG\")))","v":""}]
[null,null,null,null,null,null,null,null,null,null,null,null,null,null,null,null,null,null,null,null,null,null,null,null,null,null,null,null,null,null,null,{"$f":"IF(AD36=\"\",\"\",IF(AND(AE17>=1,AE22>=1),\"計算不要\",AF36))","v":""},"上下どちらも壁量充足率が>1のときは計算不要"]
[null,null,null,null,null,null,null,null,null,null,null,null,null,null,null,null,null,null,null,null,null,null,null,null,null,null,null,"左右壁率比"]
[null,null,null,null,null,null,null,null,null,null,null,null,null,null,null,null,null,null,null,null,null,null,null,null,null,null,null,"小の値","大の値","壁率比","基準","判定"]
[null,null,null,null,null,null,null,null,null,null,null,null,null,null,null,null,null,null,null,null,null,null,null,null,null,null,null,{"$f":"MINA(AE27,AE32)","v":0},{"$f":"MAX(AE27,AE32)","v":0},{"$f":"IF(AB40=0,\"\",AB40/AC40)","v":""},"≧0.5",{"$f":"IF(AD40=\"\",\"\",IF(AD40>=0.5,(\"OK\"),(\"NG\")))","v":""}]
[null,null,null,null,null,null,null,null,null,null,null,null,null,null,null,null,null,null,null,null,null,null,null,null,null,null,null,null,null,null,null,{"$f":"IF(AD40=\"\",\"\",IF(AND(AE27>=1,AE32>=1),\"計算不要\",AF40))","v":""},"左右どちらも壁量充足率が>1のときは計算不要"]

{"sheet":"計算結果2階","index":3,"n_rows":41,"n_cols":33,"rows_kept":41,"cut":false,"hidden":false,"merged":[[29,32,29,33],[29,34,29,35],[14,32,14,33],[14,34,14,35],[19,32,19,33],[19,34,19,35],[24,32,24,33],[24,34,24,35]]}
[]
[]
[null,null,null,{"$f":"図面!D2","v":910},{"$f":"図面!E2","v":910},{"$f":"図面!F2","v":910},{"$f":"図面!G2","v":910},{"$f":"図面!H2","v":910},{"$f":"図面!I2","v":910},{"$f":"図面!J2","v":910},{"$f":"図面!K2","v":910},{"$f":"図面!L2","v":910},{"$f":"図面!M2","v":910},{"$f":"図面!N2","v":910},{"$f":"図面!O2","v":910},{"$f":"図面!P2","v":910},{"$f":"図面!Q2","v":910},{"$f":"図面!R2","v":910},{"$f":"図面!S2","v":910},{"$f":"図面!T2","v":910},{"$f":"図面!U2","v":910},{"$f":"図面!V2","v":910},{"$f":"図面!W2","v":910},{"$f":"図面!X2","v":910},{"$f":"図面!Y2","v":910},{"$f":"図面!Z2","v":910},null,null,null,null,null,"壁量単位:cm"]
[null,null,{"$f":"図面!B4","v":910},{"$f":"IF(図面2階!D4=\"\",\"\",図面2階!D4)","v":""},{"$f":"IF(図面2階!E4=\"\",\"\",図面2階!E4)","v":""},{"$f":"IF(図面2階!F4=\"\",\"\",図面2階!F4)","v":""},{"$f":"IF(図面2階!G4=\"\",\"\",図面2階!G4)","v":""},{"$f":"IF(図面2階!H4=\"\",\"\",図面2階!H4)","v":""},{"$f":"IF(図面2階!I4=\"\",\"\",図面2階!I4)","v":""},{"$f":"IF(図面2階!J4=\"\",\"\",図面2階!J4)","v":""},{"$f":"IF(図面2階!K4=\"\",\"\",図面2階!K4)","v":""},{"$f":"IF(図面2階!L4=\"\",\"\",図面2階!L4)","v":""},{"$f":"IF(図面2階!M4=\"\",\"\",図面2階!M4)","v":""},{"$f":"IF(図面2階!N4=\"\",\"\",図面2階!N4)","v":""},{"$f":"IF(図面2階!O4=\"\",\"\",図面2階!O4)","v":""},{"$f":"IF(図面2階!P4=\"\",\"\",図面2階!P4)","v":""},{"$f":"IF(図面2階!Q4=\"\",\"\",図面2階!Q4)","v":""},{"$f":"IF(図面2階!R4=\"\",\"\",図面2階!R4)","v":""},{"$f":"IF(図面2階!S4=\"\",\"\",図面2階!S4)","v":""},{"$f":"IF(図面2階!T4=\"\",\"\",図面2階!T4)","v":""},{"$f":"IF(図面2階!U4=\"\",\"\",図面2階!U4)","v":""},{"$f":"IF(図面2階!V4=\"\",\"\",図面2階!V4)","v":""},{"$f":"IF(図面2階!W4=\"\",\"\",図面2階!W4)","v":""},{"$f":"IF(図面2階!X4=\"\",\"\",図面2階!X4)","v":""},{"$f":"IF(図面2階!Y4=\"\",\"\",図面2階!Y4)","v":""},{"$f":"IF(図面2階!Z4=\"\",\"\",図面2階!Z4)","v":""},null,null,null,"係数","必要壁量","判定"]
[null,null,{"$f":"図面!B5","v":910},{"$f":"IF(図面2階!D5=\"\",\"\",図面2階!D5)","v":""},{"$f":"IF(図面2階!E5=\"\",\"\",図面2階!E5)","v":""},{"$f":"IF(図面2階!F5=\"\",\"\",図面2階!F5)","v":""},{"$f":"IF(図面2階!G5=\"\",\"\",図面2階!G5)","v":""},{"$f":"IF(図面2階!H5=\"\",\"\",図面2階!H5)","v":""},{"$f":"IF(図面2階!I5=\"\",\"\",図面2階!I5)","v":""},{"$f":"IF(図面2階!J5=\"\",\"\",図面2階!J5)","v":""},{"$f":"IF(図面2階!K5=\"\",\"\",図面2階!K5)","v":""},{"$f":"IF(図面2階!L5=\"\",\"\",図面2階!L5)","v":""},{"$f":"IF(図面2階!M5=\"\",\"\",図面2階!M5)","v":""},{"$f":"IF(図面2階!N5=\"\",\"\",図面2階!N5)","v":""},{"$f":"IF(図面2階!O5=\"\",\"\",図面2階!O5)","v":""},{"$f":"IF(図面2階!P5=\"\",\"\",図面2階!P5)","v":""},{"$f":"IF(図面2階!Q5=\"\",\"\",図面2階!Q5)","v":""},{"$f":"IF(図面2階!R5=\"\",\"\",図面2階!R5)","v":""},{"$f":"IF(図面2階!S5=\"\",\"\",図面2階!S5)","v":""},{"$f":"IF(図面2階!T5=\"\",\"\",図面2階!T5)","v":""},{"$f":"IF(図面2階!U5=\"\",\"\",図面2階!U5)","v":""},{"$f":"IF(図面2階!V5=\"\",\"\",図面2階!V5)","v":""},{"$f":"IF(図面2階!W5=\"\",\"\",図面2階!W5)","v":""},{"$f":"IF(図面2階!X5=\"\",\"\",図面2階!X5)","v":""},{"$f":"IF(図面2階!Y5=\"\",\"\",図面2階!Y5)","v":""},{"$f":"IF(図面2階!Z5=\"\",\"\",図面2階!Z5)","v":""},null,"延床面積",{"$f":"図面2階!AE15","v":0},{"$f":"図面2階!AO21","v":21},{"$f":"(AC5*AD5)/100","v":0}]
[null,null,{"$f":"図面!B6","v":910},{"$f":"IF(図面2階!D6=\"\",\"\",図面2階!D6)","v":""},{"$f":"IF(図面2階!E6=\"\",\"\",図面2階!E6)","v":""},{"$f":"IF(図面2階!F6=\"\",\"\",図面2階!F6)","v":""},{"$f":"IF(図面2階!G6=\"\",\"\",図面2階!G6)","v":""},{"$f":"IF(図面2階!H6=\"\",\"\",図面2階!H6)","v":""},{"$f":"IF(図面2階!I6=\"\",\"\",図面2階!I6)","v":""},{"$f":"IF(図面2階!J6=\"\",\"\",図面2階!J6)","v":""},{"$f":"IF(図面2階!K6=\"\",\"\",図面2階!K6)","v":""},{"$f":"IF(図面2階!L6=\"\",\"\",図面2階!L6)","v":""},{"$f":"IF(図面2階!M6=\"\",\"\",図面2階!M6)","v":""},{"$f":"IF(図面2階!N6=\"\",\"\",図面2階!N6)","v":""},{"$f":"IF(図面2階!O6=\"\",\"\",図面2階!O6)","v":""},{"$f":"IF(図面2階!P6=\"\",\"\",図面2階!P6)","v":""},{"$f":"IF(図面2階!Q6=\"\",\"\",図面2階!Q6)","v":""},{"$f":"IF(図面2階!R6=\"\",\"\",図面2階!R6)","v":""},{"$f":"IF(図面2階!S6=\"\",\"\",図面2階!S6)","v":""},{"$f":"IF(図面2階!T6=\"\",\"\",図面2階!T6)","v":""},{"$f":"IF(図面2階!U6=\"\",\"\",図面2階!U6)","v":""},{"$f":"IF(図面2階!V6=\"\",\"\",図面2階!V6)","v":""},{"$f":"IF(図面2階!W6=\"\",\"\",図面2階!W6)","v":""},{"$f":"IF(図面2階!X6=\"\",\"\",図面2階!X6)","v":""},{"$f":"IF(図面2階!Y6=\"\",\"\",図面2階!Y6)","v":""},{"$f":"IF(図面2階!Z6=\"\",\"\",図面2階!Z6)","v":""},null,"見付面積(桁行計算用）",{"$f":"図面2階!AO18","v":10.35},50,{"$f":"(AC6*AD6)/100","v":5.1749999999999998},{"$f":"IF(AE5>AE6,\"床\",\"見付\")","v":"見付"},"床面積と見付面積での計算値の大きい方"]
[null,null,{"$f":"図面!B7","v":910},{"$f":"IF(図面2階!D7=\"\",\"\",図面2階!D7)","v":""},{"$f":"IF(図面2階!E7=\"\",\"\",図面2階!E7)","v":""},{"$f":"IF(図面2階!F7=\"\",\"\",図面2階!F7)","v":""},{"$f":"IF(図面2階!G7=\"\",\"\",図面2階!G7)","v":""},{"$f":"IF(図面2階!H7=\"\",\"\",図面2階!H7)","v":""},{"$f":"IF(図面2階!I7=\"\",\"\",図面2階!I7)","v":""},{"$f":"IF(図面2階!J7=\"\",\"\",図面2階!J7)","v":""},{"$f":"IF(図面2階!K7=\"\",\"\",図面2階!K7)","v":""},{"$f":"IF(図面2階!L7=\"\",\"\",図面2階!L7)","v":""},{"$f":"IF(図面2階!M7=\"\",\"\",図面2階!M7)","v":""},{"$f":"IF(図面2階!N7=\"\",\"\",図面2階!N7)","v":""},{"$f":"IF(図面2階!O7=\"\",\"\",図面2階!O7)","v":""},{"$f":"IF(図面2階!P7=\"\",\"\",図面2階!P7)","v":""},{"$f":"IF(図面2階!Q7=\"\",\"\",図面2階!Q7)","v":""},{"$f":"IF(図面2階!R7=\"\",\"\",図面2階!R7)","v":""},{"$f":"IF(図面2階!S7=\"\",\"\",図面2階!S7)","v":""},{"$f":"IF(図面2階!T7=\"\",\"\",図面2階!T7)","v":""},{"$f":"IF(図面2階!U7=\"\",\"\",図面2階!U7)","v":""},{"$f":"IF(図面2階!V7=\"\",\"\",図面2階!V7)","v":""},{"$f":"IF(図面2階!W7=\"\",\"\",図面2階!W7)","v":""},{"$f":"IF(図面2階!X7=\"\",\"\",図面2階!X7)","v":""},{"$f":"IF(図面2階!Y7=\"\",\"\",図面2階!Y7)","v":""},{"$f":"IF(図面2階!Z7=\"\",\"\",図面2階!Z7)","v":""},null,"見付面積(梁間計算用）",{"$f":"図面2階!AO19","v":26.25},50,{"$f":"(AC7*AD7)/100","v":13.125},{"$f":"IF(AE5>AE7,\"床\",\"見付\")","v":"見付"},"床面積と見付面積での計算値の大きい方"]
[null,null,{"$f":"図面!B8","v":910},{"$f":"IF(図面2階!D8=\"\",\"\",図面2階!D8)","v":""},{"$f":"IF(図面2階!E8=\"\",\"\",図面2階!E8)","v":""},{"$f":"IF(図面2階!F8=\"\",\"\",図面2階!F8)","v":""},{"$f":"IF(図面2階!G8=\"\",\"\",図面2階!G8)","v":""},{"$f":"IF(図面2階!H8=\"\",\"\",図面2階!H8)","v":""},{"$f":"IF(図面2階!I8=\"\",\"\",図面2階!I8)","v":""},{"$f":"IF(図面2階!J8=\"\",\"\",図面2階!J8)","v":""},{"$f":"IF(図面2階!K8=\"\",\"\",図面2階!K8)","v":""},{"$f":"IF(図面2階!L8=\"\",\"\",図面2階!L8)","v":""},{"$f":"IF(図面2階!M8=\"\",\"\",図面2階!M8)","v":""},{"$f":"IF(図面2階!N8=\"\",\"\",図面2階!N8)","v":""},{"$f":"IF(図面2階!O8=\"\",\"\",図面2階!O8)","v":""},{"$f":"IF(図面2階!P8=\"\",\"\",図面2階!P8)","v":""},{"$f":"IF(図面2階!Q8=\"\",\"\",図面2階!Q8)","v":""},{"$f":"IF(図面2階!R8=\"\",\"\",図面2階!R8)","v":""},{"$f":"IF(図面2階!S8=\"\",\"\",図面2階!S8)","v":""},{"$f":"IF(図面2階!T8=\"\",\"\",図面2階!T8)","v":""},{"$f":"IF(図面2階!U8=\"\",\"\",図面2階!U8)","v":""},{"$f":"IF(図面2階!V8=\"\",\"\",図面2階!V8)","v":""},{"$f":"IF(図面2階!W8=\"\",\"\",図面2階!W8)","v":""},{"$f":"IF(図面2階!X8=\"\",\"\",図面2階!X8)","v":""},{"$f":"IF(図面2階!Y8=\"\",\"\",図面2階!Y8)","v":""},{"$f":"IF(図面2階!Z8=\"\",\"\",図面2階!Z8)","v":""}]
[null,null,{"$f":"図面!B9","v":910},{"$f":"IF(図面2階!D9=\"\",\"\",図面2階!D9)","v":""},{"$f":"IF(図面2階!E9=\"\",\"\",図面2階!E9)","v":""},{"$f":"IF(図面2階!F9=\"\",\"\",図面2階!F9)","v":""},{"$f":"IF(図面2階!G9=\"\",\"\",図面2階!G9)","v":""},{"$f":"IF(図面2階!H9=\"\",\"\",図面2階!H9)","v":""},{"$f":"IF(図面2階!I9=\"\",\"\",図面2階!I9)","v":""},{"$f":"IF(図面2階!J9=\"\",\"\",図面2階!J9)","v":""},{"$f":"IF(図面2階!K9=\"\",\"\",図面2階!K9)","v":""},{"$f":"IF(図面2階!L9=\"\",\"\",図面2階!L9)","v":""},{"$f":"IF(図面2階!M9=\"\",\"\",図面2階!M9)","v":""},{"$f":"IF(図面2階!N9=\"\",\"\",図面2階!N9)","v":""},{"$f":"IF(図面2階!O9=\"\",\"\",図面2階!O9)","v":""},{"$f":"IF(図面2階!P9=\"\",\"\",図面2階!P9)","v":""},{"$f":"IF(図面2階!Q9=\"\",\"\",図面2階!Q9)","v":""},{"$f":"IF(図面2階!R9=\"\",\"\",図面2階!R9)","v":""},{"$f":"IF(図面2階!S9=\"\",\"\",図面2階!S9)","v":""},{"$f":"IF(図面2階!T9=\"\",\"\",図面2階!T9)","v":""},{"$f":"IF(図面2階!U9=\"\",\"\",図面2階!U9)","v":""},{"$f":"IF(図面2階!V9=\"\",\"\",図面2階!V9)","v":""},{"$f":"IF(図面2階!W9=\"\",\"\",図面2階!W9)","v":""},{"$f":"IF(図面2階!X9=\"\",\"\",図面2階!X9)","v":""},{"$f":"IF(図面2階!Y9=\"\",\"\",図面2階!Y9)","v":""},{"$f":"IF(図面2階!Z9=\"\",\"\",図面2階!Z9)","v":""},null,null,"計算値大","必要壁量","存在壁量","判定"]
[null,null,{"$f":"図面!B10","v":910},{"$f":"IF(図面2階!D10=\"\",\"\",図面2階!D10)","v":""},{"$f":"IF(図面2階!E10=\"\",\"\",図面2階!E10)","v":""},{"$f":"IF(図面2階!F10=\"\",\"\",図面2階!F10)","v":""},{"$f":"IF(図面2階!G10=\"\",\"\",図面2階!G10)","v":""},{"$f":"IF(図面2階!H10=\"\",\"\",図面2階!H10)","v":""},{"$f":"IF(図面2階!I10=\"\",\"\",図面2階!I10)","v":""},{"$f":"IF(図面2階!J10=\"\",\"\",図面2階!J10)","v":""},{"$f":"IF(図面2階!K10=\"\",\"\",図面2階!K10)","v":""},{"$f":"IF(図面2階!L10=\"\",\"\",図面2階!L10)","v":""},{"$f":"IF(図面2階!M10=\"\",\"\",図面2階!M10)","v":""},{"$f":"IF(図面2階!N10=\"\",\"\",図面2階!N10)","v":""},{"$f":"IF(図面2階!O10=\"\",\"\",図面2階!O10)","v":""},{"$f":"IF(図面2階!P10=\"\",\"\",図面2階!P10)","v":""},{"$f":"IF(図面2階!Q10=\"\",\"\",図面2階!Q10)","v":""},{"$f":"IF(図面2階!R10=\"\",\"\",図面2階!R10)","v":""},{"$f":"IF(図面2階!S10=\"\",\"\",図面2階!S10)","v":""},{"$f":"IF(図面2階!T10=\"\",\"\",図面2階!T10)","v":""},{"$f":"IF(図面2階!U10=\"\",\"\",図面2階!U10)","v":""},{"$f":"IF(図面2階!V10=\"\",\"\",図面2階!V10)","v":""},{"$f":"IF(図面2階!W10=\"\",\"\",図面2階!W10)","v":""},{"$f":"IF(図面2階!X10=\"\",\"\",図面2階!X10)","v":""},{"$f":"IF(図面2階!Y10=\"\",\"\",図面2階!Y10)","v":""},{"$f":"IF(図面2階!Z10=\"\",\"\",図面2階!Z10)","v":""},null,"桁行方向壁量",{"$f":"AF6","v":"見付"},{"$f":"MAX(AE5,AE6)","v":5.1749999999999998},{"$f":"壁量計算2階!AO21","v":0},{"$f":"IF(AE10=0,\"\",IF(AE10>=MAX(AE5,AE6),(\"OK\"),(\"NG\")))","v":""},"必要壁量≦存在壁量"]
[null,null,{"$f":"図面!B11","v":910},{"$f":"IF(図面2階!D11=\"\",\"\",図面2階!D11)","v":""},{"$f":"IF(図面2階!E11=\"\",\"\",図面2階!E11)","v":""},{"$f":"IF(図面2階!F11=\"\",\"\",図面2階!F11)","v":""},{"$f":"IF(図面2階!G11=\"\",\"\",図面2階!G11)","v":""},{"$f":"IF(図面2階!H11=\"\",\"\",図面2階!H11)","v":""},{"$f":"IF(図面2階!I11=\"\",\"\",図面2階!I11)","v":""},{"$f":"IF(図面2階!J11=\"\",\"\",図面2階!J11)","v":""},{"$f":"IF(図面2階!K11=\"\",\"\",図面2階!K11)","v":""},{"$f":"IF(図面2階!L11=\"\",\"\",図面2階!L11)","v":""},{"$f":"IF(図面2階!M11=\"\",\"\",図面2階!M11)","v":""},{"$f":"IF(図面2階!N11=\"\",\"\",図面2階!N11)","v":""},{"$f":"IF(図面2階!O11=\"\",\"\",図面2階!O11)","v":""},{"$f":"IF(図面2階!P11=\"\",\"\",図面2階!P11)","v":""},{"$f":"IF(図面2階!Q11=\"\",\"\",図面2階!Q11)","v":""},{"$f":"IF(図面2階!R11=\"\",\"\",図面2階!R11)","v":""},{"$f":"IF(図面2階!S11=\"\",\"\",図面2階!S11)","v":""},{"$f":"IF(図面2階!T11=\"\",\"\",図面2階!T11)","v":""},{"$f":"IF(図面2階!U11=\"\",\"\",図面2階!U11)","v":""},{"$f":"IF(図面2階!V11=\"\",\"\",図面2階!V11)","v":""},{"$f":"IF(図面2階!W11=\"\",\"\",図面2階!W11)","v":""},{"$f":"IF(図面2階!X11=\"\",\"\",図面2階!X11)","v":""},{"$f":"IF(図面2階!Y11=\"\",\"\",図面2階!Y11)","v":""},{"$f":"IF(図面2階!Z11=\"\",\"\",図面2階!Z11)","v":""},null,"梁間方向壁量",{"$f":"AF7","v":"見付"},{"$f":"MAX(AE5,AE7)","v":13.125},{"$f":"壁量計算2階!AA35","v":0},{"$f":"IF(AE11=0,\"\",IF(AE11>=MAX(AE5,AE7),(\"OK\"),(\"NG\")))","v":""},"必要壁量≦存在壁量"]
[null,null,{"$f":"図面!B12","v":910},{"$f":"IF(図面2階!D12=\"\",\"\",図面2階!D12)","v":""},{"$f":"IF(図面2階!E12=\"\",\"\",図面2階!E12)","v":""},{"$f":"IF(図面2階!F12=\"\",\"\",図面2階!F12)","v":""},{"$f":"IF(図面2階!G12=\"\",\"\",図面2階!G12)","v":""},{"$f":"IF(図面2階!H12=\"\",\"\",図面2階!H12)","v":""},{"$f":"IF(図面2階!I12=\"\",\"\",図面2階!I12)","v":""},{"$f":"IF(図面2階!J12=\"\",\"\",図面2階!J12)","v":""},{"$f":"IF(図面2階!K12=\"\",\"\",図面2階!K12)","v":""},{"$f":"IF(図面2階!L12=\"\",\"\",図面2階!L12)","v":""},{"$f":"IF(図面2階!M12=\"\",\"\",図面2階!M12)","v":""},{"$f":"IF(図面2階!N12=\"\",\"\",図面2階!N12)","v":""},{"$f":"IF(図面2階!O12=\"\",\"\",図面2階!O12)","v":""},{"$f":"IF(図面2階!P12=\"\",\"\",図面2階!P12)","v":""},{"$f":"IF(図面2階!Q12=\"\",\"\",図面2階!Q12)","v":""},{"$f":"IF(図面2階!R12=\"\",\"\",図面2階!R12)","v":""},{"$f":"IF(図面2階!S12=\"\",\"\",図面2階!S12)","v":""},{"$f":"IF(図面2階!T12=\"\",\"\",図面2階!T12)","v":""},{"$f":"IF(図面2階!U12=\"\",\"\",図面2階!U12)","v":""},{"$f":"IF(図面2階!V12=\"\",\"\",図面2階!V12)","v":""},{"$f":"IF(図面2階!W12=\"\",\"\",図面2階!W12)","v":""},{"$f":"IF(図面2階!X12=\"\",\"\",図面2階!X12)","v":""},{"$f":"IF(図面2階!Y12=\"\",\"\",図面2階!Y12)","v":""},{"$f":"IF(図面2階!Z12=\"\",\"\",図面2階!Z12)","v":""}]
[null,null,{"$f":"図面!B13","v":910},{"$f":"IF(図面2階!D13=\"\",\"\",図面2階!D13)","v":""},{"$f":"IF(図面2階!E13=\"\",\"\",図面2階!E13)","v":""},{"$f":"IF(図面2階!F13=\"\",\"\",図面2階!F13)","v":""},{"$f":"IF(図面2階!G13=\"\",\"\",図面2階!G13)","v":""},{"$f":"IF(図面2階!H13=\"\",\"\",図面2階!H13)","v":""},{"$f":"IF(図面2階!I13=\"\",\"\",図面2階!I13)","v":""},{"$f":"IF(図面2階!J13=\"\",\"\",図面2階!J13)","v":""},{"$f":"IF(図面2階!K13=\"\",\"\",図面2階!K13)","v":""},{"$f":"IF(図面2階!L13=\"\",\"\",図面2階!L13)","v":""},{"$f":"IF(図面2階!M13=\"\",\"\",図面2階!M13)","v":""},{"$f":"IF(図面2階!N13=\"\",\"\",図面2階!N13)","v":""},{"$f":"IF(図面2階!O13=\"\",\"\",図面2階!O13)","v":""},{"$f":"IF(図面2階!P13=\"\",\"\",図面2階!P13)","v":""},{"$f":"IF(図面2階!Q13=\"\",\"\",図面2階!Q13)","v":""},{"$f":"IF(図面2階!R13=\"\",\"\",図面2階!R13)","v":""},{"$f":"IF(図面2階!S13=\"\",\"\",図面2階!S13)","v":""},{"$f":"IF(図面2階!T13=\"\",\"\",図面2階!T13)","v":""},{"$f":"IF(図面2階!U13=\"\",\"\",図面2階!U13)","v":""},{"$f":"IF(図面2階!V13=\"\",\"\",図面2階!V13)","v":""},{"$f":"IF(図面2階!W13=\"\",\"\",図面2階!W13)","v":""},{"$f":"IF(図面2階!X13=\"\",\"\",図面2階!X13)","v":""},{"$f":"IF(図面2階!Y13=\"\",\"\",図面2階!Y13)","v":""},{"$f":"IF(図面2階!Z13=\"\",\"\",図面2階!Z13)","v":""},null,"バランス計算",null,null,null,"壁量単位:cm"]
[null,null,{"$f":"図面!B14","v":910},{"$f":"IF(図面2階!D14=\"\",\"\",図面2階!D14)","v":""},{"$f":"IF(図面2階!E14=\"\",\"\",図面2階!E14)","v":""},{"$f":"IF(図面2階!F14=\"\",\"\",図面2階!F14)","v":""},{"$f":"IF(図面2階!G14=\"\",\"\",図面2階!G14)","v":""},{"$f":"IF(図面2階!H14=\"\",\"\",図面2階!H14)","v":""},{"$f":"IF(図面2階!I14=\"\",\"\",図面2階!I14)","v":""},{"$f":"IF(図面2階!J14=\"\",\"\",図面2階!J14)","v":""},{"$f":"IF(図面2階!K14=\"\",\"\",図面2階!K14)","v":""},{"$f":"IF(図面2階!L14=\"\",\"\",図面2階!L14)","v":""},{"$f":"IF(図面2階!M14=\"\",\"\",図面2階!M14)","v":""},{"$f":"IF(図面2階!N14=\"\",\"\",図面2階!N14)","v":""},{"$f":"IF(図面2階!O14=\"\",\"\",図面2階!O14)","v":""},{"$f":"IF(図面2階!P14=\"\",\"\",図面2階!P14)","v":""},{"$f":"IF(図面2階!Q14=\"\",\"\",図面2階!Q14)","v":""},{"$f":"IF(図面2階!R14=\"\",\"\",図面2階!R14)","v":""},{"$f":"IF(図面2階!S14=\"\",\"\",図面2階!S14)","v":""},{"$f":"IF(図面2階!T14=\"\",\"\",図面2階!T14)","v":""},{"$f":"IF(図面2階!U14=\"\",\"\",図面2階!U14)","v":""},{"$f":"IF(図面2階!V14=\"\",\"\",図面2階!V14)","v":""},{"$f":"IF(図面2階!W14=\"\",\"\",図面2階!W14)","v":""},{"$f":"IF(図面2階!X14=\"\",\"\",図面2階!X14)","v":""},{"$f":"IF(図面2階!Y14=\"\",\"\",図面2階!Y14)","v":""},{"$f":"IF(図面2階!Z14=\"\",\"\",図面2階!Z14)","v":""},null,"(上)","分割面積","係数","壁量","判定"]
[null,null,{"$f":"図面!B15","v":910},{"$f":"IF(図面2階!D15=\"\",\"\",図面2階!D15)","v":""},{"$f":"IF(図面2階!E15=\"\",\"\",図面2階!E15)","v":""},{"$f":"IF(図面2階!F15=\"\",\"\",図面2階!F15)","v":""},{"$f":"IF(図面2階!G15=\"\",\"\",図面2階!G15)","v":""},{"$f":"IF(図面2階!H15=\"\",\"\",図面2階!H15)","v":""},{"$f":"IF(図面2階!I15=\"\",\"\",図面2階!I15)","v":""},{"$f":"IF(図面2階!J15=\"\",\"\",図面2階!J15)","v":""},{"$f":"IF(図面2階!K15=\"\",\"\",図面2階!K15)","v":""},{"$f":"IF(図面2階!L15=\"\",\"\",図面2階!L15)","v":""},{"$f":"IF(図面2階!M15=\"\",\"\",図面2階!M15)","v":""},{"$f":"IF(図面2階!N15=\"\",\"\",図面2階!N15)","v":""},{"$f":"IF(図面2階!O15=\"\",\"\",図面2階!O15)","v":""},{"$f":"IF(図面2階!P15=\"\",\"\",図面2階!P15)","v":""},{"$f":"IF(図面2階!Q15=\"\",\"\",図面2階!Q15)","v":""},{"$f":"IF(図面2階!R15=\"\",\"\",図面2階!R15)","v":""},{"$f":"IF(図面2階!S15=\"\",\"\",図面2階!S15)","v":""},{"$f":"IF(図面2階!T15=\"\",\"\",図面2階!T15)","v":""},{"$f":"IF(図面2階!U15=\"\",\"\",図面2階!U15)","v":""},{"$f":"IF(図面2階!V15=\"\",\"\",図面2階!V15)","v":""},{"$f":"IF(図面2階!W15=\"\",\"\",図面2階!W15)","v":""},{"$f":"IF(図面2階!X15=\"\",\"\",図面2階!X15)","v":""},{"$f":"IF(図面2階!Y15=\"\",\"\",図面2階!Y15)","v":""},{"$f":"IF(図面2階!Z15=\"\",\"\",図面2階!Z15)","v":""},null,"必要壁量",{"$f":"面積計算2階!AK21","v":0},{"$f":"図面2階!$AO$21","v":21},{"$f":"(AC15*AD15)/100","v":0}]
[null,null,{"$f":"図面!B16","v":910},{"$f":"IF(図面2階!D16=\"\",\"\",図面2階!D16)","v":""},{"$f":"IF(図面2階!E16=\"\",\"\",図面2階!E16)","v":""},{"$f":"IF(図面2階!F16=\"\",\"\",図面2階!F16)","v":""},{"$f":"IF(図面2階!G16=\"\",\"\",図面2階!G16)","v":""},{"$f":"IF(図面2階!H16=\"\",\"\",図面2階!H16)","v":""},{"$f":"IF(図面2階!I16=\"\",\"\",図面2階!I16)","v":""},{"$f":"IF(図面2階!J16=\"\",\"\",図面2階!J16)","v":""},{"$f":"IF(図面2階!K16=\"\",\"\",図面2階!K16)","v":""},{"$f":"IF(図面2階!L16=\"\",\"\",図面2階!L16)","v":""},{"$f":"IF(図面2階!M16=\"\",\"\",図面2階!M16)","v":""},{"$f":"IF(図面2階!N16=\"\",\"\",図面2階!N16)","v":""},{"$f":"IF(図面2階!O16=\"\",\"\",図面2階!O16)","v":""},{"$f":"IF(図面2階!P16=\"\",\"\",図面2階!P16)","v":""},{"$f":"IF(図面2階!Q16=\"\",\"\",図面2階!Q16)","v":""},{"$f":"IF(図面2階!R16=\"\",\"\",図面2階!R16)","v":""},{"$f":"IF(図面2階!S16=\"\",\"\",図面2階!S16)","v":""},{"$f":"IF(図面2階!T16=\"\",\"\",図面2階!T16)","v":""},{"$f":"IF(図面2階!U16=\"\",\"\",図面2階!U16)","v":""},{"$f":"IF(図面2階!V16=\"\",\"\",図面2階!V16)","v":""},{"$f":"IF(図面2階!W16=\"\",\"\",図面2階!W16)","v":""},{"$f":"IF(図面2階!X16=\"\",\"\",図面2階!X16)","v":""},{"$f":"IF(図面2階!Y16=\"\",\"\",図面2階!Y16)","v":""},{"$f":"IF(図面2階!Z16=\"\",\"\",図面2階!Z16)","v":""},null,"存在壁量",null,null,{"$f":"壁量計算2階!AT21","v":0}]
[null,null,{"$f":"図面!B17","v":910},{"$f":"IF(図面2階!D17=\"\",\"\",図面2階!D17)","v":""},{"$f":"IF(図面2階!E17=\"\",\"\",図面2階!E17)","v":""},{"$f":"IF(図面2階!F17=\"\",\"\",図面2階!F17)","v":""},{"$f":"IF(図面2階!G17=\"\",\"\",図面2階!G17)","v":""},{"$f":"IF(図面2階!H17=\"\",\"\",図面2階!H17)","v":""},{"$f":"IF(図面2階!I17=\"\",\"\",図面2階!I17)","v":""},{"$f":"IF(図面2階!J17=\"\",\"\",図面2階!J17)","v":""},{"$f":"IF(図面2階!K17=\"\",\"\",図面2階!K17)","v":""},{"$f":"IF(図面2階!L17=\"\",\"\",図面2階!L17)","v":""},{"$f":"IF(図面2階!M17=\"\",\"\",図面2階!M17)","v":""},{"$f":"IF(図面2階!N17=\"\",\"\",図面2階!N17)","v":""},{"$f":"IF(図面2階!O17=\"\",\"\",図面2階!O17)","v":""},{"$f":"IF(図面2階!P17=\"\",\"\",図面2階!P17)","v":""},{"$f":"IF(図面2階!Q17=\"\",\"\",図面2階!Q17)","v":""},{"$f":"IF(図面2階!R17=\"\",\"\",図面2階!R17)","v":""},{"$f":"IF(図面2階!S17=\"\",\"\",図面2階!S17)","v":""},{"$f":"IF(図面2階!T17=\"\",\"\",図面2階!T17)","v":""},{"$f":"IF(図面2階!U17=\"\",\"\",図面2階!U17)","v":""},{"$f":"IF(図面2階!V17=\"\",\"\",図面2階!V17)","v":""},{"$f":"IF(図面2階!W17=\"\",\"\",図面2階!W17)","v":""},{"$f":"IF(図面2階!X17=\"\",\"\",図面2階!X17)","v":""},{"$f":"IF(図面2階!Y17=\"\",\"\",図面2階!Y17)","v":""},{"$f":"IF(図面2階!Z17=\"\",\"\",図面2階!Z17)","v":""},null,"壁量充足率",null,null,{"$f":"IFERROR(AE16/AE15,\"\")","v":""},{"$f":"IF(AE17=\"\",\"\",IF(AE16/AE15>1,(\"OK\"),(\"NG\")))","v":""},"存在壁量/必要壁量>1"]
[null,null,{"$f":"図面!B18","v":910},{"$f":"IF(図面2階!D18=\"\",\"\",図面2階!D18)","v":""},{"$f":"IF(図面2階!E18=\"\",\"\",図面2階!E18)","v":""},{"$f":"IF(図面2階!F18=\"\",\"\",図面2階!F18)","v":""},{"$f":"IF(図面2階!G18=\"\",\"\",図面2階!G18)","v":""},{"$f":"IF(図面2階!H18=\"\",\"\",図面2階!H18)","v":""},{"$f":"IF(図面2階!I18=\"\",\"\",図面2階!I18)","v":""},{"$f":"IF(図面2階!J18=\"\",\"\",図面2階!J18)","v":""},{"$f":"IF(図面2階!K18=\"\",\"\",図面2階!K18)","v":""},{"$f":"IF(図面2階!L18=\"\",\"\",図面2階!L18)","v":""},{"$f":"IF(図面2階!M18=\"\",\"\",図面2階!M18)","v":""},{"$f":"IF(図面2階!N18=\"\",\"\",図面2階!N18)","v":""},{"$f":"IF(図面2階!O18=\"\",\"\",図面2階!O18)","v":""},{"$f":"IF(図面2階!P18=\"\",\"\",図面2階!P18)","v":""},{"$f":"IF(図面2階!Q18=\"\",\"\",図面2階!Q18)","v":""},{"$f":"IF(図面2階!R18=\"\",\"\",図面2階!R18)","v":""},{"$f":"IF(図面2階!S18=\"\",\"\",図面2階!S18)","v":""},{"$f":"IF(図面2階!T18=\"\",\"\",図面2階!T18)","v":""},{"$f":"IF(図面2階!U18=\"\",\"\",図面2階!U18)","v":""},{"$f":"IF(図面2階!V18=\"\",\"\",図面2階!V18)","v":""},{"$f":"IF(図面2階!W18=\"\",\"\",図面2階!W18)","v":""},{"$f":"IF(図面2階!X18=\"\",\"\",図面2階!X18)","v":""},{"$f":"IF(図面2階!Y18=\"\",\"\",図面2階!Y18)","v":""},{"$f":"IF(図面2階!Z18=\"\",\"\",図面2階!Z18)","v":""}]
[null,null,{"$f":"図面!B19","v":910},{"$f":"IF(図面2階!D19=\"\",\"\",図面2階!D19)","v":""},{"$f":"IF(図面2階!E19=\"\",\"\",図面2階!E19)","v":""},{"$f":"IF(図面2階!F19=\"\",\"\",図面2階!F19)","v":""},{"$f":"IF(図面2階!G19=\"\",\"\",図面2階!G19)","v":""},{"$f":"IF(図面2階!H19=\"\",\"\",図面2階!H19)","v":""},{"$f":"IF(図面2階!I19=\"\",\"\",図面2階!I19)","v":""},{"$f":"IF(図面2階!J19=\"\",\"\",図面2階!J19)","v":""},{"$f":"IF(図面2階!K19=\"\",\"\",図面2階!K19)","v":""},{"$f":"IF(図面2階!L19=\"\",\"\",図面2階!L19)","v":""},{"$f":"IF(図面2階!M19=\"\",\"\",図面2階!M19)","v":""},{"$f":"IF(図面2階!N19=\"\",\"\",図面2階!N19)","v":""},{"$f":"IF(図面2階!O19=\"\",\"\",図面2階!O19)","v":""},{"$f":"IF(図面2階!P19=\"\",\"\",図面2階!P19)","v":""},{"$f":"IF(図面2階!Q19=\"\",\"\",図面2階!Q19)","v":""},{"$f":"IF(図面2階!R19=\"\",\"\",図面2階!R19)","v":""},{"$f":"IF(図面2階!S19=\"\",\"\",図面2階!S19)","v":""},{"$f":"IF(図面2階!T19=\"\",\"\",図面2階!T19)","v":""},{"$f":"IF(図面2階!U19=\"\",\"\",図面2階!U19)","v":""},{"$f":"IF(図面2階!V19=\"\",\"\",図面2階!V19)","v":""},{"$f":"IF(図面2階!W19=\"\",\"\",図面2階!W19)","v":""},{"$f":"IF(図面2階!X19=\"\",\"\",図面2階!X19)","v":""},{"$f":"IF(図面2階!Y19=\"\",\"\",図面2階!Y19)","v":""},{"$f":"IF(図面2階!Z19=\"\",\"\",図面2階!Z19)","v":""},null,"(下)","分割面積","係数","壁量","判定"]
[null,null,{"$f":"図面!B20","v":910},{"$f":"IF(図面2階!D20=\"\",\"\",図面2階!D20)","v":""},{"$f":"IF(図面2階!E20=\"\",\"\",図面2階!E20)","v":""},{"$f":"IF(図面2階!F20=\"\",\"\",図面2階!F20)","v":""},{"$f":"IF(図面2階!G20=\"\",\"\",図面2階!G20)","v":""},{"$f":"IF(図面2階!H20=\"\",\"\",図面2階!H20)","v":""},{"$f":"IF(図面2階!I20=\"\",\"\",図面2階!I20)","v":""},{"$f":"IF(図面2階!J20=\"\",\"\",図面2階!J20)","v":""},{"$f":"IF(図面2階!K20=\"\",\"\",図面2階!K20)","v":""},{"$f":"IF(図面2階!L20=\"\",\"\",図面2階!L20)","v":""},{"$f":"IF(図面2階!M20=\"\",\"\",図面2階!M20)","v":""},{"$f":"IF(図面2階!N20=\"\",\"\",図面2階!N20)","v":""},{"$f":"IF(図面2階!O20=\"\",\"\",図面2階!O20)","v":""},{"$f":"IF(図面2階!P20=\"\",\"\",図面2階!P20)","v":""},{"$f":"IF(図面2階!Q20=\"\",\"\",図面2階!Q20)","v":""},{"$f":"IF(図面2階!R20=\"\",\"\",図面2階!R20)","v":""},{"$f":"IF(図面2階!S20=\"\",\"\",図面2階!S20)","v":""},{"$f":"IF(図面2階!T20=\"\",\"\",図面2階!T20)","v":""},{"$f":"IF(図面2階!U20=\"\",\"\",図面2階!U20)","v":""},{"$f":"IF(図面2階!V20=\"\",\"\",図面2階!V20)","v":""},{"$f":"IF(図面2階!W20=\"\",\"\",図面2階!W20)","v":""},{"$f":"IF(図面2階!X20=\"\",\"\",図面2階!X20)","v":""},{"$f":"IF(図面2階!Y20=\"\",\"\",図面2階!Y20)","v":""},{"$f":"IF(図面2階!Z20=\"\",\"\",図面2階!Z20)","v":""},null,"必要壁量",{"$f":"面積計算2階!AL21","v":0},{"$f":"図面2階!$AO$21","v":21},{"$f":"(AC20*AD20)/100","v":0}]
[null,null,null,null,null,null,null,null,null,null,null,null,null,null,null,null,null,null,null,null,null,null,null,null,null,null,null,"存在壁量",null,null,{"$f":"壁量計算2階!AW21","v":0}]
[null,null,null,null,null,null,null,null,null,null,null,null,null,null,null,null,null,null,null,null,null,null,null,null,null,null,null,"壁量充足率",null,null,{"$f":"IFERROR(AE21/AE20,\"\")","v":""},{"$f":"IF(AE22=\"\",\"\",IF(AE21/AE20>1,(\"OK\"),(\"NG\")))","v":""},"存在壁量/必要壁量>1"]
[]
[null,null,null,null,null,null,null,null,null,null,null,null,null,null,null,null,null,null,null,null,null,null,null,null,null,null,null,"(左)","分割面積","係数","壁量","判定"]
[null,null,null,null,null,null,null,null,null,null,null,null,null,null,null,null,null,null,null,null,null,null,null,null,null,null,null,"必要壁量",{"$f":"面積計算2階!AA31","v":0},{"$f":"図面2階!$AO$21","v":21},{"$f":"(AC25*AD25)/100","v":0}]
[null,null,null,null,null,null,null,null,null,null,null,null,null,null,null,null,null,null,null,null,null,null,null,null,null,null,null,"存在壁量",null,null,{"$f":"壁量計算2階!AA40","v":0}]
[null,null,null,null,null,null,null,null,null,null,null,null,null,null,null,null,null,null,null,null,null,null,null,null,null,null,null,"壁量充足率",null,null,{"$f":"IFERROR(AE26/AE25,\"\")","v":""},{"$f":"IF(AE27=\"\",\"\",IF(AE26/AE25>1,(\"OK\"),(\"NG\")))","v":""},"存在壁量/必要壁量>1"]
[]
[null,null,null,null,null,null,null,null,null,null,null,null,null,null,null,null,null,null,null,null,null,null,null,null,null,null,null,"(右)","分割面積","係数","壁量","判定"]
[null,null,null,null,null,null,null,null,null,null,null,null,null,null,null,null,null,null,null,null,null,null,null,null,null,null,null,"必要壁量",{"$f":"面積計算2階!AA32","v":0},{"$f":"図面2階!$AO$21","v":21},{"$f":"(AC30*AD30)/100","v":0}]
[null,null,null,null,null,null,null,null,null,null,null,null,null,null,null,null,null,null,null,null,null,null,null,null,null,null,null,"存在壁量",null,null,{"$f":"壁量計算2階!AA43","v":0}]
[null,null,null,null,null,null,null,null,null,null,null,null,null,null,null,null,null,null,null,null,null,null,null,null,null,null,null,"壁量充足率",null,null,{"$f":"IFERROR(AE31/AE30,\"\")","v":""},{"$f":"IF(AE32=\"\",\"\",IF(AE31/AE30>1,(\"OK\"),(\"NG\")))","v":""},"存在壁量/必要壁量>1"]
[]
[null,null,null,null,null,null,null,null,null,null,null,null,null,null,null,null,null,null,null,null,null,null,null,null,null,null,null,"上下壁率比"]
[null,null,null,null,null,null,null,null,null,null,null,null,null,null,null,null,null,null,null,null,null,null,null,null,null,null,null,"小の値","大の値","壁率比","基準","判定"]
[null,null,null,null,null,null,null,null,null,null,null,null,null,null,null,null,null,null,null,null,null,null,null,null,null,null,null,{"$f":"MINA(AE17,AE22)","v":0},{"$f":"MAX(AE17,AE22)","v":0},{"$f":"IF(AB36=0,\"\",AB36/AC36)","v":""},"≧0.5",{"$f":"IF(AD36=\"\",\"\",IF(AD36>=0.5,(\"OK\"),(\"NG\")))","v":""}]
[null,null,null,null,null,null,null,null,null,null,null,null,null,null,null,null,null,null,null,null,null,null,null,null,null,null,null,null,null,null,null,{"$f":"IF(AD36=\"\",\"\",IF(AND(AE17>=1,AE22>=1),\"計算不要\",AF36))","v":""},"上下どちらも壁量充足率が>1のときは計算不要"]
[null,null,null,null,null,null,null,null,null,null,null,null,null,null,null,null,null,null,null,null,null,null,null,null,null,null,null,"左右壁率比"]
[null,null,null,null,null,null,null,null,null,null,null,null,null,null,null,null,null,null,null,null,null,null,null,null,null,null,null,"小の値","大の値","壁率比","基準","判定"]
[null,null,null,null,null,null,null,null,null,null,null,null,null,null,null,null,null,null,null,null,null,null,null,null,null,null,null,{"$f":"MINA(AE27,AE32)","v":0},{"$f":"MAX(AE27,AE32)","v":0},{"$f":"IF(AB40=0,\"\",AB40/AC40)","v":""},"≧0.5",{"$f":"IF(AD40=\"\",\"\",IF(AD40>=0.5,(\"OK\"),(\"NG\")))","v":""}]
[null,null,null,null,null,null,null,null,null,null,null,null,null,null,null,null,null,null,null,null,null,null,null,null,null,null,null,null,null,null,null,{"$f":"IF(AD40=\"\",\"\",IF(AND(AE27>=1,AE32>=1),\"計算不要\",AF40))","v":""},"左右どちらも壁量充足率が>1のときは計算不要"]

{"sheet":"N値（桁行）","index":4,"n_rows":41,"n_cols":40,"rows_kept":41,"cut":false,"hidden":false,"merged":[[16,40,16,44],[16,50,16,51],[17,50,17,51],[15,33,15,39],[15,41,15,47],[15,48,15,51],[8,2,12,2],[26,2,28,2],[26,26,26,29],[27,26,27,29],[28,26,28,29],[17,26,17,29],[18,26,18,29],[19,26,19,29],[20,26,20,29],[24,26,24,29],[36,6,36,12],[37,6,37,12],[39,13,40,13],[39,16,40,16],[36,16,37,16],[39,14,40,15],[40,6,40,12],[39,6,39,12],[36,13,37,13],[39,1,39,5],[40,1,40,5],[36,1,36,5],[37,1,37,5],[15,1,17,1],[26,1,28,1],[15,2,17,2],[24,1,24,2],[23,1,23,2],[32,1,32,2],[33,1,33,2],[34,1,34,2],[2,32,8,32],[2,34,2,37],[3,34,3,37],[4,34,4,37],[5,34,5,37],[6,34,6,37],[7,34,7,37],[8,34,8,37],[2,30,3,30],[5,30,6,30],[36,14,37,15],[36,17,37,18],[31,26,31,29],[36,20,37,21],[2,26,2,29],[3,26,3,29],[15,26,15,29],[16,26,16,29],[29,26,29,29],[5,26,5,29],[6,26,6,29],[40,17,40,26],[39,31,40,32],[39,28,40,29],[26,30,34,30],[21,26,21,29],[15,30,21,30],[16,32,16,36],[23,26,23,29],[30,26,30,29],[34,26,34,29],[32,26,32,29],[39,27,40,27],[33,26,33,29],[39,17,39,23],[39,25,39,26]]}
[]
[]
[null,null,7,null,null,null,null,null,null,"↓え","↓え",null,null,"↓え",null,null,"↓え",null,null,null,null,null,null,null,null,null,"↓計算軸",null,null,null,"２階",null,"耐力壁","入力","耐力壁の種類",null,null,null,"記号","倍率"]
[null,null,8,null,null,null,null,null,"→え",null,null,null,null,"←い",null,null,null,"←え",null,null,null,null,null,null,null,null,"↑計算軸",null,null,null,null,null,null,"あ","筋カイ45×90(右上)",null,null,null,"右上",2]
[null,null,null,null,null,null,null,null,null,null,null,null,null,null,null,null,null,null,null,null,null,null,null,null,null,null,null,null,null,null,null,null,null,"い","筋カイ45×90(左上)",null,null,null,"左上",2]
[null,null,7,null,null,null,null,null,null,"↓え",null,null,"↓え",null,null,null,"↓え",null,"↓え",null,null,null,null,null,null,null,"↓計算軸",null,null,null,"１階",null,null,"う","筋カイ45×90(タスキ)",null,null,null,"タスキ",4]
[null,null,8,null,null,null,null,null,"→え",null,null,null,null,"←い",null,"｀柱",null,"←い",null,"←え",null,null,null,null,null,null,"↑計算軸",null,null,null,null,null,null,"え","耐力面材",null,null,null,"面材",2.5]
[null,null,null,null,null,null,null,null,null,null,null,null,null,null,null,null,null,null,null,null,null,null,null,null,null," ",null,null,null,null,null,null,null,"お","筋45×90(右上)+面材",null,null,null,"右面",4.5]
[null,null,"軸組表示","D","E","F","G","H","I","J","K","L","M","N","O","P","Q","R","S","T","U","V","W","X","Y","Z",null,null,null,null,null,null,null,"か","筋45×90(左上)+面材",null,null,null,"左面",4.5]
[null,null,null,{"$f":"D22","v":" "}," "," "," "," "," ",{"$f":"J22","v":"ほ"},{"$f":"K22","v":"い"},"ろ"," ","ろ","ろ"," ","ろ","ほ"," "," "," "," "," "," "," "," "]
[null,null,null," "," "," "," "," "," ","面材","面材","←柱","無","面材","←柱","無","面材","←柱"," "," "," "," "," "," "," "," ",null,null,null,null,"2階"]
[null,null,null," "," "," "," "," "," ","面材","←柱","無","面材","←柱","無","←柱","面材","←柱","面材","←柱"," "," "," "," "," "," ",null,null,null,null,"１階"]
[null,null,null,{"$f":"桁行軸組!D69","v":" "},{"$f":"E35","v":" "}," "," "," "," ",{"$f":"J35","v":"ち"},{"$f":"K35","v":"ほ"}," ","は","は"," ","ろ","は","へ","ろ","ほ"," "," "," "," "," "," "]
[null,null,null,null,"←","←","←","←","←","←","←","←","←","←","←","←","←","←","←","←","←","←","←","←","←","←"]
[null,"式2","式1",null,"D E","E F","F G","G H","H I","I J","J K","K L","L M","M N","N O","O P","P Q","Q R","R S","S T","T U","U V","V W","W X","X Y","Y Z"]
[null,"A2","A1",{"$f":"IF(D21=\"\",\"\",桁行軸組!D20)","v":""},{"$f":"IF(E21=\"\",\"\",桁行軸組!E20)","v":""},{"$f":"IF(F21=\"\",\"\",桁行軸組!F20)","v":""},{"$f":"IF(G21=\"\",\"\",桁行軸組!G20)","v":""},{"$f":"IF(H21=\"\",\"\",桁行軸組!H20)","v":""},{"$f":"IF(I21=\"\",\"\",桁行軸組!I20)","v":""},{"$f":"IF(J21=\"\",\"\",桁行軸組!J20)","v":2.5},{"$f":"IF(K21=\"\",\"\",桁行軸組!K20)","v":2.5},{"$f":"IF(L21=\"\",\"\",桁行軸組!L20)","v":2.5},{"$f":"IF(M21=\"\",\"\",桁行軸組!M20)","v":""},{"$f":"IF(N21=\"\",\"\",桁行軸組!N20)","v":2.5},{"$f":"IF(O21=\"\",\"\",桁行軸組!O20)","v":2.5},{"$f":"IF(P21=\"\",\"\",桁行軸組!P20)","v":""},{"$f":"IF(Q21=\"\",\"\",桁行軸組!Q20)","v":2.5},{"$f":"IF(R21=\"\",\"\",桁行軸組!R20)","v":2.5},{"$f":"IF(S21=\"\",\"\",桁行軸組!S20)","v":""},{"$f":"IF(T21=\"\",\"\",桁行軸組!T20)","v":""},{"$f":"IF(U21=\"\",\"\",桁行軸組!U20)","v":""},{"$f":"IF(V21=\"\",\"\",桁行軸組!V20)","v":""},{"$f":"IF(W21=\"\",\"\",桁行軸組!W20)","v":""},{"$f":"IF(X21=\"\",\"\",桁行軸組!X20)","v":""},{"$f":"IF(Y21=\"\",\"\",桁行軸組!Y20)","v":""},{"$f":"IF(Z21=\"\",\"\",桁行軸組!Z20)","v":""},"左右倍率大",null,null,null,"2階"]
[null,null,null,{"$f":"IF(D21=\"\",\"\",桁行軸組!D21)","v":""},{"$f":"IF(E21=\"\",\"\",桁行軸組!E21)","v":""},{"$f":"IF(F21=\"\",\"\",桁行軸組!F21)","v":""},{"$f":"IF(G21=\"\",\"\",桁行軸組!G21)","v":""},{"$f":"IF(H21=\"\",\"\",桁行軸組!H21)","v":""},{"$f":"IF(I21=\"\",\"\",桁行軸組!I21)","v":""},{"$f":"IF(J21=\"\",\"\",桁行軸組!J21)","v":0},{"$f":"IF(K21=\"\",\"\",桁行軸組!K21)","v":2.5},{"$f":"IF(L21=\"\",\"\",桁行軸組!L21)","v":0},{"$f":"IF(M21=\"\",\"\",桁行軸組!M21)","v":""},{"$f":"IF(N21=\"\",\"\",桁行軸組!N21)","v":0},{"$f":"IF(O21=\"\",\"\",桁行軸組!O21)","v":0},{"$f":"IF(P21=\"\",\"\",桁行軸組!P21)","v":""},{"$f":"IF(Q21=\"\",\"\",桁行軸組!Q21)","v":0},{"$f":"IF(R21=\"\",\"\",桁行軸組!R21)","v":0},{"$f":"IF(S21=\"\",\"\",桁行軸組!S21)","v":""},{"$f":"IF(T21=\"\",\"\",桁行軸組!T21)","v":""},{"$f":"IF(U21=\"\",\"\",桁行軸組!U21)","v":""},{"$f":"IF(V21=\"\",\"\",桁行軸組!V21)","v":""},{"$f":"IF(W21=\"\",\"\",桁行軸組!W21)","v":""},{"$f":"IF(X21=\"\",\"\",桁行軸組!X21)","v":""},{"$f":"IF(Y21=\"\",\"\",桁行軸組!Y21)","v":""},{"$f":"IF(Z21=\"\",\"\",桁行軸組!Z21)","v":""},"左右倍率小"]
[null,null,null,{"$f":"IF(D21=\"\",\"\",桁行軸組!D22)","v":""},{"$f":"IF(E21=\"\",\"\",桁行軸組!E22)","v":""},{"$f":"IF(F21=\"\",\"\",桁行軸組!F22)","v":""},{"$f":"IF(G21=\"\",\"\",桁行軸組!G22)","v":""},{"$f":"IF(H21=\"\",\"\",桁行軸組!H22)","v":""},{"$f":"IF(I21=\"\",\"\",桁行軸組!I22)","v":""},{"$f":"IF(J21=\"\",\"\",桁行軸組!J22)","v":0},{"$f":"IF(K21=\"\",\"\",桁行軸組!K22)","v":0},{"$f":"IF(L21=\"\",\"\",桁行軸組!L22)","v":0},{"$f":"IF(M21=\"\",\"\",桁行軸組!M22)","v":""},{"$f":"IF(N21=\"\",\"\",桁行軸組!N22)","v":0},{"$f":"IF(O21=\"\",\"\",桁行軸組!O22)","v":0},{"$f":"IF(P21=\"\",\"\",桁行軸組!P22)","v":""},{"$f":"IF(Q21=\"\",\"\",桁行軸組!Q22)","v":0},{"$f":"IF(R21=\"\",\"\",桁行軸組!R22)","v":0},{"$f":"IF(S21=\"\",\"\",桁行軸組!S22)","v":""},{"$f":"IF(T21=\"\",\"\",桁行軸組!T22)","v":""},{"$f":"IF(U21=\"\",\"\",桁行軸組!U22)","v":""},{"$f":"IF(V21=\"\",\"\",桁行軸組!V22)","v":""},{"$f":"IF(W21=\"\",\"\",桁行軸組!W22)","v":""},{"$f":"IF(X21=\"\",\"\",桁行軸組!X22)","v":""},{"$f":"IF(Y21=\"\",\"\",桁行軸組!Y22)","v":""},{"$f":"IF(Z21=\"\",\"\",桁行軸組!Z22)","v":""},"補正値"]
[null,"B2","B1",{"$f":"桁行軸組!D23","v":""},{"$f":"桁行軸組!E23","v":""},{"$f":"桁行軸組!F23","v":""},{"$f":"桁行軸組!G23","v":""},{"$f":"桁行軸組!H23","v":""},{"$f":"桁行軸組!I23","v":""},{"$f":"桁行軸組!J23","v":0.8},{"$f":"桁行軸組!K23","v":0.5},{"$f":"桁行軸組!L23","v":0.5},{"$f":"桁行軸組!M23","v":""},{"$f":"桁行軸組!N23","v":0.5},{"$f":"桁行軸組!O23","v":0.5},{"$f":"桁行軸組!P23","v":""},{"$f":"桁行軸組!Q23","v":0.5},{"$f":"桁行軸組!R23","v":0.8},{"$f":"桁行軸組!S23","v":""},{"$f":"桁行軸組!T23","v":""},{"$f":"桁行軸組!U23","v":""},{"$f":"桁行軸組!V23","v":""},{"$f":"桁行軸組!W23","v":""},{"$f":"桁行軸組!X23","v":""},{"$f":"桁行軸組!Y23","v":""},{"$f":"桁行軸組!Z23","v":""},"出隅(0.8)他(0.5)"]
[null,"↓","L",{"$f":"桁行軸組!D24","v":""},{"$f":"桁行軸組!E24","v":""},{"$f":"桁行軸組!F24","v":""},{"$f":"桁行軸組!G24","v":""},{"$f":"桁行軸組!H24","v":""},{"$f":"桁行軸組!I24","v":""},{"$f":"桁行軸組!J24","v":0.4},{"$f":"桁行軸組!K24","v":0.6},{"$f":"桁行軸組!L24","v":0.6},{"$f":"桁行軸組!M24","v":""},{"$f":"桁行軸組!N24","v":0.6},{"$f":"桁行軸組!O24","v":0.6},{"$f":"桁行軸組!P24","v":""},{"$f":"桁行軸組!Q24","v":0.6},{"$f":"桁行軸組!R24","v":0.4},{"$f":"桁行軸組!S24","v":""},{"$f":"桁行軸組!T24","v":""},{"$f":"桁行軸組!U24","v":""},{"$f":"桁行軸組!V24","v":""},{"$f":"桁行軸組!W24","v":""},{"$f":"桁行軸組!X24","v":""},{"$f":"桁行軸組!Y24","v":""},{"$f":"桁行軸組!Z24","v":""},"出隅(0.4)他(0.6)"]
[null,"↓","N",{"$f":"桁行軸組!D25","v":""},{"$f":"桁行軸組!E25","v":""},{"$f":"桁行軸組!F25","v":""},{"$f":"桁行軸組!G25","v":""},{"$f":"桁行軸組!H25","v":""},{"$f":"桁行軸組!I25","v":""},{"$f":"桁行軸組!J25","v":1.6},{"$f":"桁行軸組!K25","v":-0.6},{"$f":"桁行軸組!L25","v":0.65},{"$f":"桁行軸組!M25","v":""},{"$f":"桁行軸組!N25","v":0.65},{"$f":"桁行軸組!O25","v":0.65},{"$f":"桁行軸組!P25","v":""},{"$f":"桁行軸組!Q25","v":0.65},{"$f":"桁行軸組!R25","v":1.6},{"$f":"桁行軸組!S25","v":""},{"$f":"桁行軸組!T25","v":""},{"$f":"桁行軸組!U25","v":""},{"$f":"桁行軸組!V25","v":""},{"$f":"桁行軸組!W25","v":""},{"$f":"桁行軸組!X25","v":""},{"$f":"桁行軸組!Y25","v":""},{"$f":"桁行軸組!Z25","v":""},"2階N値"]
[null,"↓","金物",{"$f":"桁行軸組!D26","v":" "},{"$f":"桁行軸組!E26","v":" "},{"$f":"桁行軸組!F26","v":" "},{"$f":"桁行軸組!G26","v":" "},{"$f":"桁行軸組!H26","v":" "},{"$f":"桁行軸組!I26","v":" "},{"$f":"桁行軸組!J26","v":"ほ"},{"$f":"桁行軸組!K26","v":"い"},{"$f":"桁行軸組!L26","v":"ろ"},{"$f":"桁行軸組!M26","v":" "},{"$f":"桁行軸組!N26","v":"ろ"},{"$f":"桁行軸組!O26","v":"ろ"},{"$f":"桁行軸組!P26","v":" "},{"$f":"桁行軸組!Q26","v":"ろ"},{"$f":"桁行軸組!R26","v":"ほ"},{"$f":"桁行軸組!S26","v":" "},{"$f":"桁行軸組!T26","v":" "},{"$f":"桁行軸組!U26","v":" "},{"$f":"桁行軸組!V26","v":" "},{"$f":"桁行軸組!W26","v":" "},{"$f":"桁行軸組!X26","v":" "},{"$f":"桁行軸組!Y26","v":" "},{"$f":"桁行軸組!Z26","v":" "},"必要耐力"]
[null,"↓"]
[null,"A2×B2",null,{"$f":"桁行軸組!D56","v":""},{"$f":"桁行軸組!E56","v":""},{"$f":"桁行軸組!F56","v":""},{"$f":"桁行軸組!G56","v":""},{"$f":"桁行軸組!H56","v":""},{"$f":"桁行軸組!I56","v":""},{"$f":"桁行軸組!J56","v":2},{"$f":"桁行軸組!K56","v":0},{"$f":"桁行軸組!L56","v":1.25},{"$f":"桁行軸組!M56","v":""},{"$f":"桁行軸組!N56","v":1.25},{"$f":"桁行軸組!O56","v":1.25},{"$f":"桁行軸組!P56","v":""},{"$f":"桁行軸組!Q56","v":1.25},{"$f":"桁行軸組!R56","v":2},{"$f":"桁行軸組!S56","v":""},{"$f":"桁行軸組!T56","v":""},{"$f":"桁行軸組!U56","v":""},{"$f":"桁行軸組!V56","v":""},{"$f":"桁行軸組!W56","v":""},{"$f":"桁行軸組!X56","v":""},{"$f":"桁行軸組!Y56","v":""},{"$f":"桁行軸組!Z56","v":""},"通常値"]
[null,"A2×B2",null,{"$f":"IF(桁行軸組!D57=0,\" \",桁行軸組!D57)","v":""},{"$f":"IF(桁行軸組!E57=0,\" \",桁行軸組!E57)","v":""},{"$f":"IF(桁行軸組!F57=0,\" \",桁行軸組!F57)","v":""},{"$f":"IF(桁行軸組!G57=0,\" \",桁行軸組!G57)","v":""},{"$f":"IF(桁行軸組!H57=0,\" \",桁行軸組!H57)","v":""},{"$f":"IF(桁行軸組!I57=0,\" \",桁行軸組!I57)","v":""},{"$f":"IF(桁行軸組!J57=0,\" \",桁行軸組!J57)","v":" "},{"$f":"IF(桁行軸組!K57=0,\" \",桁行軸組!K57)","v":1.25},{"$f":"IF(桁行軸組!L57=0,\" \",桁行軸組!L57)","v":" "},{"$f":"IF(桁行軸組!M57=0,\" \",桁行軸組!M57)","v":1.25},{"$f":"IF(桁行軸組!N57=0,\" \",桁行軸組!N57)","v":1.25},{"$f":"IF(桁行軸組!O57=0,\" \",桁行軸組!O57)","v":" "},{"$f":"IF(桁行軸組!P57=0,\" \",桁行軸組!P57)","v":1.25},{"$f":"IF(桁行軸組!Q57=0,\" \",桁行軸組!Q57)","v":" "},{"$f":"IF(桁行軸組!R57=0,\" \",桁行軸組!R57)","v":" "},{"$f":"IF(桁行軸組!S57=0,\" \",桁行軸組!S57)","v":" "},{"$f":"IF(桁行軸組!T57=0,\" \",桁行軸組!T57)","v":" "},{"$f":"IF(桁行軸組!U57=0,\" \",桁行軸組!U57)","v":""},{"$f":"IF(桁行軸組!V57=0,\" \",桁行軸組!V57)","v":""},{"$f":"IF(桁行軸組!W57=0,\" \",桁行軸組!W57)","v":""},{"$f":"IF(桁行軸組!X57=0,\" \",桁行軸組!X57)","v":""},{"$f":"IF(桁行軸組!Y57=0,\" \",桁行軸組!Y57)","v":""},{"$f":"IF(桁行軸組!Z57=0,\" \",桁行軸組!Z57)","v":""},"柱ずれ補正"]
[null,"↓","式1"]
[null,"A1","A1",{"$f":"IF(D33=\" \",\" \",桁行軸組!D59)","v":" "},{"$f":"IF(E33=\" \",\" \",桁行軸組!E59)","v":" "},{"$f":"IF(F33=\" \",\" \",桁行軸組!F59)","v":" "},{"$f":"IF(G33=\" \",\" \",桁行軸組!G59)","v":" "},{"$f":"IF(H33=\" \",\" \",桁行軸組!H59)","v":" "},{"$f":"IF(I33=\" \",\" \",桁行軸組!I59)","v":" "},{"$f":"IF(J33=\" \",\" \",桁行軸組!J59)","v":2.5},{"$f":"IF(K33=\" \",\" \",桁行軸組!K59)","v":2.5},{"$f":"IF(L33=\" \",\" \",桁行軸組!L59)","v":" "},{"$f":"IF(M33=\" \",\" \",桁行軸組!M59)","v":2.5},{"$f":"IF(N33=\" \",\" \",桁行軸組!N59)","v":2.5},{"$f":"IF(O33=\" \",\" \",桁行軸組!O59)","v":" "},{"$f":"IF(P33=\" \",\" \",桁行軸組!P59)","v":0},{"$f":"IF(Q33=\" \",\" \",桁行軸組!Q59)","v":2.5},{"$f":"IF(R33=\" \",\" \",桁行軸組!R59)","v":2.5},{"$f":"IF(S33=\" \",\" \",桁行軸組!S59)","v":2.5},{"$f":"IF(T33=\" \",\" \",桁行軸組!T59)","v":2.5},{"$f":"IF(U33=\" \",\" \",桁行軸組!U59)","v":" "},{"$f":"IF(V33=\" \",\" \",桁行軸組!V59)","v":" "},{"$f":"IF(W33=\" \",\" \",桁行軸組!W59)","v":" "},{"$f":"IF(X33=\" \",\" \",桁行軸組!X59)","v":" "},{"$f":"IF(Y33=\" \",\" \",桁行軸組!Y59)","v":" "},{"$f":"IF(Z33=\" \",\" \",桁行軸組!Z59)","v":" "},"左右倍率大",null,null,null,"１階"]
[null,null,null,{"$f":"IF(D33=\" \",\" \",桁行軸組!D60)","v":" "},{"$f":"IF(E33=\" \",\" \",桁行軸組!E60)","v":" "},{"$f":"IF(F33=\" \",\" \",桁行軸組!F60)","v":" "},{"$f":"IF(G33=\" \",\" \",桁行軸組!G60)","v":" "},{"$f":"IF(H33=\" \",\" \",桁行軸組!H60)","v":" "},{"$f":"IF(I33=\" \",\" \",桁行軸組!I60)","v":" "},{"$f":"IF(J33=\" \",\" \",桁行軸組!J60)","v":0},{"$f":"IF(K33=\" \",\" \",桁行軸組!K60)","v":0},{"$f":"IF(L33=\" \",\" \",桁行軸組!L60)","v":" "},{"$f":"IF(M33=\" \",\" \",桁行軸組!M60)","v":0},{"$f":"IF(N33=\" \",\" \",桁行軸組!N60)","v":0},{"$f":"IF(O33=\" \",\" \",桁行軸組!O60)","v":" "},{"$f":"IF(P33=\" \",\" \",桁行軸組!P60)","v":0},{"$f":"IF(Q33=\" \",\" \",桁行軸組!Q60)","v":0},{"$f":"IF(R33=\" \",\" \",桁行軸組!R60)","v":0},{"$f":"IF(S33=\" \",\" \",桁行軸組!S60)","v":0},{"$f":"IF(T33=\" \",\" \",桁行軸組!T60)","v":0},{"$f":"IF(U33=\" \",\" \",桁行軸組!U60)","v":" "},{"$f":"IF(V33=\" \",\" \",桁行軸組!V60)","v":" "},{"$f":"IF(W33=\" \",\" \",桁行軸組!W60)","v":" "},{"$f":"IF(X33=\" \",\" \",桁行軸組!X60)","v":" "},{"$f":"IF(Y33=\" \",\" \",桁行軸組!Y60)","v":" "},{"$f":"IF(Z33=\" \",\" \",桁行軸組!Z60)","v":" "},"左右倍率小"]
[null,null,null,{"$f":"IF(D33=\" \",\" \",桁行軸組!D61)","v":" "},{"$f":"IF(E33=\" \",\" \",桁行軸組!E61)","v":" "},{"$f":"IF(F33=\" \",\" \",桁行軸組!F61)","v":" "},{"$f":"IF(G33=\" \",\" \",桁行軸組!G61)","v":" "},{"$f":"IF(H33=\" \",\" \",桁行軸組!H61)","v":" "},{"$f":"IF(I33=\" \",\" \",桁行軸組!I61)","v":" "},{"$f":"IF(J33=\" \",\" \",桁行軸組!J61)","v":0},{"$f":"IF(K33=\" \",\" \",桁行軸組!K61)","v":0},{"$f":"IF(L33=\" \",\" \",桁行軸組!L61)","v":" "},{"$f":"IF(M33=\" \",\" \",桁行軸組!M61)","v":0},{"$f":"IF(N33=\" \",\" \",桁行軸組!N61)","v":0},{"$f":"IF(O33=\" \",\" \",桁行軸組!O61)","v":" "},{"$f":"IF(P33=\" \",\" \",桁行軸組!P61)","v":0},{"$f":"IF(Q33=\" \",\" \",桁行軸組!Q61)","v":0},{"$f":"IF(R33=\" \",\" \",桁行軸組!R61)","v":0},{"$f":"IF(S33=\" \",\" \",桁行軸組!S61)","v":0},{"$f":"IF(T33=\" \",\" \",桁行軸組!T61)","v":0},{"$f":"IF(U33=\" \",\" \",桁行軸組!U61)","v":" "},{"$f":"IF(V33=\" \",\" \",桁行軸組!V61)","v":" "},{"$f":"IF(W33=\" \",\" \",桁行軸組!W61)","v":" "},{"$f":"IF(X33=\" \",\" \",桁行軸組!X61)","v":" "},{"$f":"IF(Y33=\" \",\" \",桁行軸組!Y61)","v":" "},{"$f":"IF(Z33=\" \",\" \",桁行軸組!Z61)","v":" "},"補正値"]
[null,"B1","B1",{"$f":"IF(D33=\" \",\" \",桁行軸組!D62)","v":" "},{"$f":"IF(E33=\" \",\" \",桁行軸組!E62)","v":" "},{"$f":"IF(F33=\" \",\" \",桁行軸組!F62)","v":" "},{"$f":"IF(G33=\" \",\" \",桁行軸組!G62)","v":" "},{"$f":"IF(H33=\" \",\" \",桁行軸組!H62)","v":" "},{"$f":"IF(I33=\" \",\" \",桁行軸組!I62)","v":" "},{"$f":"IF(J33=\" \",\" \",桁行軸組!J62)","v":0.8},{"$f":"IF(K33=\" \",\" \",桁行軸組!K62)","v":0.5},{"$f":"IF(L33=\" \",\" \",桁行軸組!L62)","v":" "},{"$f":"IF(M33=\" \",\" \",桁行軸組!M62)","v":0.5},{"$f":"IF(N33=\" \",\" \",桁行軸組!N62)","v":0.5},{"$f":"IF(O33=\" \",\" \",桁行軸組!O62)","v":" "},{"$f":"IF(P33=\" \",\" \",桁行軸組!P62)","v":0.5},{"$f":"IF(Q33=\" \",\" \",桁行軸組!Q62)","v":0.5},{"$f":"IF(R33=\" \",\" \",桁行軸組!R62)","v":0.5},{"$f":"IF(S33=\" \",\" \",桁行軸組!S62)","v":0.5},{"$f":"IF(T33=\" \",\" \",桁行軸組!T62)","v":0.8},{"$f":"IF(U33=\" \",\" \",桁行軸組!U62)","v":" "},{"$f":"IF(V33=\" \",\" \",桁行軸組!V62)","v":" "},{"$f":"IF(W33=\" \",\" \",桁行軸組!W62)","v":" "},{"$f":"IF(X33=\" \",\" \",桁行軸組!X62)","v":" "},{"$f":"IF(Y33=\" \",\" \",桁行軸組!Y62)","v":" "},{"$f":"IF(Z33=\" \",\" \",桁行軸組!Z62)","v":" "},"出隅(0.8)他(0.5)"]
[null,null,"L",{"$f":"IF(D33=\" \",\" \",桁行軸組!D63)","v":" "},{"$f":"IF(E33=\" \",\" \",桁行軸組!E63)","v":" "},{"$f":"IF(F33=\" \",\" \",桁行軸組!F63)","v":" "},{"$f":"IF(G33=\" \",\" \",桁行軸組!G63)","v":" "},{"$f":"IF(H33=\" \",\" \",桁行軸組!H63)","v":" "},{"$f":"IF(I33=\" \",\" \",桁行軸組!I63)","v":" "},{"$f":"IF(J33=\" \",\" \",桁行軸組!J63)","v":" "},{"$f":"IF(K33=\" \",\" \",桁行軸組!K63)","v":" "},{"$f":"IF(L33=\" \",\" \",桁行軸組!L63)","v":" "},{"$f":"IF(M33=\" \",\" \",桁行軸組!M63)","v":" "},{"$f":"IF(N33=\" \",\" \",桁行軸組!N63)","v":" "},{"$f":"IF(O33=\" \",\" \",桁行軸組!O63)","v":" "},{"$f":"IF(P33=\" \",\" \",桁行軸組!P63)","v":" "},{"$f":"IF(Q33=\" \",\" \",桁行軸組!Q63)","v":" "},{"$f":"IF(R33=\" \",\" \",桁行軸組!R63)","v":" "},{"$f":"IF(S33=\" \",\" \",桁行軸組!S63)","v":0.6},{"$f":"IF(T33=\" \",\" \",桁行軸組!T63)","v":0.4},{"$f":"IF(U33=\" \",\" \",桁行軸組!U63)","v":" "},{"$f":"IF(V33=\" \",\" \",桁行軸組!V63)","v":" "},{"$f":"IF(W33=\" \",\" \",桁行軸組!W63)","v":" "},{"$f":"IF(X33=\" \",\" \",桁行軸組!X63)","v":" "},{"$f":"IF(Y33=\" \",\" \",桁行軸組!Y63)","v":" "},{"$f":"IF(Z33=\" \",\" \",桁行軸組!Z63)","v":" "},"出隅(0.4)他(0.6)"]
[null,"L",null,{"$f":"IF(D33=\" \",\" \",桁行軸組!D64)","v":" "},{"$f":"IF(E33=\" \",\" \",桁行軸組!E64)","v":" "},{"$f":"IF(F33=\" \",\" \",桁行軸組!F64)","v":" "},{"$f":"IF(G33=\" \",\" \",桁行軸組!G64)","v":" "},{"$f":"IF(H33=\" \",\" \",桁行軸組!H64)","v":" "},{"$f":"IF(I33=\" \",\" \",桁行軸組!I64)","v":" "},{"$f":"IF(J33=\" \",\" \",桁行軸組!J64)","v":1},{"$f":"IF(K33=\" \",\" \",桁行軸組!K64)","v":1.6},{"$f":"IF(L33=\" \",\" \",桁行軸組!L64)","v":" "},{"$f":"IF(M33=\" \",\" \",桁行軸組!M64)","v":1.6},{"$f":"IF(N33=\" \",\" \",桁行軸組!N64)","v":1.6},{"$f":"IF(O33=\" \",\" \",桁行軸組!O64)","v":" "},{"$f":"IF(P33=\" \",\" \",桁行軸組!P64)","v":1.6},{"$f":"IF(Q33=\" \",\" \",桁行軸組!Q64)","v":1.6},{"$f":"IF(R33=\" \",\" \",桁行軸組!R64)","v":1.6},{"$f":"IF(S33=\" \",\" \",桁行軸組!S64)","v":" "},{"$f":"IF(T33=\" \",\" \",桁行軸組!T64)","v":" "},{"$f":"IF(U33=\" \",\" \",桁行軸組!U64)","v":" "},{"$f":"IF(V33=\" \",\" \",桁行軸組!V64)","v":" "},{"$f":"IF(W33=\" \",\" \",桁行軸組!W64)","v":" "},{"$f":"IF(X33=\" \",\" \",桁行軸組!X64)","v":" "},{"$f":"IF(Y33=\" \",\" \",桁行軸組!Y64)","v":" "},{"$f":"IF(Z33=\" \",\" \",桁行軸組!Z64)","v":" "},"出隅(1.0)他(1.6)"]
[null,"N",null,{"$f":"桁行軸組!D67","v":" "},{"$f":"桁行軸組!E67","v":" "},{"$f":"桁行軸組!F67","v":" "},{"$f":"桁行軸組!G67","v":" "},{"$f":"桁行軸組!H67","v":" "},{"$f":"桁行軸組!I67","v":" "},{"$f":"桁行軸組!J67","v":3},{"$f":"桁行軸組!K67","v":0.89999999999999991},{"$f":"桁行軸組!L67","v":" "},{"$f":"桁行軸組!M67","v":0.89999999999999991},{"$f":"桁行軸組!N67","v":0.89999999999999991},{"$f":"桁行軸組!O67","v":" "},{"$f":"桁行軸組!P67","v":-0.35000000000000009},{"$f":"桁行軸組!Q67","v":0.89999999999999991},{"$f":"桁行軸組!R67","v":1.65},{"$f":"桁行軸組!S67","v":0.65},{"$f":"桁行軸組!T67","v":1.6},{"$f":"桁行軸組!U67","v":" "},{"$f":"桁行軸組!V67","v":" "},{"$f":"桁行軸組!W67","v":" "},{"$f":"桁行軸組!X67","v":" "},{"$f":"桁行軸組!Y67","v":" "},{"$f":"桁行軸組!Z67","v":" "},"1階N値"]
[null,"N",null,{"$f":"桁行軸組!D68","v":" "},{"$f":"桁行軸組!E68","v":" "},{"$f":"桁行軸組!F68","v":" "},{"$f":"桁行軸組!G68","v":" "},{"$f":"桁行軸組!H68","v":" "},{"$f":"桁行軸組!I68","v":" "},{"$f":"桁行軸組!J68","v":3},{"$f":"桁行軸組!K68","v":1.6},{"$f":"桁行軸組!L68","v":" "},{"$f":"桁行軸組!M68","v":0.89999999999999991},{"$f":"桁行軸組!N68","v":0.89999999999999991},{"$f":"桁行軸組!O68","v":" "},{"$f":"桁行軸組!P68","v":0.65},{"$f":"桁行軸組!Q68","v":0.89999999999999991},{"$f":"桁行軸組!R68","v":1.65},{"$f":"桁行軸組!S68","v":0.65},{"$f":"桁行軸組!T68","v":1.6},{"$f":"桁行軸組!U68","v":" "},{"$f":"桁行軸組!V68","v":" "},{"$f":"桁行軸組!W68","v":" "},{"$f":"桁行軸組!X68","v":" "},{"$f":"桁行軸組!Y68","v":" "},{"$f":"桁行軸組!Z68","v":" "},"1階、2階で大のN値"]
[null,"金物",null,{"$f":"桁行軸組!D69","v":" "},{"$f":"桁行軸組!E69","v":" "},{"$f":"桁行軸組!F69","v":" "},{"$f":"桁行軸組!G69","v":" "},{"$f":"桁行軸組!H69","v":" "},{"$f":"桁行軸組!I69","v":" "},{"$f":"桁行軸組!J69","v":"ち"},{"$f":"桁行軸組!K69","v":"ほ"},{"$f":"桁行軸組!L69","v":" "},{"$f":"桁行軸組!M69","v":"は"},{"$f":"桁行軸組!N69","v":"は"},{"$f":"桁行軸組!O69","v":" "},{"$f":"桁行軸組!P69","v":"ろ"},{"$f":"桁行軸組!Q69","v":"は"},{"$f":"桁行軸組!R69","v":"へ"},{"$f":"桁行軸組!S69","v":"ろ"},{"$f":"桁行軸組!T69","v":"ほ"},{"$f":"桁行軸組!U69","v":" "},{"$f":"桁行軸組!V69","v":" "},{"$f":"桁行軸組!W69","v":" "},{"$f":"桁行軸組!X69","v":" "},{"$f":"桁行軸組!Y69","v":" "},{"$f":"桁行軸組!Z69","v":" "},"必要耐力"]
[]
[null,"計算式1",null,null,null,null,"A1",null,null,null,null,null,null," × ","B1",null," - ","L",null,"<","N"]
[null,"平家又は2階建の２階部分",null,null,null,null,"(左右倍率大-左右倍率小+補正値)",null,null,null,null,null,null,null,null,null,null,null,null," = "]
[]
[null,"計算式2",null,null,null,null,"A1",null,null,null,null,null,null," × ","B1",null,"+","A2",null,null,null,null,null,null," × ","B2",null," - ","L",null,"<","N"]
[null,"2階建の1階部分",null,null,null,null,"(左右倍率大-左右倍率小+補正値)",null,null,null,null,null,null,null,null,null,null,"A2  ×  B2(柱ずれ補正)",null,null,null,null,null,null,null,null,null,null,null,null," = "]

{"sheet":"N値（梁間）","index":5,"n_rows":25,"n_cols":69,"rows_kept":25,"cut":false,"hidden":false,"merged":[[24,2,24,3],[24,5,24,6],[24,26,24,34],[24,15,24,21],[18,38,24,38],[20,31,23,31],[20,32,23,32],[20,34,23,34],[20,21,23,21],[20,30,23,30],[20,26,23,26],[20,27,23,27],[20,28,23,28],[20,29,23,29],[24,40,24,43],[2,15,2,17],[1,26,1,28],[21,40,21,43],[22,40,22,43],[1,34,2,34],[1,23,2,23],[1,24,2,24],[1,32,2,32],[1,33,2,33],[2,26,2,28],[4,65,5,66],[4,68,5,69],[5,38,5,42],[5,43,5,49],[4,53,5,53],[4,54,4,60],[4,64,5,64],[4,38,4,42],[4,43,4,49],[4,50,5,50],[4,51,5,52],[4,62,4,63],[5,54,5,63],[2,8,2,12],[1,15,1,17],[20,20,23,20],[20,2,23,2],[20,3,23,3],[20,15,23,15],[20,16,23,16],[20,17,23,17],[20,5,23,5],[20,6,23,6],[20,18,23,18],[20,19,23,19],[6,54,6,63],[20,33,23,33],[20,23,23,23],[20,24,23,24],[23,40,23,43],[18,40,18,43],[19,40,19,43],[20,40,20,43],[1,54,2,55],[1,57,2,58],[2,38,2,42],[2,43,2,49],[1,38,1,42],[1,43,1,49],[1,53,2,53],[1,50,2,50],[1,51,2,52]]}
[]
[null,null,null,null,null,null,null,null,null,null,null,null,null,null,"式2","A2",null,null,"B2","→","→","→","→","A2\n×\nB2","A2\n×\nB2","→","A1",null,null,"B1","L",null,"N","N","金物",null,null,null,"計算式1",null,null,null,null,"A1",null,null,null,null,null,null," × ","B1",null," - ","L",null,"<","N"]
[null,null,"m","n",null,"m","n",null,"軸組表示",null,null,null,null,null,"式1","A1",null,null,"B1","L","N","金物",null,null,null,"式1","A1",null,null,"B1",null,"L",null,null,null,null,null,null,"平家又は2階建の２階部分",null,null,null,null,"(左右倍率大-左右倍率小+補正値)",null,null,null,null,null,null,null,null,null,null,null,null," = "]
[null,null,null,null,null,null,null," ",4,{"$f":"V4","v":" "}," "," ",{"$f":"AI4","v":" "},"↓","4\n5",{"$f":"IF(U4=\" \",\" \",梁間軸組!S4)","v":" "},{"$f":"IF(U4=\" \",\" \",梁間軸組!T4)","v":" "},{"$f":"IF(U4=\" \",\" \",梁間軸組!U4)","v":" "},{"$f":"IF(U4=\" \",\" \",梁間軸組!V4)","v":" "},{"$f":"IF(U4=\" \",\" \",梁間軸組!W4)","v":" "},{"$f":"IF(OR($K4=\"無\",$K4=\" \"),\" \",梁間軸組!X4)","v":" "},{"$f":"IF(OR($K4=\"無\",$K4=\" \"),\" \",梁間軸組!Y4)","v":" "},null,{"$f":"梁間軸組!BB4","v":""},{"$f":"IF(梁間軸組!BC4=0,\"\",梁間軸組!BC4)","v":""},null,{"$f":"IF(AG4=\" \",\" \",梁間軸組!BE4)","v":" "},{"$f":"IF(AG4=\" \",\" \",梁間軸組!BF4)","v":" "},{"$f":"IF(AG4=\" \",\" \",梁間軸組!BG4)","v":" "},{"$f":"IF(AG4=\" \",\" \",梁間軸組!BH4)","v":" "},{"$f":"IF(AG4=\" \",\" \",梁間軸組!BI4)","v":" "},{"$f":"IF(AG4=\" \",\" \",梁間軸組!BJ4)","v":" "},{"$f":"梁間軸組!BM4","v":" "},{"$f":"梁間軸組!BN4","v":" "},{"$f":"梁間軸組!BO4","v":" "}]
[null,null,null,null,null,null,null," ",5," "," "," "," ","↓","5\n6",{"$f":"IF(U5=\" \",\" \",梁間軸組!S5)","v":" "},{"$f":"IF(U5=\" \",\" \",梁間軸組!T5)","v":" "},{"$f":"IF(U5=\" \",\" \",梁間軸組!U5)","v":" "},{"$f":"IF(U5=\" \",\" \",梁間軸組!V5)","v":" "},{"$f":"IF(U5=\" \",\" \",梁間軸組!W5)","v":" "},{"$f":"IF(OR($K5=\"無\",$K5=\" \"),\" \",梁間軸組!X5)","v":" "},{"$f":"IF(OR($K5=\"無\",$K5=\" \"),\" \",梁間軸組!Y5)","v":" "},null,{"$f":"梁間軸組!BB5","v":""},{"$f":"IF(梁間軸組!BC5=0,\"\",梁間軸組!BC5)","v":""},null,{"$f":"IF(AG5=\" \",\" \",梁間軸組!BE5)","v":" "},{"$f":"IF(AG5=\" \",\" \",梁間軸組!BF5)","v":" "},{"$f":"IF(AG5=\" \",\" \",梁間軸組!BG5)","v":" "},{"$f":"IF(AG5=\" \",\" \",梁間軸組!BH5)","v":" "},{"$f":"IF(AG5=\" \",\" \",梁間軸組!BI5)","v":" "},{"$f":"IF(AG5=\" \",\" \",梁間軸組!BJ5)","v":" "},{"$f":"梁間軸組!BM5","v":" "},{"$f":"梁間軸組!BN5","v":" "},{"$f":"梁間軸組!BO5","v":" "},null,null,null,"計算式2",null,null,null,null,"A1",null,null,null,null,null,null," × ","B1",null,"+","A2",null,null,null,null,null,null," × ","B2",null," - ","L",null,"<","N"]
[null,null,null,null,null,null,null," ",6," "," "," "," ","↓","6\n7",{"$f":"IF(U6=\" \",\" \",梁間軸組!S6)","v":" "},{"$f":"IF(U6=\" \",\" \",梁間軸組!T6)","v":" "},{"$f":"IF(U6=\" \",\" \",梁間軸組!U6)","v":" "},{"$f":"IF(U6=\" \",\" \",梁間軸組!V6)","v":" "},{"$f":"IF(U6=\" \",\" \",梁間軸組!W6)","v":" "},{"$f":"IF(OR($K6=\"無\",$K6=\" \"),\" \",梁間軸組!X6)","v":" "},{"$f":"IF(OR($K6=\"無\",$K6=\" \"),\" \",梁間軸組!Y6)","v":" "},null,{"$f":"梁間軸組!BB6","v":""},{"$f":"IF(梁間軸組!BC6=0,\"\",梁間軸組!BC6)","v":""},null,{"$f":"IF(AG6=\" \",\" \",梁間軸組!BE6)","v":" "},{"$f":"IF(AG6=\" \",\" \",梁間軸組!BF6)","v":" "},{"$f":"IF(AG6=\" \",\" \",梁間軸組!BG6)","v":" "},{"$f":"IF(AG6=\" \",\" \",梁間軸組!BH6)","v":" "},{"$f":"IF(AG6=\" \",\" \",梁間軸組!BI6)","v":" "},{"$f":"IF(AG6=\" \",\" \",梁間軸組!BJ6)","v":" "},{"$f":"梁間軸組!BM6","v":" "},{"$f":"梁間軸組!BN6","v":" "},{"$f":"梁間軸組!BO6","v":" "},null,null,null,"2階建の1階部分",null,null,null,null,"(左右倍率大-左右倍率小+補正値)",null,null,null,null,null,null,null,null,null,null,"A2  ×  B2(柱ずれ補正)",null,null,null,null,null,null,null,null,null,null,null,null," = "]
[null,null,null,"↓え",null,"↓え",null," ",7,"ろ","↓柱","↓柱","ろ","↓","7\n8",{"$f":"IF(U7=\"\",\"\",梁間軸組!S7)","v":2},{"$f":"IF(U7=\"\",\"\",梁間軸組!T7)","v":0},{"$f":"IF(U7=\"\",\"\",梁間軸組!U7)","v":-0.5},{"$f":"IF(U7=\" \",\" \",梁間軸組!V7)","v":0.5},{"$f":"IF(U7=\" \",\" \",梁間軸組!W7)","v":0.6},{"$f":"IF(OR($K7=\"無\",$K7=\" \"),\" \",梁間軸組!X7)","v":0.15000000000000002},{"$f":"IF(OR($K7=\"無\",$K7=\" \"),\" \",梁間軸組!Y7)","v":"ろ"},null,{"$f":"梁間軸組!BB7","v":0.75},{"$f":"IF(梁間軸組!BC7=0,\"\",梁間軸組!BC7)","v":""},null,{"$f":"IF(AG7=\" \",\" \",梁間軸組!BE7)","v":2},{"$f":"IF(AG7=\" \",\" \",梁間軸組!BF7)","v":0},{"$f":"IF(AG7=\" \",\" \",梁間軸組!BG7)","v":-0.5},{"$f":"IF(AG7=\" \",\" \",梁間軸組!BH7)","v":0.5},{"$f":"IF(AG7=\" \",\" \",梁間軸組!BI7)","v":" "},{"$f":"IF(AG7=\" \",\" \",梁間軸組!BJ7)","v":1.6},{"$f":"梁間軸組!BM7","v":-0.10000000000000009},{"$f":"梁間軸組!BN7","v":0.15000000000000002},{"$f":"梁間軸組!BO7","v":"ろ"}]
[null,null,null,"←い",null,null,"←い"," ",8,null,"左上","左上","い","↓","8\n9",{"$f":"IF(U8=\" \",\" \",梁間軸組!S8)","v":2},{"$f":"IF(U8=\" \",\" \",梁間軸組!T8)","v":2},{"$f":"IF(U8=\" \",\" \",梁間軸組!U8)","v":1},{"$f":"IF(U8=\" \",\" \",梁間軸組!V8)","v":0.5},{"$f":"IF(U8=\" \",\" \",梁間軸組!W8)","v":0.6},{"$f":"IF(OR($K8=\"無\",$K8=\" \"),\" \",梁間軸組!X8)","v":-9.9999999999999978E-2},{"$f":"IF(OR($K8=\"無\",$K8=\" \"),\" \",梁間軸組!Y8)","v":"い"},null,{"$f":"梁間軸組!BB8","v":0.5},{"$f":"IF(梁間軸組!BC8=0,\"\",梁間軸組!BC8)","v":""},null,{"$f":"IF(AG8=\" \",\" \",梁間軸組!BE8)","v":2},{"$f":"IF(AG8=\" \",\" \",梁間軸組!BF8)","v":2},{"$f":"IF(AG8=\" \",\" \",梁間軸組!BG8)","v":1},{"$f":"IF(AG8=\" \",\" \",梁間軸組!BH8)","v":0.5},{"$f":"IF(AG8=\" \",\" \",梁間軸組!BI8)","v":" "},{"$f":"IF(AG8=\" \",\" \",梁間軸組!BJ8)","v":1.6},{"$f":"梁間軸組!BM8","v":-0.60000000000000009},{"$f":"梁間軸組!BN8","v":-9.9999999999999978E-2},{"$f":"梁間軸組!BO8","v":"い"}]
[null,null,null,"←あ",null,null,"←あ"," ",9,null,"右上","右上","ろ","↓","9\n10",{"$f":"IF(U9=\" \",\" \",梁間軸組!S9)","v":2},{"$f":"IF(U9=\" \",\" \",梁間軸組!T9)","v":0},{"$f":"IF(U9=\" \",\" \",梁間軸組!U9)","v":-0.5},{"$f":"IF(U9=\" \",\" \",梁間軸組!V9)","v":0.5},{"$f":"IF(U9=\" \",\" \",梁間軸組!W9)","v":0.6},{"$f":"IF(OR($K9=\"無\",$K9=\" \"),\" \",梁間軸組!X9)","v":0.15000000000000002},{"$f":"IF(OR($K9=\"無\",$K9=\" \"),\" \",梁間軸組!Y9)","v":"ろ"},null,{"$f":"梁間軸組!BB9","v":0.75},{"$f":"IF(梁間軸組!BC9=0,\"\",梁間軸組!BC9)","v":""},null,{"$f":"IF(AG9=\" \",\" \",梁間軸組!BE9)","v":2},{"$f":"IF(AG9=\" \",\" \",梁間軸組!BF9)","v":0},{"$f":"IF(AG9=\" \",\" \",梁間軸組!BG9)","v":-0.5},{"$f":"IF(AG9=\" \",\" \",梁間軸組!BH9)","v":0.5},{"$f":"IF(AG9=\" \",\" \",梁間軸組!BI9)","v":" "},{"$f":"IF(AG9=\" \",\" \",梁間軸組!BJ9)","v":1.6},{"$f":"梁間軸組!BM9","v":-0.10000000000000009},{"$f":"梁間軸組!BN9","v":0.15000000000000002},{"$f":"梁間軸組!BO9","v":"ろ"}]
[null,null,"↑い",null,null,"↑い",null," ",10,{"$f":"V10","v":"い"},"↓柱","無",{"$f":"AI10","v":" "},"↓","10\n11",{"$f":"IF(U10=\" \",\" \",梁間軸組!S10)","v":0},{"$f":"IF(U10=\" \",\" \",梁間軸組!T10)","v":0},{"$f":"IF(U10=\" \",\" \",梁間軸組!U10)","v":0},{"$f":"IF(U10=\" \",\" \",梁間軸組!V10)","v":0.5},{"$f":"IF(U10=\" \",\" \",梁間軸組!W10)","v":0.6},{"$f":"IF(OR($K10=\"無\",$K10=\" \"),\" \",梁間軸組!X10)","v":-0.6},{"$f":"IF(OR($K10=\"無\",$K10=\" \"),\" \",梁間軸組!Y10)","v":"い"},null,{"$f":"梁間軸組!BB10","v":0},{"$f":"IF(梁間軸組!BC10=0,\"\",梁間軸組!BC10)","v":""},null,{"$f":"IF(AG10=\" \",\" \",梁間軸組!BE10)","v":" "},{"$f":"IF(AG10=\" \",\" \",梁間軸組!BF10)","v":" "},{"$f":"IF(AG10=\" \",\" \",梁間軸組!BG10)","v":" "},{"$f":"IF(AG10=\" \",\" \",梁間軸組!BH10)","v":" "},{"$f":"IF(AG10=\" \",\" \",梁間軸組!BI10)","v":" "},{"$f":"IF(AG10=\" \",\" \",梁間軸組!BJ10)","v":" "},{"$f":"梁間軸組!BM10","v":" "},{"$f":"梁間軸組!BN10","v":" "},{"$f":"梁間軸組!BO10","v":" "}]
[null,null,null,"｀柱",null,null,null," ",11," ","無","無",{"$f":"AI11","v":" "},"↓","11\n12",{"$f":"IF(U11=\" \",\" \",梁間軸組!S11)","v":" "},{"$f":"IF(U11=\" \",\" \",梁間軸組!T11)","v":" "},{"$f":"IF(U11=\" \",\" \",梁間軸組!U11)","v":" "},{"$f":"IF(U11=\" \",\" \",梁間軸組!V11)","v":" "},{"$f":"IF(U11=\" \",\" \",梁間軸組!W11)","v":" "},{"$f":"IF(OR($K11=\"無\",$K11=\" \"),\" \",梁間軸組!X11)","v":" "},{"$f":"IF(OR($K11=\"無\",$K11=\" \"),\" \",梁間軸組!Y11)","v":" "},null,{"$f":"梁間軸組!BB11","v":""},{"$f":"IF(梁間軸組!BC11=0,\"\",梁間軸組!BC11)","v":""},null,{"$f":"IF(AG11=\" \",\" \",梁間軸組!BE11)","v":" "},{"$f":"IF(AG11=\" \",\" \",梁間軸組!BF11)","v":" "},{"$f":"IF(AG11=\" \",\" \",梁間軸組!BG11)","v":" "},{"$f":"IF(AG11=\" \",\" \",梁間軸組!BH11)","v":" "},{"$f":"IF(AG11=\" \",\" \",梁間軸組!BI11)","v":" "},{"$f":"IF(AG11=\" \",\" \",梁間軸組!BJ11)","v":" "},{"$f":"梁間軸組!BM11","v":" "},{"$f":"梁間軸組!BN11","v":" "},{"$f":"梁間軸組!BO11","v":" "}]
[null,null,null,null,null,null,null," ",12,"ろ","↓柱","↓柱","は","↓","12\n13",{"$f":"IF(U12=\" \",\" \",梁間軸組!S12)","v":2},{"$f":"IF(U12=\" \",\" \",梁間軸組!T12)","v":0},{"$f":"IF(U12=\" \",\" \",梁間軸組!U12)","v":0.5},{"$f":"IF(U12=\" \",\" \",梁間軸組!V12)","v":0.5},{"$f":"IF(U12=\" \",\" \",梁間軸組!W12)","v":0.6},{"$f":"IF(OR($K12=\"無\",$K12=\" \"),\" \",梁間軸組!X12)","v":0.65},{"$f":"IF(OR($K12=\"無\",$K12=\" \"),\" \",梁間軸組!Y12)","v":"ろ"},null,{"$f":"梁間軸組!BB12","v":1.25},{"$f":"IF(梁間軸組!BC12=0,\"\",梁間軸組!BC12)","v":""},null,{"$f":"IF(AG12=\" \",\" \",梁間軸組!BE12)","v":2},{"$f":"IF(AG12=\" \",\" \",梁間軸組!BF12)","v":0},{"$f":"IF(AG12=\" \",\" \",梁間軸組!BG12)","v":0.5},{"$f":"IF(AG12=\" \",\" \",梁間軸組!BH12)","v":0.5},{"$f":"IF(AG12=\" \",\" \",梁間軸組!BI12)","v":" "},{"$f":"IF(AG12=\" \",\" \",梁間軸組!BJ12)","v":1.6},{"$f":"梁間軸組!BM12","v":0.89999999999999991},{"$f":"梁間軸組!BN12","v":0.89999999999999991},{"$f":"梁間軸組!BO12","v":"は"}]
[null,null,null,"←あ",null,null,"←あ"," ",13,"ろ","右上","右上","ろ","↓","13\n14",{"$f":"IF(U13=\" \",\" \",梁間軸組!S13)","v":2},{"$f":"IF(U13=\" \",\" \",梁間軸組!T13)","v":0},{"$f":"IF(U13=\" \",\" \",梁間軸組!U13)","v":-0.5},{"$f":"IF(U13=\" \",\" \",梁間軸組!V13)","v":0.5},{"$f":"IF(U13=\" \",\" \",梁間軸組!W13)","v":0.6},{"$f":"IF(OR($K13=\"無\",$K13=\" \"),\" \",梁間軸組!X13)","v":0.15000000000000002},{"$f":"IF(OR($K13=\"無\",$K13=\" \"),\" \",梁間軸組!Y13)","v":"ろ"},null,{"$f":"梁間軸組!BB13","v":0.75},{"$f":"IF(梁間軸組!BC13=0,\"\",梁間軸組!BC13)","v":""},null,{"$f":"IF(AG13=\" \",\" \",梁間軸組!BE13)","v":2},{"$f":"IF(AG13=\" \",\" \",梁間軸組!BF13)","v":0},{"$f":"IF(AG13=\" \",\" \",梁間軸組!BG13)","v":-0.5},{"$f":"IF(AG13=\" \",\" \",梁間軸組!BH13)","v":0.5},{"$f":"IF(AG13=\" \",\" \",梁間軸組!BI13)","v":" "},{"$f":"IF(AG13=\" \",\" \",梁間軸組!BJ13)","v":1.6},{"$f":"梁間軸組!BM13","v":-0.10000000000000009},{"$f":"梁間軸組!BN13","v":0.15000000000000002},{"$f":"梁間軸組!BO13","v":"ろ"}]
[null,null,"↑え",null,null,"↑え",null," ",14," "," "," "," ","↓","14\n15",{"$f":"IF(U14=\" \",\" \",梁間軸組!S14)","v":" "},{"$f":"IF(U14=\" \",\" \",梁間軸組!T14)","v":" "},{"$f":"IF(U14=\" \",\" \",梁間軸組!U14)","v":" "},{"$f":"IF(U14=\" \",\" \",梁間軸組!V14)","v":" "},{"$f":"IF(U14=\" \",\" \",梁間軸組!W14)","v":" "},{"$f":"IF(OR($K14=\"無\",$K14=\" \"),\" \",梁間軸組!X14)","v":" "},{"$f":"IF(OR($K14=\"無\",$K14=\" \"),\" \",梁間軸組!Y14)","v":" "},null,{"$f":"梁間軸組!BB14","v":""},{"$f":"IF(梁間軸組!BC14=0,\"\",梁間軸組!BC14)","v":""},null,{"$f":"IF(AG14=\" \",\" \",梁間軸組!BE14)","v":" "},{"$f":"IF(AG14=\" \",\" \",梁間軸組!BF14)","v":" "},{"$f":"IF(AG14=\" \",\" \",梁間軸組!BG14)","v":" "},{"$f":"IF(AG14=\" \",\" \",梁間軸組!BH14)","v":" "},{"$f":"IF(AG14=\" \",\" \",梁間軸組!BI14)","v":" "},{"$f":"IF(AG14=\" \",\" \",梁間軸組!BJ14)","v":" "},{"$f":"梁間軸組!BM14","v":" "},{"$f":"梁間軸組!BN14","v":" "},{"$f":"梁間軸組!BO14","v":" "}]
[null,null,null,null,null,null,null," ",15," "," "," "," ","↓","15\n16",{"$f":"IF(U15=\" \",\" \",梁間軸組!S15)","v":" "},{"$f":"IF(U15=\" \",\" \",梁間軸組!T15)","v":" "},{"$f":"IF(U15=\" \",\" \",梁間軸組!U15)","v":" "},{"$f":"IF(U15=\" \",\" \",梁間軸組!V15)","v":" "},{"$f":"IF(U15=\" \",\" \",梁間軸組!W15)","v":" "},{"$f":"IF(OR($K15=\"無\",$K15=\" \"),\" \",梁間軸組!X15)","v":" "},{"$f":"IF(OR($K15=\"無\",$K15=\" \"),\" \",梁間軸組!Y15)","v":" "},null,{"$f":"梁間軸組!BB15","v":""},{"$f":"IF(梁間軸組!BC15=0,\"\",梁間軸組!BC15)","v":""},null,{"$f":"IF(AG15=\" \",\" \",梁間軸組!BE15)","v":" "},{"$f":"IF(AG15=\" \",\" \",梁間軸組!BF15)","v":" "},{"$f":"IF(AG15=\" \",\" \",梁間軸組!BG15)","v":" "},{"$f":"IF(AG15=\" \",\" \",梁間軸組!BH15)","v":" "},{"$f":"IF(AG15=\" \",\" \",梁間軸組!BI15)","v":" "},{"$f":"IF(AG15=\" \",\" \",梁間軸組!BJ15)","v":" "},{"$f":"梁間軸組!BM15","v":" "},{"$f":"梁間軸組!BN15","v":" "},{"$f":"梁間軸組!BO15","v":" "}]
[null,null,null,null,null,null,null," ",16," "," "," "," ","↓","16\n17",{"$f":"IF(U16=\" \",\" \",梁間軸組!S16)","v":" "},{"$f":"IF(U16=\" \",\" \",梁間軸組!T16)","v":" "},{"$f":"IF(U16=\" \",\" \",梁間軸組!U16)","v":" "},{"$f":"IF(U16=\" \",\" \",梁間軸組!V16)","v":" "},{"$f":"IF(U16=\" \",\" \",梁間軸組!W16)","v":" "},{"$f":"IF(OR($K16=\"無\",$K16=\" \"),\" \",梁間軸組!X16)","v":" "},{"$f":"IF(OR($K16=\"無\",$K16=\" \"),\" \",梁間軸組!Y16)","v":" "},null,{"$f":"梁間軸組!BB16","v":""},{"$f":"IF(梁間軸組!BC16=0,\"\",梁間軸組!BC16)","v":""},null,{"$f":"IF(AG16=\" \",\" \",梁間軸組!BE16)","v":" "},{"$f":"IF(AG16=\" \",\" \",梁間軸組!BF16)","v":" "},{"$f":"IF(AG16=\" \",\" \",梁間軸組!BG16)","v":" "},{"$f":"IF(AG16=\" \",\" \",梁間軸組!BH16)","v":" "},{"$f":"IF(AG16=\" \",\" \",梁間軸組!BI16)","v":" "},{"$f":"IF(AG16=\" \",\" \",梁間軸組!BJ16)","v":" "},{"$f":"梁間軸組!BM16","v":" "},{"$f":"梁間軸組!BN16","v":" "},{"$f":"梁間軸組!BO16","v":" "}]
[null,null,null,null,null,null,null," ",17," "," "," "," ","↓","17\n18",{"$f":"IF(U17=\" \",\" \",梁間軸組!S17)","v":" "},{"$f":"IF(U17=\" \",\" \",梁間軸組!T17)","v":" "},{"$f":"IF(U17=\" \",\" \",梁間軸組!U17)","v":" "},{"$f":"IF(U17=\" \",\" \",梁間軸組!V17)","v":" "},{"$f":"IF(U17=\" \",\" \",梁間軸組!W17)","v":" "},{"$f":"IF(OR($K17=\"無\",$K17=\" \"),\" \",梁間軸組!X17)","v":" "},{"$f":"IF(OR($K17=\"無\",$K17=\" \"),\" \",梁間軸組!Y17)","v":" "},null,{"$f":"梁間軸組!BB17","v":""},{"$f":"IF(梁間軸組!BC17=0,\"\",梁間軸組!BC17)","v":""},null,{"$f":"IF(AG17=\" \",\" \",梁間軸組!BE17)","v":" "},{"$f":"IF(AG17=\" \",\" \",梁間軸組!BF17)","v":" "},{"$f":"IF(AG17=\" \",\" \",梁間軸組!BG17)","v":" "},{"$f":"IF(AG17=\" \",\" \",梁間軸組!BH17)","v":" "},{"$f":"IF(AG17=\" \",\" \",梁間軸組!BI17)","v":" "},{"$f":"IF(AG17=\" \",\" \",梁間軸組!BJ17)","v":" "},{"$f":"梁間軸組!BM17","v":" "},{"$f":"梁間軸組!BN17","v":" "},{"$f":"梁間軸組!BO17","v":" "}]
[null,null,null,null,null,null,null," ",18," "," "," "," ","↓","18\n19",{"$f":"IF(U18=\" \",\" \",梁間軸組!S18)","v":" "},{"$f":"IF(U18=\" \",\" \",梁間軸組!T18)","v":" "},{"$f":"IF(U18=\" \",\" \",梁間軸組!U18)","v":" "},{"$f":"IF(U18=\" \",\" \",梁間軸組!V18)","v":" "},{"$f":"IF(U18=\" \",\" \",梁間軸組!W18)","v":" "},{"$f":"IF(OR($K18=\"無\",$K18=\" \"),\" \",梁間軸組!X18)","v":" "},{"$f":"IF(OR($K18=\"無\",$K18=\" \"),\" \",梁間軸組!Y18)","v":" "},null,{"$f":"梁間軸組!BB18","v":""},{"$f":"IF(梁間軸組!BC18=0,\"\",梁間軸組!BC18)","v":""},null,{"$f":"IF(AG18=\" \",\" \",梁間軸組!BE18)","v":" "},{"$f":"IF(AG18=\" \",\" \",梁間軸組!BF18)","v":" "},{"$f":"IF(AG18=\" \",\" \",梁間軸組!BG18)","v":" "},{"$f":"IF(AG18=\" \",\" \",梁間軸組!BH18)","v":" "},{"$f":"IF(AG18=\" \",\" \",梁間軸組!BI18)","v":" "},{"$f":"IF(AG18=\" \",\" \",梁間軸組!BJ18)","v":" "},{"$f":"梁間軸組!BM18","v":" "},{"$f":"梁間軸組!BN18","v":" "},{"$f":"梁間軸組!BO18","v":" "}]
[null,null,null,null,null,null,null," ",19," "," "," "," ","↓","19\n20",{"$f":"IF(U19=\" \",\" \",梁間軸組!S19)","v":" "},{"$f":"IF(U19=\" \",\" \",梁間軸組!T19)","v":" "},{"$f":"IF(U19=\" \",\" \",梁間軸組!U19)","v":" "},{"$f":"IF(U19=\" \",\" \",梁間軸組!V19)","v":" "},{"$f":"IF(U19=\" \",\" \",梁間軸組!W19)","v":" "},{"$f":"IF(OR($K19=\"無\",$K19=\" \"),\" \",梁間軸組!X19)","v":" "},{"$f":"IF(OR($K19=\"無\",$K19=\" \"),\" \",梁間軸組!Y19)","v":" "},null,{"$f":"梁間軸組!BB19","v":""},{"$f":"IF(梁間軸組!BC19=0,\"\",梁間軸組!BC19)","v":""},null,{"$f":"IF(AG19=\" \",\" \",梁間軸組!BE19)","v":" "},{"$f":"IF(AG19=\" \",\" \",梁間軸組!BF19)","v":" "},{"$f":"IF(AG19=\" \",\" \",梁間軸組!BG19)","v":" "},{"$f":"IF(AG19=\" \",\" \",梁間軸組!BH19)","v":" "},{"$f":"IF(AG19=\" \",\" \",梁間軸組!BI19)","v":" "},{"$f":"IF(AG19=\" \",\" \",梁間軸組!BJ19)","v":" "},{"$f":"梁間軸組!BM19","v":" "},{"$f":"梁間軸組!BN19","v":" "},{"$f":"梁間軸組!BO19","v":" "},null,null,null,"耐力壁","入力","耐力壁の種類",null,null,null,"記号","倍率"]
[null,null,null,null,null,null,null," ",20," "," "," "," ",null,null,{"$f":"IF(U20=\" \",\" \",梁間軸組!S20)","v":" "},{"$f":"IF(U20=\" \",\" \",梁間軸組!T20)","v":" "},{"$f":"IF(U20=\" \",\" \",梁間軸組!U20)","v":" "},{"$f":"IF(U20=\" \",\" \",梁間軸組!V20)","v":" "},{"$f":"IF(U20=\" \",\" \",梁間軸組!W20)","v":" "},{"$f":"IF(OR($K20=\"無\",$K20=\" \"),\" \",梁間軸組!X20)","v":" "},{"$f":"IF(OR($K20=\"無\",$K20=\" \"),\" \",梁間軸組!Y20)","v":" "},null,{"$f":"梁間軸組!BB20","v":""},{"$f":"IF(梁間軸組!BC20=0,\"\",梁間軸組!BC20)","v":""},null,{"$f":"IF(AG20=\" \",\" \",梁間軸組!BE20)","v":" "},{"$f":"IF(AG20=\" \",\" \",梁間軸組!BF20)","v":" "},{"$f":"IF(AG20=\" \",\" \",梁間軸組!BG20)","v":" "},{"$f":"IF(AG20=\" \",\" \",梁間軸組!BH20)","v":" "},{"$f":"IF(AG20=\" \",\" \",梁間軸組!BI20)","v":" "},{"$f":"IF(AG20=\" \",\" \",梁間軸組!BJ20)","v":" "},{"$f":"梁間軸組!BM20","v":" "},{"$f":"梁間軸組!BN20","v":" "},{"$f":"梁間軸組!BO20","v":" "},null,null,null,null,"あ","筋カイ45×90(右上)",null,null,null,"右上",2]
[null,null,"↑計算軸","↓計算軸",null,"↑計算軸","↓計算軸",null,null,null,null,null,null,null,null,"左右倍率大","左右倍率小","補正値","出\n隅\n0.8\n他\n0.5","出\n隅\n0.4\n他\n0.6","N値","必要耐力",null,"通常値","柱ずれ補正",null,"左右倍率大","左右倍率小","補正値","出\n隅\n0.8\n他\n0.5","出\n隅\n0.4\n他\n0.6","出\n隅\n1.0\n他\n1.6","N値","1階\n2階\nで\n大\nの\nN\n値\t\t\t","必要耐力",null,null,null,null,"い","筋カイ45×90(左上)",null,null,null,"左上",2]
[null,null,null,null,null,null,null,null,null,null,null,null,null,null,null,null,null,null,null,null,null,null,null,null,null,null,null,null,null,null,null,null,null,null,null,null,null,null,null,"う","筋カイ45×90(タスキ)",null,null,null,"タスキ",4]
[null,null,null,null,null,null,null,null,null,null,null,null,null,null,null,null,null,null,null,null,null,null,null,null,null,null,null,null,null,null,null,null,null,null,null,null,null,null,null,"え","耐力面材",null,null,null,"面材",2.5]
[null,null,null,null,null,null,null,null,null,null,null,null,null,null,null,null,null,null,null,null,null,null,null,null,null,null,null,null,null,null,null,null,null,null,null,null,null,null,null,"お","筋45×90(右上)+面材",null,null,null,"右面",4.5]
[null,null,"２階",null,null,"１階",null,null,null,null,"２階","１階",null,null,null,"２階",null,null,null,null,null,null,null,null,null,null,"１階",null,null,null,null,null,null,null,null,null,null,null,null,"か","筋45×90(左上)+面材",null,null,null,"左面",4.5]

{"sheet":"面積計算","index":6,"n_rows":32,"n_cols":38,"rows_kept":32,"cut":false,"hidden":true,"merged":[[30,26,30,27],[31,26,31,27],[30,1,30,2],[31,1,31,2],[25,1,25,2],[25,31,25,32],[25,37,25,38],[26,1,26,2],[27,1,27,2],[28,1,28,2],[22,1,22,2],[23,1,23,2],[24,1,24,2],[24,31,24,32],[24,37,24,38],[22,26,22,27],[1,34,2,34],[1,36,2,36],[1,37,2,37],[1,28,2,28],[1,29,2,29],[1,30,2,30],[1,31,2,31],[1,32,2,32],[1,33,2,33]]}
[]
[null,null,null,null,null,null,null,null,null,null,null,null,null,null,null,null,null,null,null,null,null,null,null,null,null,null,null,null,"横面積合計","番号","セル高さ","上からの累計長さ","倍率","下からの累計長さ","倍率",null,"1/4面積(上)","1/4面積(下)"]
[null,null,null,{"$f":"図面!D2","v":910},{"$f":"図面!E2","v":910},{"$f":"図面!F2","v":910},{"$f":"図面!G2","v":910},{"$f":"図面!H2","v":910},{"$f":"図面!I2","v":910},{"$f":"図面!J2","v":910},{"$f":"図面!K2","v":910},{"$f":"図面!L2","v":910},{"$f":"図面!M2","v":910},{"$f":"図面!N2","v":910},{"$f":"図面!O2","v":910},{"$f":"図面!P2","v":910},{"$f":"図面!Q2","v":910},{"$f":"図面!R2","v":910},{"$f":"図面!S2","v":910},{"$f":"図面!T2","v":910},{"$f":"図面!U2","v":910},{"$f":"図面!V2","v":910},{"$f":"図面!W2","v":910},{"$f":"図面!X2","v":910},{"$f":"図面!Y2","v":910},{"$f":"図面!Z2","v":910}]
[null,null,{"$f":"図面!B4","v":910},{"$f":"$C4*D$3/1000000","v":0.82809999999999995},{"$f":"$C4*E$3/1000000","v":0.82809999999999995},0.82809999999999995,0.82809999999999995,0.82809999999999995,0.82809999999999995,0.82809999999999995,0.82809999999999995,0.82809999999999995,0.82809999999999995,0.82809999999999995,0.82809999999999995,0.82809999999999995,0.82809999999999995,0.82809999999999995,0.82809999999999995,0.82809999999999995,{"$f":"$C4*U$3/1000000","v":0.82809999999999995},0.82809999999999995,0.82809999999999995,0.82809999999999995,0.82809999999999995,0.82809999999999995,{"$f":"IF(COUNTIF(AG4:AI4,1),\"●\",\" \")","v":" "},null,{"$f":"SUM(D4:Z4)-sumColor(D4:Z4,$AB$1)","v":0},{"$f":"IF(AC4=0,\"\",SUMPRODUCT((AC$4:AC4<>0)*1))","v":""},{"$f":"IF(AD4=\"\",\"\",C4)","v":""},{"$f":"IF(AD4=\"\",\"\",SUM(AE$4:AE4))","v":""},{"$f":"IF(AF4=\"\",\"\",IF(AF4>$AL$25,($AL$25-AF3)/AE4,IF(AF4<=$AL$25,1,\" \")))","v":""},{"$f":"IF(AD4=\"\",\"\",SUM(AE4:AE$20))","v":""},{"$f":"IF(AH4=\"\",\"\",IF(AH4>$AL$25,($AL$25-AH5)/AE4,IF(AH4<=$AL$25,1,\" \")))","v":""},null,{"$f":"IF(AD4=\"\",\"\",IF(AG4<=0,\" \",AC4*AG4))","v":""},{"$f":"IF(AD4=\"\",\"\",IF(AI4<=0,\" \",AC4*AI4))","v":""}]
[null,null,{"$f":"図面!B5","v":910},{"$f":"$C5*D$3/1000000","v":0.82809999999999995},0.82809999999999995,0.82809999999999995,0.82809999999999995,0.82809999999999995,0.82809999999999995,0.82809999999999995,0.82809999999999995,0.82809999999999995,0.82809999999999995,0.82809999999999995,0.82809999999999995,0.82809999999999995,0.82809999999999995,0.82809999999999995,0.82809999999999995,0.82809999999999995,0.82809999999999995,0.82809999999999995,0.82809999999999995,0.82809999999999995,0.82809999999999995,0.82809999999999995,{"$f":"IF(COUNTIF(AG5:AI5,1),\"●\",\" \")","v":" "},null,{"$f":"SUM(D5:Z5)-sumColor(D5:Z5,$AB$1)","v":0},{"$f":"IF(AC5=0,\"\",SUMPRODUCT((AC$4:AC5<>0)*1))","v":""},"",{"$f":"IF(AD5=\"\",\"\",SUM(AE$4:AE5))","v":""},"",{"$f":"IF(AD5=\"\",\"\",SUM(AE5:AE$20))","v":""},"",null,"",""]
[null,null,{"$f":"図面!B6","v":910},0.82809999999999995,0.82809999999999995,0.82809999999999995,0.82809999999999995,0.82809999999999995,0.82809999999999995,0.82809999999999995,0.82809999999999995,0.82809999999999995,0.82809999999999995,0.82809999999999995,0.82809999999999995,0.82809999999999995,0.82809999999999995,0.82809999999999995,0.82809999999999995,0.82809999999999995,0.82809999999999995,0.82809999999999995,0.82809999999999995,0.82809999999999995,0.82809999999999995,0.82809999999999995," ",null,{"$f":"SUM(D6:Z6)-sumColor(D6:Z6,$AB$1)","v":0},{"$f":"IF(AC6=0,\"\",SUMPRODUCT((AC$4:AC6<>0)*1))","v":""},"",{"$f":"IF(AD6=\"\",\"\",SUM(AE$4:AE6))","v":""},"",{"$f":"IF(AD6=\"\",\"\",SUM(AE6:AE$20))","v":""},"",null,"",""]
[null,null,{"$f":"図面!B7","v":910},0.82809999999999995,0.82809999999999995,0.82809999999999995,0.82809999999999995,0.82809999999999995,0.82809999999999995,0.82809999999999995,0.82809999999999995,0.82809999999999995,0.82809999999999995,0.82809999999999995,0.82809999999999995,0.82809999999999995,0.82809999999999995,0.82809999999999995,0.82809999999999995,0.82809999999999995,0.82809999999999995,0.82809999999999995,0.82809999999999995,0.82809999999999995,0.82809999999999995,0.82809999999999995," ",null,{"$f":"SUM(D7:Z7)-sumColor(D7:Z7,$AB$1)","v":0},{"$f":"IF(AC7=0,\"\",SUMPRODUCT((AC$4:AC7<>0)*1))","v":""},"",{"$f":"IF(AD7=\"\",\"\",SUM(AE$4:AE7))","v":""},"",{"$f":"IF(AD7=\"\",\"\",SUM(AE7:AE$20))","v":""},"",null,"",""]
[null,null,{"$f":"図面!B8","v":910},0.82809999999999995,0.82809999999999995,0.82809999999999995,0.82809999999999995,0.82809999999999995,0.82809999999999995,0.82809999999999995,0.82809999999999995,0.82809999999999995,0.82809999999999995,0.82809999999999995,0.82809999999999995,0.82809999999999995,0.82809999999999995,0.82809999999999995,0.82809999999999995,0.82809999999999995,0.82809999999999995,0.82809999999999995,0.82809999999999995,0.82809999999999995,0.82809999999999995,0.82809999999999995," ",null,{"$f":"SUM(D8:Z8)-sumColor(D8:Z8,$AB$1)","v":0},{"$f":"IF(AC8=0,\"\",SUMPRODUCT((AC$4:AC8<>0)*1))","v":""},"",{"$f":"IF(AD8=\"\",\"\",SUM(AE$4:AE8))","v":""},"",{"$f":"IF(AD8=\"\",\"\",SUM(AE8:AE$20))","v":""},"",null,"",""]
[null,null,{"$f":"図面!B9","v":910},0.82809999999999995,0.82809999999999995,0.82809999999999995,0.82809999999999995,0.82809999999999995,0.82809999999999995,0.82809999999999995,0.82809999999999995,0.82809999999999995,0.82809999999999995,0.82809999999999995,0.82809999999999995,0.82809999999999995,0.82809999999999995,0.82809999999999995,0.82809999999999995,0.82809999999999995,0.82809999999999995,0.82809999999999995,0.82809999999999995,0.82809999999999995,0.82809999999999995,0.82809999999999995," ",null,{"$f":"SUM(D9:Z9)-sumColor(D9:Z9,$AB$1)","v":0},{"$f":"IF(AC9=0,\"\",SUMPRODUCT((AC$4:AC9<>0)*1))","v":""},"",{"$f":"IF(AD9=\"\",\"\",SUM(AE$4:AE9))","v":""},"",{"$f":"IF(AD9=\"\",\"\",SUM(AE9:AE$20))","v":""},"",null,"",""]
[null,null,{"$f":"図面!B10","v":910},0.82809999999999995,0.82809999999999995,0.82809999999999995,0.82809999999999995,0.82809999999999995,0.82809999999999995,0.82809999999999995,0.82809999999999995,0.82809999999999995,0.82809999999999995,0.82809999999999995,0.82809999999999995,0.82809999999999995,0.82809999999999995,0.82809999999999995,0.82809999999999995,0.82809999999999995,0.82809999999999995,0.82809999999999995,0.82809999999999995,0.82809999999999995,0.82809999999999995,0.82809999999999995," ",null,{"$f":"SUM(D10:Z10)-sumColor(D10:Z10,$AB$1)","v":0},{"$f":"IF(AC10=0,\"\",SUMPRODUCT((AC$4:AC10<>0)*1))","v":""},"",{"$f":"IF(AD10=\"\",\"\",SUM(AE$4:AE10))","v":""},"",{"$f":"IF(AD10=\"\",\"\",SUM(AE10:AE$20))","v":""},"",null,"",""]
[null,null,{"$f":"図面!B11","v":910},0.82809999999999995,0.82809999999999995,0.82809999999999995,0.82809999999999995,0.82809999999999995,0.82809999999999995,0.82809999999999995,0.82809999999999995,0.82809999999999995,0.82809999999999995,0.82809999999999995,0.82809999999999995,0.82809999999999995,0.82809999999999995,0.82809999999999995,0.82809999999999995,0.82809999999999995,0.82809999999999995,0.82809999999999995,0.82809999999999995,0.82809999999999995,0.82809999999999995,0.82809999999999995," ",null,{"$f":"SUM(D11:Z11)-sumColor(D11:Z11,$AB$1)","v":0},{"$f":"IF(AC11=0,\"\",SUMPRODUCT((AC$4:AC11<>0)*1))","v":""},"",{"$f":"IF(AD11=\"\",\"\",SUM(AE$4:AE11))","v":""},{"$f":"IF(AF11=\"\",\"\",IF(AF11>$AL$25,($AL$25-AF10)/AE11,IF(AF11<=$AL$25,1,\" \")))","v":""},{"$f":"IF(AD11=\"\",\"\",SUM(AE11:AE$20))","v":""},"",null,"",""]
[null,null,{"$f":"図面!B12","v":910},0.82809999999999995,0.82809999999999995,0.82809999999999995,0.82809999999999995,0.82809999999999995,0.82809999999999995,0.82809999999999995,0.82809999999999995,0.82809999999999995,0.82809999999999995,0.82809999999999995,0.82809999999999995,0.82809999999999995,0.82809999999999995,0.82809999999999995,0.82809999999999995,0.82809999999999995,0.82809999999999995,0.82809999999999995,0.82809999999999995,0.82809999999999995,0.82809999999999995,0.82809999999999995," ",null,{"$f":"SUM(D12:Z12)-sumColor(D12:Z12,$AB$1)","v":0},{"$f":"IF(AC12=0,\"\",SUMPRODUCT((AC$4:AC12<>0)*1))","v":""},"",{"$f":"IF(AD12=\"\",\"\",SUM(AE$4:AE12))","v":""},"",{"$f":"IF(AD12=\"\",\"\",SUM(AE12:AE$20))","v":""},"",null,"",""]
[null,null,{"$f":"図面!B13","v":910},0.82809999999999995,0.82809999999999995,0.82809999999999995,0.82809999999999995,0.82809999999999995,0.82809999999999995,0.82809999999999995,0.82809999999999995,0.82809999999999995,0.82809999999999995,0.82809999999999995,0.82809999999999995,0.82809999999999995,0.82809999999999995,0.82809999999999995,0.82809999999999995,0.82809999999999995,0.82809999999999995,0.82809999999999995,0.82809999999999995,0.82809999999999995,0.82809999999999995,0.82809999999999995," ",null,{"$f":"SUM(D13:Z13)-sumColor(D13:Z13,$AB$1)","v":0},{"$f":"IF(AC13=0,\"\",SUMPRODUCT((AC$4:AC13<>0)*1))","v":""},"",{"$f":"IF(AD13=\"\",\"\",SUM(AE$4:AE13))","v":""},"",{"$f":"IF(AD13=\"\",\"\",SUM(AE13:AE$20))","v":""},"",null,"",""]
[null,null,{"$f":"図面!B14","v":910},0.82809999999999995,0.82809999999999995,0.82809999999999995,0.82809999999999995,0.82809999999999995,0.82809999999999995,0.82809999999999995,0.82809999999999995,0.82809999999999995,0.82809999999999995,0.82809999999999995,0.82809999999999995,0.82809999999999995,0.82809999999999995,0.82809999999999995,0.82809999999999995,0.82809999999999995,0.82809999999999995,0.82809999999999995,0.82809999999999995,0.82809999999999995,0.82809999999999995,0.82809999999999995," ",null,{"$f":"SUM(D14:Z14)-sumColor(D14:Z14,$AB$1)","v":0},{"$f":"IF(AC14=0,\"\",SUMPRODUCT((AC$4:AC14<>0)*1))","v":""},"",{"$f":"IF(AD14=\"\",\"\",SUM(AE$4:AE14))","v":""},"",{"$f":"IF(AD14=\"\",\"\",SUM(AE14:AE$20))","v":""},"",null,"",""]
[null,null,{"$f":"図面!B15","v":910},0.82809999999999995,0.82809999999999995,0.82809999999999995,0.82809999999999995,0.82809999999999995,0.82809999999999995,0.82809999999999995,0.82809999999999995,0.82809999999999995,0.82809999999999995,0.82809999999999995,0.82809999999999995,0.82809999999999995,0.82809999999999995,0.82809999999999995,0.82809999999999995,0.82809999999999995,0.82809999999999995,0.82809999999999995,0.82809999999999995,0.82809999999999995,0.82809999999999995,0.82809999999999995," ",null,{"$f":"SUM(D15:Z15)-sumColor(D15:Z15,$AB$1)","v":0},{"$f":"IF(AC15=0,\"\",SUMPRODUCT((AC$4:AC15<>0)*1))","v":""},"",{"$f":"IF(AD15=\"\",\"\",SUM(AE$4:AE15))","v":""},"",{"$f":"IF(AD15=\"\",\"\",SUM(AE15:AE$20))","v":""},"",null,"",""]
[null,null,{"$f":"図面!B16","v":910},0.82809999999999995,0.82809999999999995,0.82809999999999995,0.82809999999999995,0.82809999999999995,0.82809999999999995,0.82809999999999995,0.82809999999999995,0.82809999999999995,0.82809999999999995,0.82809999999999995,0.82809999999999995,0.82809999999999995,0.82809999999999995,0.82809999999999995,0.82809999999999995,0.82809999999999995,0.82809999999999995,0.82809999999999995,0.82809999999999995,0.82809999999999995,0.82809999999999995,0.82809999999999995," ",null,{"$f":"SUM(D16:Z16)-sumColor(D16:Z16,$AB$1)","v":0},{"$f":"IF(AC16=0,\"\",SUMPRODUCT((AC$4:AC16<>0)*1))","v":""},"",{"$f":"IF(AD16=\"\",\"\",SUM(AE$4:AE16))","v":""},"",{"$f":"IF(AD16=\"\",\"\",SUM(AE16:AE$20))","v":""},"",null,"",""]
[null,null,{"$f":"図面!B17","v":910},0.82809999999999995,0.82809999999999995,0.82809999999999995,0.82809999999999995,0.82809999999999995,0.82809999999999995,0.82809999999999995,0.82809999999999995,0.82809999999999995,0.82809999999999995,0.82809999999999995,0.82809999999999995,0.82809999999999995,0.82809999999999995,0.82809999999999995,0.82809999999999995,0.82809999999999995,0.82809999999999995,0.82809999999999995,0.82809999999999995,0.82809999999999995,0.82809999999999995,0.82809999999999995," ",null,{"$f":"SUM(D17:Z17)-sumColor(D17:Z17,$AB$1)","v":0},{"$f":"IF(AC17=0,\"\",SUMPRODUCT((AC$4:AC17<>0)*1))","v":""},"",{"$f":"IF(AD17=\"\",\"\",SUM(AE$4:AE17))","v":""},"",{"$f":"IF(AD17=\"\",\"\",SUM(AE17:AE$20))","v":""},"",null,"",""]
[null,null,{"$f":"図面!B18","v":910},0.82809999999999995,0.82809999999999995,0.82809999999999995,0.82809999999999995,0.82809999999999995,0.82809999999999995,0.82809999999999995,0.82809999999999995,0.82809999999999995,0.82809999999999995,0.82809999999999995,0.82809999999999995,0.82809999999999995,0.82809999999999995,0.82809999999999995,0.82809999999999995,0.82809999999999995,0.82809999999999995,0.82809999999999995,0.82809999999999995,0.82809999999999995,0.82809999999999995,0.82809999999999995," ",null,{"$f":"SUM(D18:Z18)-sumColor(D18:Z18,$AB$1)","v":0},{"$f":"IF(AC18=0,\"\",SUMPRODUCT((AC$4:AC18<>0)*1))","v":""},"",{"$f":"IF(AD18=\"\",\"\",SUM(AE$4:AE18))","v":""},"",{"$f":"IF(AD18=\"\",\"\",SUM(AE18:AE$20))","v":""},"",null,{"$f":"IF(AD18=\"\",\"\",IF(AG18<=0,\" \",AC18*AG18))","v":""},{"$f":"IF(AD18=\"\",\"\",IF(AI18<=0,\" \",AC18*AI18))","v":""}]
[null,null,{"$f":"図面!B19","v":910},0.82809999999999995,0.82809999999999995,0.82809999999999995,0.82809999999999995,0.82809999999999995,0.82809999999999995,0.82809999999999995,0.82809999999999995,0.82809999999999995,0.82809999999999995,0.82809999999999995,0.82809999999999995,0.82809999999999995,0.82809999999999995,0.82809999999999995,0.82809999999999995,{"$f":"$C19*T$3/1000000","v":0.82809999999999995},0.82809999999999995,0.82809999999999995,0.82809999999999995,0.82809999999999995,0.82809999999999995,0.82809999999999995," ",null,{"$f":"SUM(D19:Z19)-sumColor(D19:Z19,$AB$1)","v":0},{"$f":"IF(AC19=0,\"\",SUMPRODUCT((AC$4:AC19<>0)*1))","v":""},"",{"$f":"IF(AD19=\"\",\"\",SUM(AE$4:AE19))","v":""},"",{"$f":"IF(AD19=\"\",\"\",SUM(AE19:AE$20))","v":""},"",null,{"$f":"IF(AD19=\"\",\"\",IF(AG19<=0,\" \",AC19*AG19))","v":""},{"$f":"IF(AD19=\"\",\"\",IF(AI19<=0,\" \",AC19*AI19))","v":""}]
[null,null,{"$f":"図面!B20","v":910},0.82809999999999995,0.82809999999999995,0.82809999999999995,0.82809999999999995,0.82809999999999995,0.82809999999999995,0.82809999999999995,0.82809999999999995,0.82809999999999995,0.82809999999999995,0.82809999999999995,0.82809999999999995,0.82809999999999995,0.82809999999999995,0.82809999999999995,0.82809999999999995,0.82809999999999995,{"$f":"$C20*U$3/1000000","v":0.82809999999999995},0.82809999999999995,0.82809999999999995,0.82809999999999995,0.82809999999999995,0.82809999999999995," ",null,{"$f":"SUM(D20:Z20)-sumColor(D20:Z20,$AB$1)","v":0},{"$f":"IF(AC20=0,\"\",SUMPRODUCT((AC$4:AC20<>0)*1))","v":""},"",{"$f":"IF(AD20=\"\",\"\",SUM(AE$4:AE20))","v":""},"",{"$f":"IF(AD20=\"\",\"\",SUM(AE20:AE$20))","v":""},{"$f":"IF(AH20=\"\",\"\",IF(AH20>$AL$25,($AL$25-#REF!)/AE20,IF(AH20<=$AL$25,1,\" \")))","v":""},null,{"$f":"IF(AD20=\"\",\"\",IF(AG20<=0,\" \",AC20*AG20))","v":""},{"$f":"IF(AD20=\"\",\"\",IF(AI20<=0,\" \",AC20*AI20))","v":""}]
[null,null,null,{"$f":"IF(COUNTIF(D27:D29,1),\"●\",\" \")","v":" "},{"$f":"IF(COUNTIF(E27:E29,1),\"●\",\" \")","v":" "}," "," "," "," "," "," "," "," "," "," "," "," "," "," "," "," "," "," "," "," "," ",null,null,{"$f":"SUMIF(AC4:AC20,\">0\")","v":0},null,null,null,null,null,null,null,{"$f":"SUMIF(AK4:AK20,\">0\")","v":0},{"$f":"SUMIF(AL4:AL20,\">0\")","v":0}]
[]
[null,"縦面積合計",null,{"$f":"SUM(D4:D20)-sumColor(D4:D20,$AA$1)","v":0},{"$f":"SUM(E4:E20)-sumColor(E4:E20,$AA$1)","v":0},{"$f":"SUM(F4:F20)-sumColor(F4:F20,$AA$1)","v":0},{"$f":"SUM(G4:G20)-sumColor(G4:G20,$AA$1)","v":0},{"$f":"SUM(H4:H20)-sumColor(H4:H20,$AA$1)","v":0},{"$f":"SUM(I4:I20)-sumColor(I4:I20,$AA$1)","v":0},{"$f":"SUM(J4:J20)-sumColor(J4:J20,$AA$1)","v":0},{"$f":"SUM(K4:K20)-sumColor(K4:K20,$AA$1)","v":0},{"$f":"SUM(L4:L20)-sumColor(L4:L20,$AA$1)","v":0},{"$f":"SUM(M4:M20)-sumColor(M4:M20,$AA$1)","v":0},{"$f":"SUM(N4:N20)-sumColor(N4:N20,$AA$1)","v":0},{"$f":"SUM(O4:O20)-sumColor(O4:O20,$AA$1)","v":0},{"$f":"SUM(P4:P20)-sumColor(P4:P20,$AA$1)","v":0},{"$f":"SUM(Q4:Q20)-sumColor(Q4:Q20,$AA$1)","v":0},{"$f":"SUM(R4:R20)-sumColor(R4:R20,$AA$1)","v":0},{"$f":"SUM(S4:S20)-sumColor(S4:S20,$AA$1)","v":0},{"$f":"SUM(T4:T20)-sumColor(T4:T20,$AA$1)","v":0},{"$f":"SUM(U4:U20)-sumColor(U4:U20,$AA$1)","v":0},{"$f":"SUM(V4:V20)-sumColor(V4:V20,$AA$1)","v":0},{"$f":"SUM(W4:W20)-sumColor(W4:W20,$AA$1)","v":0},{"$f":"SUM(X4:X20)-sumColor(X4:X20,$AA$1)","v":0},{"$f":"SUM(Y4:Y20)-sumColor(Y4:Y20,$AA$1)","v":0},{"$f":"SUM(Z4:Z20)-sumColor(Z4:Z20,$AA$1)","v":0},{"$f":"SUMIF(D23:Z23,\">0\")","v":0}]
[null,"番号",null,{"$f":"IF(D23=0,\"\",SUMPRODUCT(($D23:D23<>0)*1))","v":""},{"$f":"IF(E23=0,\"\",SUMPRODUCT(($D23:E23<>0)*1))","v":""},{"$f":"IF(F23=0,\"\",SUMPRODUCT(($D23:F23<>0)*1))","v":""},{"$f":"IF(G23=0,\"\",SUMPRODUCT(($D23:G23<>0)*1))","v":""},{"$f":"IF(H23=0,\"\",SUMPRODUCT(($D23:H23<>0)*1))","v":""},{"$f":"IF(I23=0,\"\",SUMPRODUCT(($D23:I23<>0)*1))","v":""},{"$f":"IF(J23=0,\"\",SUMPRODUCT(($D23:J23<>0)*1))","v":""},{"$f":"IF(K23=0,\"\",SUMPRODUCT(($D23:K23<>0)*1))","v":""},{"$f":"IF(L23=0,\"\",SUMPRODUCT(($D23:L23<>0)*1))","v":""},{"$f":"IF(M23=0,\"\",SUMPRODUCT(($D23:M23<>0)*1))","v":""},{"$f":"IF(N23=0,\"\",SUMPRODUCT(($D23:N23<>0)*1))","v":""},{"$f":"IF(O23=0,\"\",SUMPRODUCT(($D23:O23<>0)*1))","v":""},{"$f":"IF(P23=0,\"\",SUMPRODUCT(($D23:P23<>0)*1))","v":""},{"$f":"IF(Q23=0,\"\",SUMPRODUCT(($D23:Q23<>0)*1))","v":""},{"$f":"IF(R23=0,\"\",SUMPRODUCT(($D23:R23<>0)*1))","v":""},{"$f":"IF(S23=0,\"\",SUMPRODUCT(($D23:S23<>0)*1))","v":""},{"$f":"IF(T23=0,\"\",SUMPRODUCT(($D23:T23<>0)*1))","v":""},{"$f":"IF(U23=0,\"\",SUMPRODUCT(($D23:U23<>0)*1))","v":""},{"$f":"IF(V23=0,\"\",SUMPRODUCT(($D23:V23<>0)*1))","v":""},{"$f":"IF(W23=0,\"\",SUMPRODUCT(($D23:W23<>0)*1))","v":""},{"$f":"IF(X23=0,\"\",SUMPRODUCT(($D23:X23<>0)*1))","v":""},{"$f":"IF(Y23=0,\"\",SUMPRODUCT(($D23:Y23<>0)*1))","v":""},{"$f":"IF(Z23=0,\"\",SUMPRODUCT(($D23:Z23<>0)*1))","v":""}]
[null,"セル高さ",null,{"$f":"IF(D24=\"\",\"\",D3)","v":""},"","","","","","","","","","","","","","","","","","","","","","",null,null,null,null,"横方向４分割線位置",{"$f":"SUM(AE4:AE20)","v":0},null,"/",4,"＝",null,{"$f":"AF25/AI25","v":0}]
[null,"左からの累計長さ",null,{"$f":"IF(D24=\"\",\"\",SUM($D25:D25))","v":""},{"$f":"IF(E24=\"\",\"\",SUM($D25:E25))","v":""},{"$f":"IF(F24=\"\",\"\",SUM($D25:F25))","v":""},{"$f":"IF(G24=\"\",\"\",SUM($D25:G25))","v":""},{"$f":"IF(H24=\"\",\"\",SUM($D25:H25))","v":""},{"$f":"IF(I24=\"\",\"\",SUM($D25:I25))","v":""},{"$f":"IF(J24=\"\",\"\",SUM($D25:J25))","v":""},{"$f":"IF(K24=\"\",\"\",SUM($D25:K25))","v":""},{"$f":"IF(L24=\"\",\"\",SUM($D25:L25))","v":""},{"$f":"IF(M24=\"\",\"\",SUM($D25:M25))","v":""},{"$f":"IF(N24=\"\",\"\",SUM($D25:N25))","v":""},{"$f":"IF(O24=\"\",\"\",SUM($D25:O25))","v":""},{"$f":"IF(P24=\"\",\"\",SUM($D25:P25))","v":""},{"$f":"IF(Q24=\"\",\"\",SUM($D25:Q25))","v":""},{"$f":"IF(R24=\"\",\"\",SUM($D25:R25))","v":""},{"$f":"IF(S24=\"\",\"\",SUM($D25:S25))","v":""},{"$f":"IF(T24=\"\",\"\",SUM($D25:T25))","v":""},{"$f":"IF(U24=\"\",\"\",SUM($D25:U25))","v":""},{"$f":"IF(V24=\"\",\"\",SUM($D25:V25))","v":""},{"$f":"IF(W24=\"\",\"\",SUM($D25:W25))","v":""},{"$f":"IF(X24=\"\",\"\",SUM($D25:X25))","v":""},{"$f":"IF(Y24=\"\",\"\",SUM($D25:Y25))","v":""},{"$f":"IF(Z24=\"\",\"\",SUM($D25:Z25))","v":""},null,null,null,null,"縦方向４分割線位置",{"$f":"SUM(D25:Z25)","v":0},null,"/",4,"＝",null,{"$f":"AF26/AI26","v":0}]
[null,"倍率",null,{"$f":"IF(D26=\"\",\"\",IF(D26>$AL$26,($AL$26-C26)/D25,IF(D26<=$AL$26,1,\" \")))","v":""},"","","","","","","","","","","","","","","","","","","","","",""]
[null,"右からの累計長さ",null,{"$f":"IF(D24=\"\",\"\",SUM(D25:$Z25))","v":""},{"$f":"IF(E24=\"\",\"\",SUM(E25:$Z25))","v":""},{"$f":"IF(F24=\"\",\"\",SUM(F25:$Z25))","v":""},{"$f":"IF(G24=\"\",\"\",SUM(G25:$Z25))","v":""},{"$f":"IF(H24=\"\",\"\",SUM(H25:$Z25))","v":""},{"$f":"IF(I24=\"\",\"\",SUM(I25:$Z25))","v":""},{"$f":"IF(J24=\"\",\"\",SUM(J25:$Z25))","v":""},{"$f":"IF(K24=\"\",\"\",SUM(K25:$Z25))","v":""},{"$f":"IF(L24=\"\",\"\",SUM(L25:$Z25))","v":""},{"$f":"IF(M24=\"\",\"\",SUM(M25:$Z25))","v":""},{"$f":"IF(N24=\"\",\"\",SUM(N25:$Z25))","v":""},{"$f":"IF(O24=\"\",\"\",SUM(O25:$Z25))","v":""},{"$f":"IF(P24=\"\",\"\",SUM(P25:$Z25))","v":""},{"$f":"IF(Q24=\"\",\"\",SUM(Q25:$Z25))","v":""},{"$f":"IF(R24=\"\",\"\",SUM(R25:$Z25))","v":""},{"$f":"IF(S24=\"\",\"\",SUM(S25:$Z25))","v":""},{"$f":"IF(T24=\"\",\"\",SUM(T25:$Z25))","v":""},{"$f":"IF(U24=\"\",\"\",SUM(U25:$Z25))","v":""},{"$f":"IF(V24=\"\",\"\",SUM(V25:$Z25))","v":""},{"$f":"IF(W24=\"\",\"\",SUM(W25:$Z25))","v":""},{"$f":"IF(X24=\"\",\"\",SUM(X25:$Z25))","v":""},{"$f":"IF(Y24=\"\",\"\",SUM(Y25:$Z25))","v":""},{"$f":"IF(Z24=\"\",\"\",SUM(Z25:$Z25))","v":""}]
[null,"倍率",null,{"$f":"IF(D28=\"\",\"\",IF(D28>$AL$26,($AL$26-E28)/D25,IF(D28<=$AL$26,1,\" \")))","v":""},"","","","","","","","","","","","","","","","","","","","","",{"$f":"IF(Z28=\"\",\"\",IF(Z28>$AL$26,($AL$26-#REF!)/Z25,IF(Z28<=$AL$26,1,\" \")))","v":""}]
[]
[null,"面積(左)",null,{"$f":"IF(D24=\"\",\"\",IF(D27<=0,\" \",D23*D27))","v":""},{"$f":"IF(E24=\"\",\"\",IF(E27<=0,\" \",E23*E27))","v":""},"","","","",{"$f":"IF(J24=\"\",\"\",IF(J27<=0,\" \",J23*J27))","v":""},"","","","","","","","","","","","","",{"$f":"IF(X24=\"\",\"\",IF(X27<=0,\" \",X23*X27))","v":""},{"$f":"IF(Y24=\"\",\"\",IF(Y27<=0,\" \",Y23*Y27))","v":""},{"$f":"IF(Z24=\"\",\"\",IF(Z27<=0,\" \",Z23*Z27))","v":""},{"$f":"SUMIF(D31:Z31,\">0\")","v":0}]
[null,"面積(右)",null,{"$f":"IF(D24=\"\",\"\",IF(D29<=0,\" \",D23*D29))","v":""},{"$f":"IF(E24=\"\",\"\",IF(E29<=0,\" \",E23*E29))","v":""},"","","","","","","","","","","","","","","","","","",{"$f":"IF(X24=\"\",\"\",IF(X29<=0,\" \",X23*X29))","v":""},{"$f":"IF(Y24=\"\",\"\",IF(Y29<=0,\" \",Y23*Y29))","v":""},{"$f":"IF(Z24=\"\",\"\",IF(Z29<=0,\" \",Z23*Z29))","v":""},{"$f":"SUMIF(D32:Z32,\">0\")","v":0}]

{"sheet":"壁量計算","index":7,"n_rows":43,"n_cols":49,"rows_kept":43,"cut":false,"hidden":true,"merged":[]}
[]
[]
[null,null,null,{"$f":"図面!D2","v":910},{"$f":"図面!E2","v":910},{"$f":"図面!F2","v":910},{"$f":"図面!G2","v":910},{"$f":"図面!H2","v":910},{"$f":"図面!I2","v":910},{"$f":"図面!J2","v":910},{"$f":"図面!K2","v":910},{"$f":"図面!L2","v":910},{"$f":"図面!M2","v":910},{"$f":"図面!N2","v":910},{"$f":"図面!O2","v":910},{"$f":"図面!P2","v":910},{"$f":"図面!Q2","v":910},{"$f":"図面!R2","v":910},{"$f":"図面!S2","v":910},{"$f":"図面!T2","v":910},{"$f":"図面!U2","v":910},{"$f":"図面!V2","v":910},{"$f":"図面!W2","v":910},{"$f":"図面!X2","v":910},{"$f":"図面!Y2","v":910},{"$f":"図面!Z2","v":910},null,null,"↑あ","↓あ","↑い","↓い","↑う","↓う","↑え","↓え","↑お","↓お","↑か","↓か","合計",null,null,"上壁量","↓","補正上","下壁量","↑","補正下"]
[null,null,{"$f":"図面!B4","v":910},{"$f":"IF(図面!D4=\"\",\"\",図面!D4)","v":""},{"$f":"IF(図面!E4=\"\",\"\",図面!E4)","v":""},{"$f":"IF(図面!F4=\"\",\"\",図面!F4)","v":""},{"$f":"IF(図面!G4=\"\",\"\",図面!G4)","v":""},{"$f":"IF(図面!H4=\"\",\"\",図面!H4)","v":""},{"$f":"IF(図面!I4=\"\",\"\",図面!I4)","v":""},{"$f":"IF(図面!J4=\"\",\"\",図面!J4)","v":""},{"$f":"IF(図面!K4=\"\",\"\",図面!K4)","v":""},{"$f":"IF(図面!L4=\"\",\"\",図面!L4)","v":""},{"$f":"IF(図面!M4=\"\",\"\",図面!M4)","v":""},{"$f":"IF(図面!N4=\"\",\"\",図面!N4)","v":""},{"$f":"IF(図面!O4=\"\",\"\",図面!O4)","v":""},{"$f":"IF(図面!P4=\"\",\"\",図面!P4)","v":""},{"$f":"IF(図面!Q4=\"\",\"\",図面!Q4)","v":""},{"$f":"IF(図面!R4=\"\",\"\",図面!R4)","v":""},{"$f":"IF(図面!S4=\"\",\"\",図面!S4)","v":""},{"$f":"IF(図面!T4=\"\",\"\",図面!T4)","v":""},{"$f":"IF(図面!U4=\"\",\"\",図面!U4)","v":""},{"$f":"IF(図面!V4=\"\",\"\",図面!V4)","v":""},{"$f":"IF(図面!W4=\"\",\"\",図面!W4)","v":""},{"$f":"IF(図面!X4=\"\",\"\",図面!X4)","v":""},{"$f":"IF(図面!Y4=\"\",\"\",図面!Y4)","v":""},{"$f":"IF(図面!Z4=\"\",\"\",図面!Z4)","v":""},{"$f":"IF(COUNTIF(面積計算!AG4:AI4,1),\"●\",\" \")","v":" "},null,{"$f":"SUMIF($D4:$Z4,\"*↑あ*\",$D$3:$Z$3)/1000*図面!$AK$19","v":0},{"$f":"SUMIF($D4:$Z4,\"*↓あ*\",$D$3:$Z$3)/1000*図面!$AK$19","v":0},{"$f":"SUMIF($D4:$Z4,\"*↑い*\",$D$3:$Z$3)/1000*図面!$AK$20","v":0},{"$f":"SUMIF($D4:$Z4,\"*↓い*\",$D$3:$Z$3)/1000*図面!$AK$20","v":0},{"$f":"SUMIF($D4:$Z4,\"*↑う*\",$D$3:$Z$3)/1000*図面!$AK$21","v":0},{"$f":"SUMIF($D4:$Z4,\"*↓う*\",$D$3:$Z$3)/1000*図面!$AK$21","v":0},{"$f":"SUMIF($D4:$Z4,\"*↑え*\",$D$3:$Z$3)/1000*図面!$AK$22","v":0},{"$f":"SUMIF($D4:$Z4,\"*↓え*\",$D$3:$Z$3)/1000*図面!$AK$22","v":0},{"$f":"SUMIF($D4:$Z4,\"*↑お*\",$D$3:$Z$3)/1000*図面!$AK$23","v":0},{"$f":"SUMIF($D4:$Z4,\"*↓お*\",$D$3:$Z$3)/1000*図面!AK$23","v":0},{"$f":"SUMIF($D4:$Z4,\"*↑か*\",$D$3:$Z$3)/1000*図面!$AK$24","v":0},{"$f":"SUMIF($D4:$Z4,\"*↓か*\",$D$3:$Z$3)/1000*図面!$AK$24","v":0},{"$f":"SUM(AC4:AN4)","v":0},{"$f":"IF(COUNTIF(面積計算!AG4,1),\"上\",\" \")","v":" "},{"$f":"IF(COUNTIF(面積計算!AI4,1),\"下\",\" \")","v":" "},{"$f":"IF(COUNTIF(AP3:AP5,\"上\"),AO4,0)","v":0},{"$f":"AD4+AF4+AH4+AJ4+AL4+AN4","v":0},{"$f":"IF(AND(AP4=\" \",AP3=\"上\"),AR4-AS4,AR4)","v":0},{"$f":"IF(COUNTIF(AQ3:AQ5,\"下\"),AO4,0)","v":0},{"$f":"AC4+AE4+AG4+AI4+AK4+AM4","v":0},{"$f":"IF(AND(AQ4=\" \",AQ5=\"下\"),AU4-AV4,AU4)","v":0}]
[null,null,{"$f":"図面!B5","v":910},{"$f":"IF(図面!D5=\"\",\"\",図面!D5)","v":""},{"$f":"IF(図面!E5=\"\",\"\",図面!E5)","v":""},{"$f":"IF(図面!F5=\"\",\"\",図面!F5)","v":""},{"$f":"IF(図面!G5=\"\",\"\",図面!G5)","v":""},{"$f":"IF(図面!H5=\"\",\"\",図面!H5)","v":""},{"$f":"IF(図面!I5=\"\",\"\",図面!I5)","v":""},{"$f":"IF(図面!J5=\"\",\"\",図面!J5)","v":""},{"$f":"IF(図面!K5=\"\",\"\",図面!K5)","v":""},{"$f":"IF(図面!L5=\"\",\"\",図面!L5)","v":""},{"$f":"IF(図面!M5=\"\",\"\",図面!M5)","v":""},{"$f":"IF(図面!N5=\"\",\"\",図面!N5)","v":""},{"$f":"IF(図面!O5=\"\",\"\",図面!O5)","v":""},{"$f":"IF(図面!P5=\"\",\"\",図面!P5)","v":""},{"$f":"IF(図面!Q5=\"\",\"\",図面!Q5)","v":""},{"$f":"IF(図面!R5=\"\",\"\",図面!R5)","v":""},{"$f":"IF(図面!S5=\"\",\"\",図面!S5)","v":""},{"$f":"IF(図面!T5=\"\",\"\",図面!T5)","v":""},{"$f":"IF(図面!U5=\"\",\"\",図面!U5)","v":""},{"$f":"IF(図面!V5=\"\",\"\",図面!V5)","v":""},{"$f":"IF(図面!W5=\"\",\"\",図面!W5)","v":""},{"$f":"IF(図面!X5=\"\",\"\",図面!X5)","v":""},{"$f":"IF(図面!Y5=\"\",\"\",図面!Y5)","v":""},{"$f":"IF(図面!Z5=\"\",\"\",図面!Z5)","v":""},{"$f":"IF(COUNTIF(面積計算!AG5:AI5,1),\"●\",\" \")","v":" "},null,{"$f":"SUMIF($D5:$Z5,\"*↑あ*\",$D$3:$Z$3)/1000*図面!$AK$19","v":0},{"$f":"SUMIF($D5:$Z5,\"*↓あ*\",$D$3:$Z$3)/1000*図面!$AK$19","v":0},{"$f":"SUMIF($D5:$Z5,\"*↑い*\",$D$3:$Z$3)/1000*図面!$AK$20","v":0},{"$f":"SUMIF($D5:$Z5,\"*↓い*\",$D$3:$Z$3)/1000*図面!$AK$20","v":0},{"$f":"SUMIF($D5:$Z5,\"*↑う*\",$D$3:$Z$3)/1000*図面!$AK$21","v":0},{"$f":"SUMIF($D5:$Z5,\"*↓う*\",$D$3:$Z$3)/1000*図面!$AK$21","v":0},{"$f":"SUMIF($D5:$Z5,\"*↑え*\",$D$3:$Z$3)/1000*図面!$AK$22","v":0},{"$f":"SUMIF($D5:$Z5,\"*↓え*\",$D$3:$Z$3)/1000*図面!$AK$22","v":0},{"$f":"SUMIF($D5:$Z5,\"*↑お*\",$D$3:$Z$3)/1000*図面!$AK$23","v":0},{"$f":"SUMIF($D5:$Z5,\"*↓お*\",$D$3:$Z$3)/1000*図面!AK$23","v":0},{"$f":"SUMIF($D5:$Z5,\"*↑か*\",$D$3:$Z$3)/1000*図面!$AK$24","v":0},{"$f":"SUMIF($D5:$Z5,\"*↓か*\",$D$3:$Z$3)/1000*図面!$AK$24","v":0},{"$f":"SUM(AC5:AN5)","v":0},{"$f":"IF(COUNTIF(面積計算!AG5,1),\"上\",\" \")","v":" "},{"$f":"IF(COUNTIF(面積計算!AI5,1),\"下\",\" \")","v":" "},{"$f":"IF(COUNTIF(AP4:AP6,\"上\"),AO5,0)","v":0},{"$f":"AD5+AF5+AH5+AJ5+AL5+AN5","v":0},{"$f":"IF(AND(AP5=\" \",AP4=\"上\"),AR5-AS5,AR5)","v":0},0,{"$f":"AC5+AE5+AG5+AI5+AK5+AM5","v":0},0]
[null,null,{"$f":"図面!B6","v":910},{"$f":"IF(図面!D6=\"\",\"\",図面!D6)","v":""},{"$f":"IF(図面!E6=\"\",\"\",図面!E6)","v":""},{"$f":"IF(図面!F6=\"\",\"\",図面!F6)","v":""},{"$f":"IF(図面!G6=\"\",\"\",図面!G6)","v":""},{"$f":"IF(図面!H6=\"\",\"\",図面!H6)","v":""},{"$f":"IF(図面!I6=\"\",\"\",図面!I6)","v":""},{"$f":"IF(図面!J6=\"\",\"\",図面!J6)","v":""},{"$f":"IF(図面!K6=\"\",\"\",図面!K6)","v":""},{"$f":"IF(図面!L6=\"\",\"\",図面!L6)","v":""},{"$f":"IF(図面!M6=\"\",\"\",図面!M6)","v":""},{"$f":"IF(図面!N6=\"\",\"\",図面!N6)","v":""},{"$f":"IF(図面!O6=\"\",\"\",図面!O6)","v":""},{"$f":"IF(図面!P6=\"\",\"\",図面!P6)","v":""},{"$f":"IF(図面!Q6=\"\",\"\",図面!Q6)","v":""},{"$f":"IF(図面!R6=\"\",\"\",図面!R6)","v":""},{"$f":"IF(図面!S6=\"\",\"\",図面!S6)","v":""},{"$f":"IF(図面!T6=\"\",\"\",図面!T6)","v":""},{"$f":"IF(図面!U6=\"\",\"\",図面!U6)","v":""},{"$f":"IF(図面!V6=\"\",\"\",図面!V6)","v":""},{"$f":"IF(図面!W6=\"\",\"\",図面!W6)","v":""},{"$f":"IF(図面!X6=\"\",\"\",図面!X6)","v":""},{"$f":"IF(図面!Y6=\"\",\"\",図面!Y6)","v":""},{"$f":"IF(図面!Z6=\"\",\"\",図面!Z6)","v":""},{"$f":"IF(COUNTIF(面積計算!AG6:AI6,1),\"●\",\" \")","v":" "},null,{"$f":"SUMIF($D6:$Z6,\"*↑あ*\",$D$3:$Z$3)/1000*図面!$AK$19","v":0},{"$f":"SUMIF($D6:$Z6,\"*↓あ*\",$D$3:$Z$3)/1000*図面!$AK$19","v":0},{"$f":"SUMIF($D6:$Z6,\"*↑い*\",$D$3:$Z$3)/1000*図面!$AK$20","v":0},{"$f":"SUMIF($D6:$Z6,\"*↓い*\",$D$3:$Z$3)/1000*図面!$AK$20","v":0},{"$f":"SUMIF($D6:$Z6,\"*↑う*\",$D$3:$Z$3)/1000*図面!$AK$21","v":0},{"$f":"SUMIF($D6:$Z6,\"*↓う*\",$D$3:$Z$3)/1000*図面!$AK$21","v":0},{"$f":"SUMIF($D6:$Z6,\"*↑え*\",$D$3:$Z$3)/1000*図面!$AK$22","v":0},{"$f":"SUMIF($D6:$Z6,\"*↓え*\",$D$3:$Z$3)/1000*図面!$AK$22","v":0},{"$f":"SUMIF($D6:$Z6,\"*↑お*\",$D$3:$Z$3)/1000*図面!$AK$23","v":0},{"$f":"SUMIF($D6:$Z6,\"*↓お*\",$D$3:$Z$3)/1000*図面!AK$23","v":0},{"$f":"SUMIF($D6:$Z6,\"*↑か*\",$D$3:$Z$3)/1000*図面!$AK$24","v":0},{"$f":"SUMIF($D6:$Z6,\"*↓か*\",$D$3:$Z$3)/1000*図面!$AK$24","v":0},0,{"$f":"IF(COUNTIF(面積計算!AG6,1),\"上\",\" \")","v":" "},{"$f":"IF(COUNTIF(面積計算!AI6,1),\"下\",\" \")","v":" "},{"$f":"IF(COUNTIF(AP5:AP7,\"上\"),AO6,0)","v":0},0,{"$f":"IF(AND(AP6=\" \",AP5=\"上\"),AR6-AS6,AR6)","v":0},0,0,0]
[null,null,{"$f":"図面!B7","v":910},{"$f":"IF(図面!D7=\"\",\"\",図面!D7)","v":""},{"$f":"IF(図面!E7=\"\",\"\",図面!E7)","v":""},{"$f":"IF(図面!F7=\"\",\"\",図面!F7)","v":""},{"$f":"IF(図面!G7=\"\",\"\",図面!G7)","v":""},{"$f":"IF(図面!H7=\"\",\"\",図面!H7)","v":""},{"$f":"IF(図面!I7=\"\",\"\",図面!I7)","v":""},{"$f":"IF(図面!J7=\"\",\"\",図面!J7)","v":""},{"$f":"IF(図面!K7=\"\",\"\",図面!K7)","v":""},{"$f":"IF(図面!L7=\"\",\"\",図面!L7)","v":""},{"$f":"IF(図面!M7=\"\",\"\",図面!M7)","v":""},{"$f":"IF(図面!N7=\"\",\"\",図面!N7)","v":""},{"$f":"IF(図面!O7=\"\",\"\",図面!O7)","v":""},{"$f":"IF(図面!P7=\"\",\"\",図面!P7)","v":""},{"$f":"IF(図面!Q7=\"\",\"\",図面!Q7)","v":""},{"$f":"IF(図面!R7=\"\",\"\",図面!R7)","v":""},{"$f":"IF(図面!S7=\"\",\"\",図面!S7)","v":""},{"$f":"IF(図面!T7=\"\",\"\",図面!T7)","v":""},{"$f":"IF(図面!U7=\"\",\"\",図面!U7)","v":""},{"$f":"IF(図面!V7=\"\",\"\",図面!V7)","v":""},{"$f":"IF(図面!W7=\"\",\"\",図面!W7)","v":""},{"$f":"IF(図面!X7=\"\",\"\",図面!X7)","v":""},{"$f":"IF(図面!Y7=\"\",\"\",図面!Y7)","v":""},{"$f":"IF(図面!Z7=\"\",\"\",図面!Z7)","v":""},{"$f":"IF(COUNTIF(面積計算!AG7:AI7,1),\"●\",\" \")","v":" "},null,{"$f":"SUMIF($D7:$Z7,\"*↑あ*\",$D$3:$Z$3)/1000*図面!$AK$19","v":0},{"$f":"SUMIF($D7:$Z7,\"*↓あ*\",$D$3:$Z$3)/1000*図面!$AK$19","v":0},{"$f":"SUMIF($D7:$Z7,\"*↑い*\",$D$3:$Z$3)/1000*図面!$AK$20","v":0},{"$f":"SUMIF($D7:$Z7,\"*↓い*\",$D$3:$Z$3)/1000*図面!$AK$20","v":0},{"$f":"SUMIF($D7:$Z7,\"*↑う*\",$D$3:$Z$3)/1000*図面!$AK$21","v":0},{"$f":"SUMIF($D7:$Z7,\"*↓う*\",$D$3:$Z$3)/1000*図面!$AK$21","v":0},{"$f":"SUMIF($D7:$Z7,\"*↑え*\",$D$3:$Z$3)/1000*図面!$AK$22","v":0},{"$f":"SUMIF($D7:$Z7,\"*↓え*\",$D$3:$Z$3)/1000*図面!$AK$22","v":0},{"$f":"SUMIF($D7:$Z7,\"*↑お*\",$D$3:$Z$3)/1000*図面!$AK$23","v":0},{"$f":"SUMIF($D7:$Z7,\"*↓お*\",$D$3:$Z$3)/1000*図面!AK$23","v":0},{"$f":"SUMIF($D7:$Z7,\"*↑か*\",$D$3:$Z$3)/1000*図面!$AK$24","v":0},{"$f":"SUMIF($D7:$Z7,\"*↓か*\",$D$3:$Z$3)/1000*図面!$AK$24","v":0},0,{"$f":"IF(COUNTIF(面積計算!AG7,1),\"上\",\" \")","v":" "},{"$f":"IF(COUNTIF(面積計算!AI7,1),\"下\",\" \")","v":" "},{"$f":"IF(COUNTIF(AP6:AP8,\"上\"),AO7,0)","v":0},{"$f":"AD7+AF7+AH7+AJ7+AL7+AN7","v":0},{"$f":"IF(AND(AP7=\" \",AP6=\"上\"),AR7-AS7,AR7)","v":0},0,0,{"$f":"IF(AND(AQ7=\" \",AQ8=\"下\"),AU7-AV7,AU7)","v":0}]
[null,null,{"$f":"図面!B8","v":910},{"$f":"IF(図面!D8=\"\",\"\",図面!D8)","v":""},{"$f":"IF(図面!E8=\"\",\"\",図面!E8)","v":""},{"$f":"IF(図面!F8=\"\",\"\",図面!F8)","v":""},{"$f":"IF(図面!G8=\"\",\"\",図面!G8)","v":""},{"$f":"IF(図面!H8=\"\",\"\",図面!H8)","v":""},{"$f":"IF(図面!I8=\"\",\"\",図面!I8)","v":""},{"$f":"IF(図面!J8=\"\",\"\",図面!J8)","v":""},{"$f":"IF(図面!K8=\"\",\"\",図面!K8)","v":""},{"$f":"IF(図面!L8=\"\",\"\",図面!L8)","v":""},{"$f":"IF(図面!M8=\"\",\"\",図面!M8)","v":""},{"$f":"IF(図面!N8=\"\",\"\",図面!N8)","v":""},{"$f":"IF(図面!O8=\"\",\"\",図面!O8)","v":""},{"$f":"IF(図面!P8=\"\",\"\",図面!P8)","v":""},{"$f":"IF(図面!Q8=\"\",\"\",図面!Q8)","v":""},{"$f":"IF(図面!R8=\"\",\"\",図面!R8)","v":""},{"$f":"IF(図面!S8=\"\",\"\",図面!S8)","v":""},{"$f":"IF(図面!T8=\"\",\"\",図面!T8)","v":""},{"$f":"IF(図面!U8=\"\",\"\",図面!U8)","v":""},{"$f":"IF(図面!V8=\"\",\"\",図面!V8)","v":""},{"$f":"IF(図面!W8=\"\",\"\",図面!W8)","v":""},{"$f":"IF(図面!X8=\"\",\"\",図面!X8)","v":""},{"$f":"IF(図面!Y8=\"\",\"\",図面!Y8)","v":""},{"$f":"IF(図面!Z8=\"\",\"\",図面!Z8)","v":""},{"$f":"IF(COUNTIF(面積計算!AG8:AI8,1),\"●\",\" \")","v":" "},null,{"$f":"SUMIF($D8:$Z8,\"*↑あ*\",$D$3:$Z$3)/1000*図面!$AK$19","v":0},{"$f":"SUMIF($D8:$Z8,\"*↓あ*\",$D$3:$Z$3)/1000*図面!$AK$19","v":0},{"$f":"SUMIF($D8:$Z8,\"*↑い*\",$D$3:$Z$3)/1000*図面!$AK$20","v":0},{"$f":"SUMIF($D8:$Z8,\"*↓い*\",$D$3:$Z$3)/1000*図面!$AK$20","v":0},{"$f":"SUMIF($D8:$Z8,\"*↑う*\",$D$3:$Z$3)/1000*図面!$AK$21","v":0},{"$f":"SUMIF($D8:$Z8,\"*↓う*\",$D$3:$Z$3)/1000*図面!$AK$21","v":0},{"$f":"SUMIF($D8:$Z8,\"*↑え*\",$D$3:$Z$3)/1000*図面!$AK$22","v":0},{"$f":"SUMIF($D8:$Z8,\"*↓え*\",$D$3:$Z$3)/1000*図面!$AK$22","v":0},{"$f":"SUMIF($D8:$Z8,\"*↑お*\",$D$3:$Z$3)/1000*図面!$AK$23","v":0},{"$f":"SUMIF($D8:$Z8,\"*↓お*\",$D$3:$Z$3)/1000*図面!AK$23","v":0},{"$f":"SUMIF($D8:$Z8,\"*↑か*\",$D$3:$Z$3)/1000*図面!$AK$24","v":0},{"$f":"SUMIF($D8:$Z8,\"*↓か*\",$D$3:$Z$3)/1000*図面!$AK$24","v":0},0,{"$f":"IF(COUNTIF(面積計算!AG8,1),\"上\",\" \")","v":" "},{"$f":"IF(COUNTIF(面積計算!AI8,1),\"下\",\" \")","v":" "},{"$f":"IF(COUNTIF(AP7:AP9,\"上\"),AO8,0)","v":0},0,{"$f":"IF(AND(AP8=\" \",AP7=\"上\"),AR8-AS8,AR8)","v":0},0,0,0]
[null,null,{"$f":"図面!B9","v":910},{"$f":"IF(図面!D9=\"\",\"\",図面!D9)","v":""},{"$f":"IF(図面!E9=\"\",\"\",図面!E9)","v":""},{"$f":"IF(図面!F9=\"\",\"\",図面!F9)","v":""},{"$f":"IF(図面!G9=\"\",\"\",図面!G9)","v":""},{"$f":"IF(図面!H9=\"\",\"\",図面!H9)","v":""},{"$f":"IF(図面!I9=\"\",\"\",図面!I9)","v":""},{"$f":"IF(図面!J9=\"\",\"\",図面!J9)","v":""},{"$f":"IF(図面!K9=\"\",\"\",図面!K9)","v":""},{"$f":"IF(図面!L9=\"\",\"\",図面!L9)","v":""},{"$f":"IF(図面!M9=\"\",\"\",図面!M9)","v":""},{"$f":"IF(図面!N9=\"\",\"\",図面!N9)","v":""},{"$f":"IF(図面!O9=\"\",\"\",図面!O9)","v":""},{"$f":"IF(図面!P9=\"\",\"\",図面!P9)","v":""},{"$f":"IF(図面!Q9=\"\",\"\",図面!Q9)","v":""},{"$f":"IF(図面!R9=\"\",\"\",図面!R9)","v":""},{"$f":"IF(図面!S9=\"\",\"\",図面!S9)","v":""},{"$f":"IF(図面!T9=\"\",\"\",図面!T9)","v":""},{"$f":"IF(図面!U9=\"\",\"\",図面!U9)","v":""},{"$f":"IF(図面!V9=\"\",\"\",図面!V9)","v":""},{"$f":"IF(図面!W9=\"\",\"\",図面!W9)","v":""},{"$f":"IF(図面!X9=\"\",\"\",図面!X9)","v":""},{"$f":"IF(図面!Y9=\"\",\"\",図面!Y9)","v":""},{"$f":"IF(図面!Z9=\"\",\"\",図面!Z9)","v":""},{"$f":"IF(COUNTIF(面積計算!AG9:AI9,1),\"●\",\" \")","v":" "},null,{"$f":"SUMIF($D9:$Z9,\"*↑あ*\",$D$3:$Z$3)/1000*図面!$AK$19","v":0},{"$f":"SUMIF($D9:$Z9,\"*↓あ*\",$D$3:$Z$3)/1000*図面!$AK$19","v":0},{"$f":"SUMIF($D9:$Z9,\"*↑い*\",$D$3:$Z$3)/1000*図面!$AK$20","v":0},{"$f":"SUMIF($D9:$Z9,\"*↓い*\",$D$3:$Z$3)/1000*図面!$AK$20","v":0},{"$f":"SUMIF($D9:$Z9,\"*↑う*\",$D$3:$Z$3)/1000*図面!$AK$21","v":0},{"$f":"SUMIF($D9:$Z9,\"*↓う*\",$D$3:$Z$3)/1000*図面!$AK$21","v":0},{"$f":"SUMIF($D9:$Z9,\"*↑え*\",$D$3:$Z$3)/1000*図面!$AK$22","v":0},{"$f":"SUMIF($D9:$Z9,\"*↓え*\",$D$3:$Z$3)/1000*図面!$AK$22","v":0},{"$f":"SUMIF($D9:$Z9,\"*↑お*\",$D$3:$Z$3)/1000*図面!$AK$23","v":0},{"$f":"SUMIF($D9:$Z9,\"*↓お*\",$D$3:$Z$3)/1000*図面!AK$23","v":0},{"$f":"SUMIF($D9:$Z9,\"*↑か*\",$D$3:$Z$3)/1000*図面!$AK$24","v":0},{"$f":"SUMIF($D9:$Z9,\"*↓か*\",$D$3:$Z$3)/1000*図面!$AK$24","v":0},0,{"$f":"IF(COUNTIF(面積計算!AG9,1),\"上\",\" \")","v":" "},{"$f":"IF(COUNTIF(面積計算!AI9,1),\"下\",\" \")","v":" "},{"$f":"IF(COUNTIF(AP8:AP10,\"上\"),AO9,0)","v":0},0,{"$f":"IF(AND(AP9=\" \",AP8=\"上\"),AR9-AS9,AR9)","v":0},0,0,0]
[null,null,{"$f":"図面!B10","v":910},{"$f":"IF(図面!D10=\"\",\"\",図面!D10)","v":""},{"$f":"IF(図面!E10=\"\",\"\",図面!E10)","v":""},{"$f":"IF(図面!F10=\"\",\"\",図面!F10)","v":""},{"$f":"IF(図面!G10=\"\",\"\",図面!G10)","v":""},{"$f":"IF(図面!H10=\"\",\"\",図面!H10)","v":""},{"$f":"IF(図面!I10=\"\",\"\",図面!I10)","v":""},{"$f":"IF(図面!J10=\"\",\"\",図面!J10)","v":""},{"$f":"IF(図面!K10=\"\",\"\",図面!K10)","v":""},{"$f":"IF(図面!L10=\"\",\"\",図面!L10)","v":""},{"$f":"IF(図面!M10=\"\",\"\",図面!M10)","v":""},{"$f":"IF(図面!N10=\"\",\"\",図面!N10)","v":""},{"$f":"IF(図面!O10=\"\",\"\",図面!O10)","v":""},{"$f":"IF(図面!P10=\"\",\"\",図面!P10)","v":""},{"$f":"IF(図面!Q10=\"\",\"\",図面!Q10)","v":""},{"$f":"IF(図面!R10=\"\",\"\",図面!R10)","v":""},{"$f":"IF(図面!S10=\"\",\"\",図面!S10)","v":""},{"$f":"IF(図面!T10=\"\",\"\",図面!T10)","v":""},{"$f":"IF(図面!U10=\"\",\"\",図面!U10)","v":""},{"$f":"IF(図面!V10=\"\",\"\",図面!V10)","v":""},{"$f":"IF(図面!W10=\"\",\"\",図面!W10)","v":""},{"$f":"IF(図面!X10=\"\",\"\",図面!X10)","v":""},{"$f":"IF(図面!Y10=\"\",\"\",図面!Y10)","v":""},{"$f":"IF(図面!Z10=\"\",\"\",図面!Z10)","v":""},{"$f":"IF(COUNTIF(面積計算!AG10:AI10,1),\"●\",\" \")","v":" "},null,{"$f":"SUMIF($D10:$Z10,\"*↑あ*\",$D$3:$Z$3)/1000*図面!$AK$19","v":0},{"$f":"SUMIF($D10:$Z10,\"*↓あ*\",$D$3:$Z$3)/1000*図面!$AK$19","v":0},{"$f":"SUMIF($D10:$Z10,\"*↑い*\",$D$3:$Z$3)/1000*図面!$AK$20","v":0},{"$f":"SUMIF($D10:$Z10,\"*↓い*\",$D$3:$Z$3)/1000*図面!$AK$20","v":0},{"$f":"SUMIF($D10:$Z10,\"*↑う*\",$D$3:$Z$3)/1000*図面!$AK$21","v":0},{"$f":"SUMIF($D10:$Z10,\"*↓う*\",$D$3:$Z$3)/1000*図面!$AK$21","v":0},{"$f":"SUMIF($D10:$Z10,\"*↑え*\",$D$3:$Z$3)/1000*図面!$AK$22","v":0},{"$f":"SUMIF($D10:$Z10,\"*↓え*\",$D$3:$Z$3)/1000*図面!$AK$22","v":0},{"$f":"SUMIF($D10:$Z10,\"*↑お*\",$D$3:$Z$3)/1000*図面!$AK$23","v":0},{"$f":"SUMIF($D10:$Z10,\"*↓お*\",$D$3:$Z$3)/1000*図面!AK$23","v":0},{"$f":"SUMIF($D10:$Z10,\"*↑か*\",$D$3:$Z$3)/1000*図面!$AK$24","v":0},{"$f":"SUMIF($D10:$Z10,\"*↓か*\",$D$3:$Z$3)/1000*図面!$AK$24","v":0},0,{"$f":"IF(COUNTIF(面積計算!AG10,1),\"上\",\" \")","v":" "},{"$f":"IF(COUNTIF(面積計算!AI10,1),\"下\",\" \")","v":" "},0,0,0,0,0,0]
[null,null,{"$f":"図面!B11","v":910},{"$f":"IF(図面!D11=\"\",\"\",図面!D11)","v":""},{"$f":"IF(図面!E11=\"\",\"\",図面!E11)","v":""},{"$f":"IF(図面!F11=\"\",\"\",図面!F11)","v":""},{"$f":"IF(図面!G11=\"\",\"\",図面!G11)","v":""},{"$f":"IF(図面!H11=\"\",\"\",図面!H11)","v":""},{"$f":"IF(図面!I11=\"\",\"\",図面!I11)","v":""},{"$f":"IF(図面!J11=\"\",\"\",図面!J11)","v":""},{"$f":"IF(図面!K11=\"\",\"\",図面!K11)","v":""},{"$f":"IF(図面!L11=\"\",\"\",図面!L11)","v":""},{"$f":"IF(図面!M11=\"\",\"\",図面!M11)","v":""},{"$f":"IF(図面!N11=\"\",\"\",図面!N11)","v":""},{"$f":"IF(図面!O11=\"\",\"\",図面!O11)","v":""},{"$f":"IF(図面!P11=\"\",\"\",図面!P11)","v":""},{"$f":"IF(図面!Q11=\"\",\"\",図面!Q11)","v":""},{"$f":"IF(図面!R11=\"\",\"\",図面!R11)","v":""},{"$f":"IF(図面!S11=\"\",\"\",図面!S11)","v":""},{"$f":"IF(図面!T11=\"\",\"\",図面!T11)","v":""},{"$f":"IF(図面!U11=\"\",\"\",図面!U11)","v":""},{"$f":"IF(図面!V11=\"\",\"\",図面!V11)","v":""},{"$f":"IF(図面!W11=\"\",\"\",図面!W11)","v":""},{"$f":"IF(図面!X11=\"\",\"\",図面!X11)","v":""},{"$f":"IF(図面!Y11=\"\",\"\",図面!Y11)","v":""},{"$f":"IF(図面!Z11=\"\",\"\",図面!Z11)","v":""},{"$f":"IF(COUNTIF(面積計算!AG11:AI11,1),\"●\",\" \")","v":" "},null,{"$f":"SUMIF($D11:$Z11,\"*↑あ*\",$D$3:$Z$3)/1000*図面!$AK$19","v":0},{"$f":"SUMIF($D11:$Z11,\"*↓あ*\",$D$3:$Z$3)/1000*図面!$AK$19","v":0},{"$f":"SUMIF($D11:$Z11,\"*↑い*\",$D$3:$Z$3)/1000*図面!$AK$20","v":0},{"$f":"SUMIF($D11:$Z11,\"*↓い*\",$D$3:$Z$3)/1000*図面!$AK$20","v":0},{"$f":"SUMIF($D11:$Z11,\"*↑う*\",$D$3:$Z$3)/1000*図面!$AK$21","v":0},{"$f":"SUMIF($D11:$Z11,\"*↓う*\",$D$3:$Z$3)/1000*図面!$AK$21","v":0},{"$f":"SUMIF($D11:$Z11,\"*↑え*\",$D$3:$Z$3)/1000*図面!$AK$22","v":0},{"$f":"SUMIF($D11:$Z11,\"*↓え*\",$D$3:$Z$3)/1000*図面!$AK$22","v":0},{"$f":"SUMIF($D11:$Z11,\"*↑お*\",$D$3:$Z$3)/1000*図面!$AK$23","v":0},{"$f":"SUMIF($D11:$Z11,\"*↓お*\",$D$3:$Z$3)/1000*図面!AK$23","v":0},{"$f":"SUMIF($D11:$Z11,\"*↑か*\",$D$3:$Z$3)/1000*図面!$AK$24","v":0},{"$f":"SUMIF($D11:$Z11,\"*↓か*\",$D$3:$Z$3)/1000*図面!$AK$24","v":0},0,{"$f":"IF(COUNTIF(面積計算!AG11,1),\"上\",\" \")","v":" "},{"$f":"IF(COUNTIF(面積計算!AI11,1),\"下\",\" \")","v":" "},0,0,0,0,0,{"$f":"IF(AND(AQ11=\" \",AQ12=\"下\"),AU11-AV11,AU11)","v":0}]
[null,null,{"$f":"図面!B12","v":910},{"$f":"IF(図面!D12=\"\",\"\",図面!D12)","v":""},{"$f":"IF(図面!E12=\"\",\"\",図面!E12)","v":""},{"$f":"IF(図面!F12=\"\",\"\",図面!F12)","v":""},{"$f":"IF(図面!G12=\"\",\"\",図面!G12)","v":""},{"$f":"IF(図面!H12=\"\",\"\",図面!H12)","v":""},{"$f":"IF(図面!I12=\"\",\"\",図面!I12)","v":""},{"$f":"IF(図面!J12=\"\",\"\",図面!J12)","v":""},{"$f":"IF(図面!K12=\"\",\"\",図面!K12)","v":""},{"$f":"IF(図面!L12=\"\",\"\",図面!L12)","v":""},{"$f":"IF(図面!M12=\"\",\"\",図面!M12)","v":""},{"$f":"IF(図面!N12=\"\",\"\",図面!N12)","v":""},{"$f":"IF(図面!O12=\"\",\"\",図面!O12)","v":""},{"$f":"IF(図面!P12=\"\",\"\",図面!P12)","v":""},{"$f":"IF(図面!Q12=\"\",\"\",図面!Q12)","v":""},{"$f":"IF(図面!R12=\"\",\"\",図面!R12)","v":""},{"$f":"IF(図面!S12=\"\",\"\",図面!S12)","v":""},{"$f":"IF(図面!T12=\"\",\"\",図面!T12)","v":""},{"$f":"IF(図面!U12=\"\",\"\",図面!U12)","v":""},{"$f":"IF(図面!V12=\"\",\"\",図面!V12)","v":""},{"$f":"IF(図面!W12=\"\",\"\",図面!W12)","v":""},{"$f":"IF(図面!X12=\"\",\"\",図面!X12)","v":""},{"$f":"IF(図面!Y12=\"\",\"\",図面!Y12)","v":""},{"$f":"IF(図面!Z12=\"\",\"\",図面!Z12)","v":""},{"$f":"IF(COUNTIF(面積計算!AG12:AI12,1),\"●\",\" \")","v":" "},null,{"$f":"SUMIF($D12:$Z12,\"*↑あ*\",$D$3:$Z$3)/1000*図面!$AK$19","v":0},{"$f":"SUMIF($D12:$Z12,\"*↓あ*\",$D$3:$Z$3)/1000*図面!$AK$19","v":0},{"$f":"SUMIF($D12:$Z12,\"*↑い*\",$D$3:$Z$3)/1000*図面!$AK$20","v":0},{"$f":"SUMIF($D12:$Z12,\"*↓い*\",$D$3:$Z$3)/1000*図面!$AK$20","v":0},{"$f":"SUMIF($D12:$Z12,\"*↑う*\",$D$3:$Z$3)/1000*図面!$AK$21","v":0},{"$f":"SUMIF($D12:$Z12,\"*↓う*\",$D$3:$Z$3)/1000*図面!$AK$21","v":0},{"$f":"SUMIF($D12:$Z12,\"*↑え*\",$D$3:$Z$3)/1000*図面!$AK$22","v":0},{"$f":"SUMIF($D12:$Z12,\"*↓え*\",$D$3:$Z$3)/1000*図面!$AK$22","v":0},{"$f":"SUMIF($D12:$Z12,\"*↑お*\",$D$3:$Z$3)/1000*図面!$AK$23","v":0},{"$f":"SUMIF($D12:$Z12,\"*↓お*\",$D$3:$Z$3)/1000*図面!AK$23","v":0},{"$f":"SUMIF($D12:$Z12,\"*↑か*\",$D$3:$Z$3)/1000*図面!$AK$24","v":0},{"$f":"SUMIF($D12:$Z12,\"*↓か*\",$D$3:$Z$3)/1000*図面!$AK$24","v":0},0,{"$f":"IF(COUNTIF(面積計算!AG12,1),\"上\",\" \")","v":" "},{"$f":"IF(COUNTIF(面積計算!AI12,1),\"下\",\" \")","v":" "},0,0,0,0,0,0]
[null,null,{"$f":"図面!B13","v":910},{"$f":"IF(図面!D13=\"\",\"\",図面!D13)","v":""},{"$f":"IF(図面!E13=\"\",\"\",図面!E13)","v":""},{"$f":"IF(図面!F13=\"\",\"\",図面!F13)","v":""},{"$f":"IF(図面!G13=\"\",\"\",図面!G13)","v":""},{"$f":"IF(図面!H13=\"\",\"\",図面!H13)","v":""},{"$f":"IF(図面!I13=\"\",\"\",図面!I13)","v":""},{"$f":"IF(図面!J13=\"\",\"\",図面!J13)","v":""},{"$f":"IF(図面!K13=\"\",\"\",図面!K13)","v":""},{"$f":"IF(図面!L13=\"\",\"\",図面!L13)","v":""},{"$f":"IF(図面!M13=\"\",\"\",図面!M13)","v":""},{"$f":"IF(図面!N13=\"\",\"\",図面!N13)","v":""},{"$f":"IF(図面!O13=\"\",\"\",図面!O13)","v":""},{"$f":"IF(図面!P13=\"\",\"\",図面!P13)","v":""},{"$f":"IF(図面!Q13=\"\",\"\",図面!Q13)","v":""},{"$f":"IF(図面!R13=\"\",\"\",図面!R13)","v":""},{"$f":"IF(図面!S13=\"\",\"\",図面!S13)","v":""},{"$f":"IF(図面!T13=\"\",\"\",図面!T13)","v":""},{"$f":"IF(図面!U13=\"\",\"\",図面!U13)","v":""},{"$f":"IF(図面!V13=\"\",\"\",図面!V13)","v":""},{"$f":"IF(図面!W13=\"\",\"\",図面!W13)","v":""},{"$f":"IF(図面!X13=\"\",\"\",図面!X13)","v":""},{"$f":"IF(図面!Y13=\"\",\"\",図面!Y13)","v":""},{"$f":"IF(図面!Z13=\"\",\"\",図面!Z13)","v":""},{"$f":"IF(COUNTIF(面積計算!AG13:AI13,1),\"●\",\" \")","v":" "},null,{"$f":"SUMIF($D13:$Z13,\"*↑あ*\",$D$3:$Z$3)/1000*図面!$AK$19","v":0},{"$f":"SUMIF($D13:$Z13,\"*↓あ*\",$D$3:$Z$3)/1000*図面!$AK$19","v":0},{"$f":"SUMIF($D13:$Z13,\"*↑い*\",$D$3:$Z$3)/1000*図面!$AK$20","v":0},{"$f":"SUMIF($D13:$Z13,\"*↓い*\",$D$3:$Z$3)/1000*図面!$AK$20","v":0},{"$f":"SUMIF($D13:$Z13,\"*↑う*\",$D$3:$Z$3)/1000*図面!$AK$21","v":0},{"$f":"SUMIF($D13:$Z13,\"*↓う*\",$D$3:$Z$3)/1000*図面!$AK$21","v":0},{"$f":"SUMIF($D13:$Z13,\"*↑え*\",$D$3:$Z$3)/1000*図面!$AK$22","v":0},{"$f":"SUMIF($D13:$Z13,\"*↓え*\",$D$3:$Z$3)/1000*図面!$AK$22","v":0},{"$f":"SUMIF($D13:$Z13,\"*↑お*\",$D$3:$Z$3)/1000*図面!$AK$23","v":0},{"$f":"SUMIF($D13:$Z13,\"*↓お*\",$D$3:$Z$3)/1000*図面!AK$23","v":0},{"$f":"SUMIF($D13:$Z13,\"*↑か*\",$D$3:$Z$3)/1000*図面!$AK$24","v":0},{"$f":"SUMIF($D13:$Z13,\"*↓か*\",$D$3:$Z$3)/1000*図面!$AK$24","v":0},{"$f":"SUM(AC13:AN13)","v":0},{"$f":"IF(COUNTIF(面積計算!AG13,1),\"上\",\" \")","v":" "},{"$f":"IF(COUNTIF(面積計算!AI13,1),\"下\",\" \")","v":" "},0,0,0,0,0,0]
[null,null,{"$f":"図面!B14","v":910},{"$f":"IF(図面!D14=\"\",\"\",図面!D14)","v":""},{"$f":"IF(図面!E14=\"\",\"\",図面!E14)","v":""},{"$f":"IF(図面!F14=\"\",\"\",図面!F14)","v":""},{"$f":"IF(図面!G14=\"\",\"\",図面!G14)","v":""},{"$f":"IF(図面!H14=\"\",\"\",図面!H14)","v":""},{"$f":"IF(図面!I14=\"\",\"\",図面!I14)","v":""},{"$f":"IF(図面!J14=\"\",\"\",図面!J14)","v":""},{"$f":"IF(図面!K14=\"\",\"\",図面!K14)","v":""},{"$f":"IF(図面!L14=\"\",\"\",図面!L14)","v":""},{"$f":"IF(図面!M14=\"\",\"\",図面!M14)","v":""},{"$f":"IF(図面!N14=\"\",\"\",図面!N14)","v":""},{"$f":"IF(図面!O14=\"\",\"\",図面!O14)","v":""},{"$f":"IF(図面!P14=\"\",\"\",図面!P14)","v":""},{"$f":"IF(図面!Q14=\"\",\"\",図面!Q14)","v":""},{"$f":"IF(図面!R14=\"\",\"\",図面!R14)","v":""},{"$f":"IF(図面!S14=\"\",\"\",図面!S14)","v":""},{"$f":"IF(図面!T14=\"\",\"\",図面!T14)","v":""},{"$f":"IF(図面!U14=\"\",\"\",図面!U14)","v":""},{"$f":"IF(図面!V14=\"\",\"\",図面!V14)","v":""},{"$f":"IF(図面!W14=\"\",\"\",図面!W14)","v":""},{"$f":"IF(図面!X14=\"\",\"\",図面!X14)","v":""},{"$f":"IF(図面!Y14=\"\",\"\",図面!Y14)","v":""},{"$f":"IF(図面!Z14=\"\",\"\",図面!Z14)","v":""},{"$f":"IF(COUNTIF(面積計算!AG14:AI14,1),\"●\",\" \")","v":" "},null,{"$f":"SUMIF($D14:$Z14,\"*↑あ*\",$D$3:$Z$3)/1000*図面!$AK$19","v":0},{"$f":"SUMIF($D14:$Z14,\"*↓あ*\",$D$3:$Z$3)/1000*図面!$AK$19","v":0},{"$f":"SUMIF($D14:$Z14,\"*↑い*\",$D$3:$Z$3)/1000*図面!$AK$20","v":0},{"$f":"SUMIF($D14:$Z14,\"*↓い*\",$D$3:$Z$3)/1000*図面!$AK$20","v":0},{"$f":"SUMIF($D14:$Z14,\"*↑う*\",$D$3:$Z$3)/1000*図面!$AK$21","v":0},{"$f":"SUMIF($D14:$Z14,\"*↓う*\",$D$3:$Z$3)/1000*図面!$AK$21","v":0},{"$f":"SUMIF($D14:$Z14,\"*↑え*\",$D$3:$Z$3)/1000*図面!$AK$22","v":0},{"$f":"SUMIF($D14:$Z14,\"*↓え*\",$D$3:$Z$3)/1000*図面!$AK$22","v":0},{"$f":"SUMIF($D14:$Z14,\"*↑お*\",$D$3:$Z$3)/1000*図面!$AK$23","v":0},{"$f":"SUMIF($D14:$Z14,\"*↓お*\",$D$3:$Z$3)/1000*図面!AK$23","v":0},{"$f":"SUMIF($D14:$Z14,\"*↑か*\",$D$3:$Z$3)/1000*図面!$AK$24","v":0},{"$f":"SUMIF($D14:$Z14,\"*↓か*\",$D$3:$Z$3)/1000*図面!$AK$24","v":0},0,{"$f":"IF(COUNTIF(面積計算!AG14,1),\"上\",\" \")","v":" "},{"$f":"IF(COUNTIF(面積計算!AI14,1),\"下\",\" \")","v":" "},0,0,0,0,0,0]
[null,null,{"$f":"図面!B15","v":910},{"$f":"IF(図面!D15=\"\",\"\",図面!D15)","v":""},{"$f":"IF(図面!E15=\"\",\"\",図面!E15)","v":""},{"$f":"IF(図面!F15=\"\",\"\",図面!F15)","v":""},{"$f":"IF(図面!G15=\"\",\"\",図面!G15)","v":""},{"$f":"IF(図面!H15=\"\",\"\",図面!H15)","v":""},{"$f":"IF(図面!I15=\"\",\"\",図面!I15)","v":""},{"$f":"IF(図面!J15=\"\",\"\",図面!J15)","v":""},{"$f":"IF(図面!K15=\"\",\"\",図面!K15)","v":""},{"$f":"IF(図面!L15=\"\",\"\",図面!L15)","v":""},{"$f":"IF(図面!M15=\"\",\"\",図面!M15)","v":""},{"$f":"IF(図面!N15=\"\",\"\",図面!N15)","v":""},{"$f":"IF(図面!O15=\"\",\"\",図面!O15)","v":""},{"$f":"IF(図面!P15=\"\",\"\",図面!P15)","v":""},{"$f":"IF(図面!Q15=\"\",\"\",図面!Q15)","v":""},{"$f":"IF(図面!R15=\"\",\"\",図面!R15)","v":""},{"$f":"IF(図面!S15=\"\",\"\",図面!S15)","v":""},{"$f":"IF(図面!T15=\"\",\"\",図面!T15)","v":""},{"$f":"IF(図面!U15=\"\",\"\",図面!U15)","v":""},{"$f":"IF(図面!V15=\"\",\"\",図面!V15)","v":""},{"$f":"IF(図面!W15=\"\",\"\",図面!W15)","v":""},{"$f":"IF(図面!X15=\"\",\"\",図面!X15)","v":""},{"$f":"IF(図面!Y15=\"\",\"\",図面!Y15)","v":""},{"$f":"IF(図面!Z15=\"\",\"\",図面!Z15)","v":""},{"$f":"IF(COUNTIF(面積計算!AG15:AI15,1),\"●\",\" \")","v":" "},null,{"$f":"SUMIF($D15:$Z15,\"*↑あ*\",$D$3:$Z$3)/1000*図面!$AK$19","v":0},{"$f":"SUMIF($D15:$Z15,\"*↓あ*\",$D$3:$Z$3)/1000*図面!$AK$19","v":0},{"$f":"SUMIF($D15:$Z15,\"*↑い*\",$D$3:$Z$3)/1000*図面!$AK$20","v":0},{"$f":"SUMIF($D15:$Z15,\"*↓い*\",$D$3:$Z$3)/1000*図面!$AK$20","v":0},{"$f":"SUMIF($D15:$Z15,\"*↑う*\",$D$3:$Z$3)/1000*図面!$AK$21","v":0},{"$f":"SUMIF($D15:$Z15,\"*↓う*\",$D$3:$Z$3)/1000*図面!$AK$21","v":0},{"$f":"SUMIF($D15:$Z15,\"*↑え*\",$D$3:$Z$3)/1000*図面!$AK$22","v":0},{"$f":"SUMIF($D15:$Z15,\"*↓え*\",$D$3:$Z$3)/1000*図面!$AK$22","v":0},{"$f":"SUMIF($D15:$Z15,\"*↑お*\",$D$3:$Z$3)/1000*図面!$AK$23","v":0},{"$f":"SUMIF($D15:$Z15,\"*↓お*\",$D$3:$Z$3)/1000*図面!AK$23","v":0},{"$f":"SUMIF($D15:$Z15,\"*↑か*\",$D$3:$Z$3)/1000*図面!$AK$24","v":0},{"$f":"SUMIF($D15:$Z15,\"*↓か*\",$D$3:$Z$3)/1000*図面!$AK$24","v":0},0,{"$f":"IF(COUNTIF(面積計算!AG15,1),\"上\",\" \")","v":" "},{"$f":"IF(COUNTIF(面積計算!AI15,1),\"下\",\" \")","v":" "},{"$f":"IF(COUNTIF(AP14:AP16,\"上\"),AO15,0)","v":0},0,{"$f":"IF(AND(AP15=\" \",AP14=\"上\"),AR15-AS15,AR15)","v":0},{"$f":"IF(COUNTIF(AQ14:AQ16,\"下\"),AO15,0)","v":0},0,0]
[null,null,{"$f":"図面!B16","v":910},{"$f":"IF(図面!D16=\"\",\"\",図面!D16)","v":""},{"$f":"IF(図面!E16=\"\",\"\",図面!E16)","v":""},{"$f":"IF(図面!F16=\"\",\"\",図面!F16)","v":""},{"$f":"IF(図面!G16=\"\",\"\",図面!G16)","v":""},{"$f":"IF(図面!H16=\"\",\"\",図面!H16)","v":""},{"$f":"IF(図面!I16=\"\",\"\",図面!I16)","v":""},{"$f":"IF(図面!J16=\"\",\"\",図面!J16)","v":""},{"$f":"IF(図面!K16=\"\",\"\",図面!K16)","v":""},{"$f":"IF(図面!L16=\"\",\"\",図面!L16)","v":""},{"$f":"IF(図面!M16=\"\",\"\",図面!M16)","v":""},{"$f":"IF(図面!N16=\"\",\"\",図面!N16)","v":""},{"$f":"IF(図面!O16=\"\",\"\",図面!O16)","v":""},{"$f":"IF(図面!P16=\"\",\"\",図面!P16)","v":""},{"$f":"IF(図面!Q16=\"\",\"\",図面!Q16)","v":""},{"$f":"IF(図面!R16=\"\",\"\",図面!R16)","v":""},{"$f":"IF(図面!S16=\"\",\"\",図面!S16)","v":""},{"$f":"IF(図面!T16=\"\",\"\",図面!T16)","v":""},{"$f":"IF(図面!U16=\"\",\"\",図面!U16)","v":""},{"$f":"IF(図面!V16=\"\",\"\",図面!V16)","v":""},{"$f":"IF(図面!W16=\"\",\"\",図面!W16)","v":""},{"$f":"IF(図面!X16=\"\",\"\",図面!X16)","v":""},{"$f":"IF(図面!Y16=\"\",\"\",図面!Y16)","v":""},{"$f":"IF(図面!Z16=\"\",\"\",図面!Z16)","v":""},{"$f":"IF(COUNTIF(面積計算!AG16:AI16,1),\"●\",\" \")","v":" "},null,{"$f":"SUMIF($D16:$Z16,\"*↑あ*\",$D$3:$Z$3)/1000*図面!$AK$19","v":0},{"$f":"SUMIF($D16:$Z16,\"*↓あ*\",$D$3:$Z$3)/1000*図面!$AK$19","v":0},{"$f":"SUMIF($D16:$Z16,\"*↑い*\",$D$3:$Z$3)/1000*図面!$AK$20","v":0},{"$f":"SUMIF($D16:$Z16,\"*↓い*\",$D$3:$Z$3)/1000*図面!$AK$20","v":0},{"$f":"SUMIF($D16:$Z16,\"*↑う*\",$D$3:$Z$3)/1000*図面!$AK$21","v":0},{"$f":"SUMIF($D16:$Z16,\"*↓う*\",$D$3:$Z$3)/1000*図面!$AK$21","v":0},{"$f":"SUMIF($D16:$Z16,\"*↑え*\",$D$3:$Z$3)/1000*図面!$AK$22","v":0},{"$f":"SUMIF($D16:$Z16,\"*↓え*\",$D$3:$Z$3)/1000*図面!$AK$22","v":0},{"$f":"SUMIF($D16:$Z16,\"*↑お*\",$D$3:$Z$3)/1000*図面!$AK$23","v":0},{"$f":"SUMIF($D16:$Z16,\"*↓お*\",$D$3:$Z$3)/1000*図面!AK$23","v":0},{"$f":"SUMIF($D16:$Z16,\"*↑か*\",$D$3:$Z$3)/1000*図面!$AK$24","v":0},{"$f":"SUMIF($D16:$Z16,\"*↓か*\",$D$3:$Z$3)/1000*図面!$AK$24","v":0},0,{"$f":"IF(COUNTIF(面積計算!AG16,1),\"上\",\" \")","v":" "},{"$f":"IF(COUNTIF(面積計算!AI16,1),\"下\",\" \")","v":" "},0,0,0,0,0,0]
[null,null,{"$f":"図面!B17","v":910},{"$f":"IF(図面!D17=\"\",\"\",図面!D17)","v":""},{"$f":"IF(図面!E17=\"\",\"\",図面!E17)","v":""},{"$f":"IF(図面!F17=\"\",\"\",図面!F17)","v":""},{"$f":"IF(図面!G17=\"\",\"\",図面!G17)","v":""},{"$f":"IF(図面!H17=\"\",\"\",図面!H17)","v":""},{"$f":"IF(図面!I17=\"\",\"\",図面!I17)","v":""},{"$f":"IF(図面!J17=\"\",\"\",図面!J17)","v":""},{"$f":"IF(図面!K17=\"\",\"\",図面!K17)","v":""},{"$f":"IF(図面!L17=\"\",\"\",図面!L17)","v":""},{"$f":"IF(図面!M17=\"\",\"\",図面!M17)","v":""},{"$f":"IF(図面!N17=\"\",\"\",図面!N17)","v":""},{"$f":"IF(図面!O17=\"\",\"\",図面!O17)","v":""},{"$f":"IF(図面!P17=\"\",\"\",図面!P17)","v":""},{"$f":"IF(図面!Q17=\"\",\"\",図面!Q17)","v":""},{"$f":"IF(図面!R17=\"\",\"\",図面!R17)","v":""},{"$f":"IF(図面!S17=\"\",\"\",図面!S17)","v":""},{"$f":"IF(図面!T17=\"\",\"\",図面!T17)","v":""},{"$f":"IF(図面!U17=\"\",\"\",図面!U17)","v":""},{"$f":"IF(図面!V17=\"\",\"\",図面!V17)","v":""},{"$f":"IF(図面!W17=\"\",\"\",図面!W17)","v":""},{"$f":"IF(図面!X17=\"\",\"\",図面!X17)","v":""},{"$f":"IF(図面!Y17=\"\",\"\",図面!Y17)","v":""},{"$f":"IF(図面!Z17=\"\",\"\",図面!Z17)","v":""},{"$f":"IF(COUNTIF(面積計算!AG17:AI17,1),\"●\",\" \")","v":" "},null,{"$f":"SUMIF($D17:$Z17,\"*↑あ*\",$D$3:$Z$3)/1000*図面!$AK$19","v":0},{"$f":"SUMIF($D17:$Z17,\"*↓あ*\",$D$3:$Z$3)/1000*図面!$AK$19","v":0},{"$f":"SUMIF($D17:$Z17,\"*↑い*\",$D$3:$Z$3)/1000*図面!$AK$20","v":0},{"$f":"SUMIF($D17:$Z17,\"*↓い*\",$D$3:$Z$3)/1000*図面!$AK$20","v":0},{"$f":"SUMIF($D17:$Z17,\"*↑う*\",$D$3:$Z$3)/1000*図面!$AK$21","v":0},{"$f":"SUMIF($D17:$Z17,\"*↓う*\",$D$3:$Z$3)/1000*図面!$AK$21","v":0},{"$f":"SUMIF($D17:$Z17,\"*↑え*\",$D$3:$Z$3)/1000*図面!$AK$22","v":0},{"$f":"SUMIF($D17:$Z17,\"*↓え*\",$D$3:$Z$3)/1000*図面!$AK$22","v":0},{"$f":"SUMIF($D17:$Z17,\"*↑お*\",$D$3:$Z$3)/1000*図面!$AK$23","v":0},{"$f":"SUMIF($D17:$Z17,\"*↓お*\",$D$3:$Z$3)/1000*図面!AK$23","v":0},{"$f":"SUMIF($D17:$Z17,\"*↑か*\",$D$3:$Z$3)/1000*図面!$AK$24","v":0},{"$f":"SUMIF($D17:$Z17,\"*↓か*\",$D$3:$Z$3)/1000*図面!$AK$24","v":0},0,{"$f":"IF(COUNTIF(面積計算!AG17,1),\"上\",\" \")","v":" "},{"$f":"IF(COUNTIF(面積計算!AI17,1),\"下\",\" \")","v":" "},0,0,0,0,0,0]
[null,null,{"$f":"図面!B18","v":910},{"$f":"IF(図面!D18=\"\",\"\",図面!D18)","v":""},{"$f":"IF(図面!E18=\"\",\"\",図面!E18)","v":""},{"$f":"IF(図面!F18=\"\",\"\",図面!F18)","v":""},{"$f":"IF(図面!G18=\"\",\"\",図面!G18)","v":""},{"$f":"IF(図面!H18=\"\",\"\",図面!H18)","v":""},{"$f":"IF(図面!I18=\"\",\"\",図面!I18)","v":""},{"$f":"IF(図面!J18=\"\",\"\",図面!J18)","v":""},{"$f":"IF(図面!K18=\"\",\"\",図面!K18)","v":""},{"$f":"IF(図面!L18=\"\",\"\",図面!L18)","v":""},{"$f":"IF(図面!M18=\"\",\"\",図面!M18)","v":""},{"$f":"IF(図面!N18=\"\",\"\",図面!N18)","v":""},{"$f":"IF(図面!O18=\"\",\"\",図面!O18)","v":""},{"$f":"IF(図面!P18=\"\",\"\",図面!P18)","v":""},{"$f":"IF(図面!Q18=\"\",\"\",図面!Q18)","v":""},{"$f":"IF(図面!R18=\"\",\"\",図面!R18)","v":""},{"$f":"IF(図面!S18=\"\",\"\",図面!S18)","v":""},{"$f":"IF(図面!T18=\"\",\"\",図面!T18)","v":""},{"$f":"IF(図面!U18=\"\",\"\",図面!U18)","v":""},{"$f":"IF(図面!V18=\"\",\"\",図面!V18)","v":""},{"$f":"IF(図面!W18=\"\",\"\",図面!W18)","v":""},{"$f":"IF(図面!X18=\"\",\"\",図面!X18)","v":""},{"$f":"IF(図面!Y18=\"\",\"\",図面!Y18)","v":""},{"$f":"IF(図面!Z18=\"\",\"\",図面!Z18)","v":""},{"$f":"IF(COUNTIF(面積計算!AG18:AI18,1),\"●\",\" \")","v":" "},null,{"$f":"SUMIF($D18:$Z18,\"*↑あ*\",$D$3:$Z$3)/1000*図面!$AK$19","v":0},{"$f":"SUMIF($D18:$Z18,\"*↓あ*\",$D$3:$Z$3)/1000*図面!$AK$19","v":0},{"$f":"SUMIF($D18:$Z18,\"*↑い*\",$D$3:$Z$3)/1000*図面!$AK$20","v":0},{"$f":"SUMIF($D18:$Z18,\"*↓い*\",$D$3:$Z$3)/1000*図面!$AK$20","v":0},{"$f":"SUMIF($D18:$Z18,\"*↑う*\",$D$3:$Z$3)/1000*図面!$AK$21","v":0},{"$f":"SUMIF($D18:$Z18,\"*↓う*\",$D$3:$Z$3)/1000*図面!$AK$21","v":0},{"$f":"SUMIF($D18:$Z18,\"*↑え*\",$D$3:$Z$3)/1000*図面!$AK$22","v":0},{"$f":"SUMIF($D18:$Z18,\"*↓え*\",$D$3:$Z$3)/1000*図面!$AK$22","v":0},{"$f":"SUMIF($D18:$Z18,\"*↑お*\",$D$3:$Z$3)/1000*図面!$AK$23","v":0},{"$f":"SUMIF($D18:$Z18,\"*↓お*\",$D$3:$Z$3)/1000*図面!AK$23","v":0},{"$f":"SUMIF($D18:$Z18,\"*↑か*\",$D$3:$Z$3)/1000*図面!$AK$24","v":0},{"$f":"SUMIF($D18:$Z18,\"*↓か*\",$D$3:$Z$3)/1000*図面!$AK$24","v":0},0,{"$f":"IF(COUNTIF(面積計算!AG18,1),\"上\",\" \")","v":" "},{"$f":"IF(COUNTIF(面積計算!AI18,1),\"下\",\" \")","v":" "},0,0,0,0,0,0]
[null,null,{"$f":"図面!B19","v":910},{"$f":"IF(図面!D19=\"\",\"\",図面!D19)","v":""},{"$f":"IF(図面!E19=\"\",\"\",図面!E19)","v":""},{"$f":"IF(図面!F19=\"\",\"\",図面!F19)","v":""},{"$f":"IF(図面!G19=\"\",\"\",図面!G19)","v":""},{"$f":"IF(図面!H19=\"\",\"\",図面!H19)","v":""},{"$f":"IF(図面!I19=\"\",\"\",図面!I19)","v":""},{"$f":"IF(図面!J19=\"\",\"\",図面!J19)","v":""},{"$f":"IF(図面!K19=\"\",\"\",図面!K19)","v":""},{"$f":"IF(図面!L19=\"\",\"\",図面!L19)","v":""},{"$f":"IF(図面!M19=\"\",\"\",図面!M19)","v":""},{"$f":"IF(図面!N19=\"\",\"\",図面!N19)","v":""},{"$f":"IF(図面!O19=\"\",\"\",図面!O19)","v":""},{"$f":"IF(図面!P19=\"\",\"\",図面!P19)","v":""},{"$f":"IF(図面!Q19=\"\",\"\",図面!Q19)","v":""},{"$f":"IF(図面!R19=\"\",\"\",図面!R19)","v":""},{"$f":"IF(図面!S19=\"\",\"\",図面!S19)","v":""},{"$f":"IF(図面!T19=\"\",\"\",図面!T19)","v":""},{"$f":"IF(図面!U19=\"\",\"\",図面!U19)","v":""},{"$f":"IF(図面!V19=\"\",\"\",図面!V19)","v":""},{"$f":"IF(図面!W19=\"\",\"\",図面!W19)","v":""},{"$f":"IF(図面!X19=\"\",\"\",図面!X19)","v":""},{"$f":"IF(図面!Y19=\"\",\"\",図面!Y19)","v":""},{"$f":"IF(図面!Z19=\"\",\"\",図面!Z19)","v":""},{"$f":"IF(COUNTIF(面積計算!AG19:AI19,1),\"●\",\" \")","v":" "},null,{"$f":"SUMIF($D19:$Z19,\"*↑あ*\",$D$3:$Z$3)/1000*図面!$AK$19","v":0},{"$f":"SUMIF($D19:$Z19,\"*↓あ*\",$D$3:$Z$3)/1000*図面!$AK$19","v":0},{"$f":"SUMIF($D19:$Z19,\"*↑い*\",$D$3:$Z$3)/1000*図面!$AK$20","v":0},{"$f":"SUMIF($D19:$Z19,\"*↓い*\",$D$3:$Z$3)/1000*図面!$AK$20","v":0},{"$f":"SUMIF($D19:$Z19,\"*↑う*\",$D$3:$Z$3)/1000*図面!$AK$21","v":0},{"$f":"SUMIF($D19:$Z19,\"*↓う*\",$D$3:$Z$3)/1000*図面!$AK$21","v":0},{"$f":"SUMIF($D19:$Z19,\"*↑え*\",$D$3:$Z$3)/1000*図面!$AK$22","v":0},{"$f":"SUMIF($D19:$Z19,\"*↓え*\",$D$3:$Z$3)/1000*図面!$AK$22","v":0},{"$f":"SUMIF($D19:$Z19,\"*↑お*\",$D$3:$Z$3)/1000*図面!$AK$23","v":0},{"$f":"SUMIF($D19:$Z19,\"*↓お*\",$D$3:$Z$3)/1000*図面!AK$23","v":0},{"$f":"SUMIF($D19:$Z19,\"*↑か*\",$D$3:$Z$3)/1000*図面!$AK$24","v":0},{"$f":"SUMIF($D19:$Z19,\"*↓か*\",$D$3:$Z$3)/1000*図面!$AK$24","v":0},0,{"$f":"IF(COUNTIF(面積計算!AG19,1),\"上\",\" \")","v":" "},{"$f":"IF(COUNTIF(面積計算!AI19,1),\"下\",\" \")","v":" "},0,0,0,0,0,0]
[null,null,{"$f":"図面!B20","v":910},{"$f":"IF(図面!D20=\"\",\"\",図面!D20)","v":""},{"$f":"IF(図面!E20=\"\",\"\",図面!E20)","v":""},{"$f":"IF(図面!F20=\"\",\"\",図面!F20)","v":""},{"$f":"IF(図面!G20=\"\",\"\",図面!G20)","v":""},{"$f":"IF(図面!H20=\"\",\"\",図面!H20)","v":""},{"$f":"IF(図面!I20=\"\",\"\",図面!I20)","v":""},{"$f":"IF(図面!J20=\"\",\"\",図面!J20)","v":""},{"$f":"IF(図面!K20=\"\",\"\",図面!K20)","v":""},{"$f":"IF(図面!L20=\"\",\"\",図面!L20)","v":""},{"$f":"IF(図面!M20=\"\",\"\",図面!M20)","v":""},{"$f":"IF(図面!N20=\"\",\"\",図面!N20)","v":""},{"$f":"IF(図面!O20=\"\",\"\",図面!O20)","v":""},{"$f":"IF(図面!P20=\"\",\"\",図面!P20)","v":""},{"$f":"IF(図面!Q20=\"\",\"\",図面!Q20)","v":""},{"$f":"IF(図面!R20=\"\",\"\",図面!R20)","v":""},{"$f":"IF(図面!S20=\"\",\"\",図面!S20)","v":""},{"$f":"IF(図面!T20=\"\",\"\",図面!T20)","v":""},{"$f":"IF(図面!U20=\"\",\"\",図面!U20)","v":""},{"$f":"IF(図面!V20=\"\",\"\",図面!V20)","v":""},{"$f":"IF(図面!W20=\"\",\"\",図面!W20)","v":""},{"$f":"IF(図面!X20=\"\",\"\",図面!X20)","v":""},{"$f":"IF(図面!Y20=\"\",\"\",図面!Y20)","v":""},{"$f":"IF(図面!Z20=\"\",\"\",図面!Z20)","v":""},{"$f":"IF(COUNTIF(面積計算!AG20:AI20,1),\"●\",\" \")","v":" "},null,{"$f":"SUMIF($D20:$Z20,\"*↑あ*\",$D$3:$Z$3)/1000*図面!$AK$19","v":0},{"$f":"SUMIF($D20:$Z20,\"*↓あ*\",$D$3:$Z$3)/1000*図面!$AK$19","v":0},{"$f":"SUMIF($D20:$Z20,\"*↑い*\",$D$3:$Z$3)/1000*図面!$AK$20","v":0},{"$f":"SUMIF($D20:$Z20,\"*↓い*\",$D$3:$Z$3)/1000*図面!$AK$20","v":0},{"$f":"SUMIF($D20:$Z20,\"*↑う*\",$D$3:$Z$3)/1000*図面!$AK$21","v":0},{"$f":"SUMIF($D20:$Z20,\"*↓う*\",$D$3:$Z$3)/1000*図面!$AK$21","v":0},{"$f":"SUMIF($D20:$Z20,\"*↑え*\",$D$3:$Z$3)/1000*図面!$AK$22","v":0},{"$f":"SUMIF($D20:$Z20,\"*↓え*\",$D$3:$Z$3)/1000*図面!$AK$22","v":0},{"$f":"SUMIF($D20:$Z20,\"*↑お*\",$D$3:$Z$3)/1000*図面!$AK$23","v":0},{"$f":"SUMIF($D20:$Z20,\"*↓お*\",$D$3:$Z$3)/1000*図面!AK$23","v":0},{"$f":"SUMIF($D20:$Z20,\"*↑か*\",$D$3:$Z$3)/1000*図面!$AK$24","v":0},{"$f":"SUMIF($D20:$Z20,\"*↓か*\",$D$3:$Z$3)/1000*図面!$AK$24","v":0},0,{"$f":"IF(COUNTIF(面積計算!AG20,1),\"上\",\" \")","v":" "},{"$f":"IF(COUNTIF(面積計算!AI20,1),\"下\",\" \")","v":" "},0,0,0,0,0,0]
[null,null,null,{"$f":"IF(COUNTIF(面積計算!D27:D29,1),\"●\",\" \")","v":" "},{"$f":"IF(COUNTIF(面積計算!E27:E29,1),\"●\",\" \")","v":" "},{"$f":"IF(COUNTIF(面積計算!F27:F29,1),\"●\",\" \")","v":" "},{"$f":"IF(COUNTIF(面積計算!G27:G29,1),\"●\",\" \")","v":" "},{"$f":"IF(COUNTIF(面積計算!H27:H29,1),\"●\",\" \")","v":" "},{"$f":"IF(COUNTIF(面積計算!I27:I29,1),\"●\",\" \")","v":" "},{"$f":"IF(COUNTIF(面積計算!J27:J29,1),\"●\",\" \")","v":" "},{"$f":"IF(COUNTIF(面積計算!K27:K29,1),\"●\",\" \")","v":" "},{"$f":"IF(COUNTIF(面積計算!L27:L29,1),\"●\",\" \")","v":" "},{"$f":"IF(COUNTIF(面積計算!M27:M29,1),\"●\",\" \")","v":" "},{"$f":"IF(COUNTIF(面積計算!N27:N29,1),\"●\",\" \")","v":" "},{"$f":"IF(COUNTIF(面積計算!O27:O29,1),\"●\",\" \")","v":" "},{"$f":"IF(COUNTIF(面積計算!P27:P29,1),\"●\",\" \")","v":" "},{"$f":"IF(COUNTIF(面積計算!Q27:Q29,1),\"●\",\" \")","v":" "},{"$f":"IF(COUNTIF(面積計算!R27:R29,1),\"●\",\" \")","v":" "},{"$f":"IF(COUNTIF(面積計算!S27:S29,1),\"●\",\" \")","v":" "},{"$f":"IF(COUNTIF(面積計算!T27:T29,1),\"●\",\" \")","v":" "},{"$f":"IF(COUNTIF(面積計算!U27:U29,1),\"●\",\" \")","v":" "},{"$f":"IF(COUNTIF(面積計算!V27:V29,1),\"●\",\" \")","v":" "},{"$f":"IF(COUNTIF(面積計算!W27:W29,1),\"●\",\" \")","v":" "},{"$f":"IF(COUNTIF(面積計算!X27:X29,1),\"●\",\" \")","v":" "},{"$f":"IF(COUNTIF(面積計算!Y27:Y29,1),\"●\",\" \")","v":" "},{"$f":"IF(COUNTIF(面積計算!Z27:Z29,1),\"●\",\" \")","v":" "},null,null,null,null,null,null,null,null,null,null,null,null,null,null,{"$f":"SUM(AO4:AO20)","v":0},null,null,null,null,{"$f":"SUM(AT4:AT20)","v":0},null,null,{"$f":"SUM(AW4:AW20)","v":0}]
[]
[null,null,"→あ",{"$f":"SUMIF(D$4:D$20,\"*→あ*\",$C$4:$C$20)/1000*図面!$AK$19","v":0},{"$f":"SUMIF(E$4:E$20,\"*→あ*\",$C$4:$C$20)/1000*図面!$AK$19","v":0},{"$f":"SUMIF(F$4:F$20,\"*→あ*\",$C$4:$C$20)/1000*図面!$AK$19","v":0},{"$f":"SUMIF(G$4:G$20,\"*→あ*\",$C$4:$C$20)/1000*図面!$AK$19","v":0},{"$f":"SUMIF(H$4:H$20,\"*→あ*\",$C$4:$C$20)/1000*図面!$AK$19","v":0},{"$f":"SUMIF(I$4:I$20,\"*→あ*\",$C$4:$C$20)/1000*図面!$AK$19","v":0},{"$f":"SUMIF(J$4:J$20,\"*→あ*\",$C$4:$C$20)/1000*図面!$AK$19","v":0},{"$f":"SUMIF(K$4:K$20,\"*→あ*\",$C$4:$C$20)/1000*図面!$AK$19","v":0},{"$f":"SUMIF(L$4:L$20,\"*→あ*\",$C$4:$C$20)/1000*図面!$AK$19","v":0},{"$f":"SUMIF(M$4:M$20,\"*→あ*\",$C$4:$C$20)/1000*図面!$AK$19","v":0},{"$f":"SUMIF(N$4:N$20,\"*→あ*\",$C$4:$C$20)/1000*図面!$AK$19","v":0},{"$f":"SUMIF(O$4:O$20,\"*→あ*\",$C$4:$C$20)/1000*図面!$AK$19","v":0},{"$f":"SUMIF(P$4:P$20,\"*→あ*\",$C$4:$C$20)/1000*図面!$AK$19","v":0},{"$f":"SUMIF(Q$4:Q$20,\"*→あ*\",$C$4:$C$20)/1000*図面!$AK$19","v":0},{"$f":"SUMIF(R$4:R$20,\"*→あ*\",$C$4:$C$20)/1000*図面!$AK$19","v":0},{"$f":"SUMIF(S$4:S$20,\"*→あ*\",$C$4:$C$20)/1000*図面!$AK$19","v":0},{"$f":"SUMIF(T$4:T$20,\"*→あ*\",$C$4:$C$20)/1000*図面!$AK$19","v":0},{"$f":"SUMIF(U$4:U$20,\"*→あ*\",$C$4:$C$20)/1000*図面!$AK$19","v":0},{"$f":"SUMIF(V$4:V$20,\"*→あ*\",$C$4:$C$20)/1000*図面!$AK$19","v":0},{"$f":"SUMIF(W$4:W$20,\"*→あ*\",$C$4:$C$20)/1000*図面!$AK$19","v":0},{"$f":"SUMIF(X$4:X$20,\"*→あ*\",$C$4:$C$20)/1000*図面!$AK$19","v":0},{"$f":"SUMIF(Y$4:Y$20,\"*→あ*\",$C$4:$C$20)/1000*図面!$AK$19","v":0},{"$f":"SUMIF(Z$4:Z$20,\"*→あ*\",$C$4:$C$20)/1000*図面!$AK$19","v":0}]
[null,null,"←あ",{"$f":"SUMIF(D$4:D$20,\"*←あ*\",$C$4:$C$20)/1000*図面!$AK$19","v":0},{"$f":"SUMIF(E$4:E$20,\"*←あ*\",$C$4:$C$20)/1000*図面!$AK$19","v":0},{"$f":"SUMIF(F$4:F$20,\"*←あ*\",$C$4:$C$20)/1000*図面!$AK$19","v":0},{"$f":"SUMIF(G$4:G$20,\"*←あ*\",$C$4:$C$20)/1000*図面!$AK$19","v":0},{"$f":"SUMIF(H$4:H$20,\"*←あ*\",$C$4:$C$20)/1000*図面!$AK$19","v":0},{"$f":"SUMIF(I$4:I$20,\"*←あ*\",$C$4:$C$20)/1000*図面!$AK$19","v":0},{"$f":"SUMIF(J$4:J$20,\"*←あ*\",$C$4:$C$20)/1000*図面!$AK$19","v":0},{"$f":"SUMIF(K$4:K$20,\"*←あ*\",$C$4:$C$20)/1000*図面!$AK$19","v":0},{"$f":"SUMIF(L$4:L$20,\"*←あ*\",$C$4:$C$20)/1000*図面!$AK$19","v":0},{"$f":"SUMIF(M$4:M$20,\"*←あ*\",$C$4:$C$20)/1000*図面!$AK$19","v":0},{"$f":"SUMIF(N$4:N$20,\"*←あ*\",$C$4:$C$20)/1000*図面!$AK$19","v":0},{"$f":"SUMIF(O$4:O$20,\"*←あ*\",$C$4:$C$20)/1000*図面!$AK$19","v":0},{"$f":"SUMIF(P$4:P$20,\"*←あ*\",$C$4:$C$20)/1000*図面!$AK$19","v":0},{"$f":"SUMIF(Q$4:Q$20,\"*←あ*\",$C$4:$C$20)/1000*図面!$AK$19","v":0},{"$f":"SUMIF(R$4:R$20,\"*←あ*\",$C$4:$C$20)/1000*図面!$AK$19","v":0},{"$f":"SUMIF(S$4:S$20,\"*←あ*\",$C$4:$C$20)/1000*図面!$AK$19","v":0},{"$f":"SUMIF(T$4:T$20,\"*←あ*\",$C$4:$C$20)/1000*図面!$AK$19","v":0},{"$f":"SUMIF(U$4:U$20,\"*←あ*\",$C$4:$C$20)/1000*図面!$AK$19","v":0},{"$f":"SUMIF(V$4:V$20,\"*←あ*\",$C$4:$C$20)/1000*図面!$AK$19","v":0},{"$f":"SUMIF(W$4:W$20,\"*←あ*\",$C$4:$C$20)/1000*図面!$AK$19","v":0},{"$f":"SUMIF(X$4:X$20,\"*←あ*\",$C$4:$C$20)/1000*図面!$AK$19","v":0},{"$f":"SUMIF(Y$4:Y$20,\"*←あ*\",$C$4:$C$20)/1000*図面!$AK$19","v":0},{"$f":"SUMIF(Z$4:Z$20,\"*←あ*\",$C$4:$C$20)/1000*図面!$AK$19","v":0}]
[null,null,"→い",{"$f":"SUMIF(D$4:D$20,\"*→い*\",$C$4:$C$20)/1000*図面!$AK$20","v":0},{"$f":"SUMIF(E$4:E$20,\"*→い*\",$C$4:$C$20)/1000*図面!$AK$20","v":0},{"$f":"SUMIF(F$4:F$20,\"*→い*\",$C$4:$C$20)/1000*図面!$AK$20","v":0},{"$f":"SUMIF(G$4:G$20,\"*→い*\",$C$4:$C$20)/1000*図面!$AK$20","v":0},{"$f":"SUMIF(H$4:H$20,\"*→い*\",$C$4:$C$20)/1000*図面!$AK$20","v":0},{"$f":"SUMIF(I$4:I$20,\"*→い*\",$C$4:$C$20)/1000*図面!$AK$20","v":0},{"$f":"SUMIF(J$4:J$20,\"*→い*\",$C$4:$C$20)/1000*図面!$AK$20","v":0},{"$f":"SUMIF(K$4:K$20,\"*→い*\",$C$4:$C$20)/1000*図面!$AK$20","v":0},{"$f":"SUMIF(L$4:L$20,\"*→い*\",$C$4:$C$20)/1000*図面!$AK$20","v":0},{"$f":"SUMIF(M$4:M$20,\"*→い*\",$C$4:$C$20)/1000*図面!$AK$20","v":0},{"$f":"SUMIF(N$4:N$20,\"*→い*\",$C$4:$C$20)/1000*図面!$AK$20","v":0},{"$f":"SUMIF(O$4:O$20,\"*→い*\",$C$4:$C$20)/1000*図面!$AK$20","v":0},{"$f":"SUMIF(P$4:P$20,\"*→い*\",$C$4:$C$20)/1000*図面!$AK$20","v":0},{"$f":"SUMIF(Q$4:Q$20,\"*→い*\",$C$4:$C$20)/1000*図面!$AK$20","v":0},{"$f":"SUMIF(R$4:R$20,\"*→い*\",$C$4:$C$20)/1000*図面!$AK$20","v":0},{"$f":"SUMIF(S$4:S$20,\"*→い*\",$C$4:$C$20)/1000*図面!$AK$20","v":0},{"$f":"SUMIF(T$4:T$20,\"*→い*\",$C$4:$C$20)/1000*図面!$AK$20","v":0},{"$f":"SUMIF(U$4:U$20,\"*→い*\",$C$4:$C$20)/1000*図面!$AK$20","v":0},{"$f":"SUMIF(V$4:V$20,\"*→い*\",$C$4:$C$20)/1000*図面!$AK$20","v":0},{"$f":"SUMIF(W$4:W$20,\"*→い*\",$C$4:$C$20)/1000*図面!$AK$20","v":0},{"$f":"SUMIF(X$4:X$20,\"*→い*\",$C$4:$C$20)/1000*図面!$AK$20","v":0},{"$f":"SUMIF(Y$4:Y$20,\"*→い*\",$C$4:$C$20)/1000*図面!$AK$20","v":0},{"$f":"SUMIF(Z$4:Z$20,\"*→い*\",$C$4:$C$20)/1000*図面!$AK$20","v":0}]
[null,null,"←い",{"$f":"SUMIF(D$4:D$20,\"*←い*\",$C$4:$C$20)/1000*図面!$AK$20","v":0},{"$f":"SUMIF(E$4:E$20,\"*←い*\",$C$4:$C$20)/1000*図面!$AK$20","v":0},{"$f":"SUMIF(F$4:F$20,\"*←い*\",$C$4:$C$20)/1000*図面!$AK$20","v":0},{"$f":"SUMIF(G$4:G$20,\"*←い*\",$C$4:$C$20)/1000*図面!$AK$20","v":0},{"$f":"SUMIF(H$4:H$20,\"*←い*\",$C$4:$C$20)/1000*図面!$AK$20","v":0},{"$f":"SUMIF(I$4:I$20,\"*←い*\",$C$4:$C$20)/1000*図面!$AK$20","v":0},{"$f":"SUMIF(J$4:J$20,\"*←い*\",$C$4:$C$20)/1000*図面!$AK$20","v":0},{"$f":"SUMIF(K$4:K$20,\"*←い*\",$C$4:$C$20)/1000*図面!$AK$20","v":0},{"$f":"SUMIF(L$4:L$20,\"*←い*\",$C$4:$C$20)/1000*図面!$AK$20","v":0},{"$f":"SUMIF(M$4:M$20,\"*←い*\",$C$4:$C$20)/1000*図面!$AK$20","v":0},{"$f":"SUMIF(N$4:N$20,\"*←い*\",$C$4:$C$20)/1000*図面!$AK$20","v":0},{"$f":"SUMIF(O$4:O$20,\"*←い*\",$C$4:$C$20)/1000*図面!$AK$20","v":0},{"$f":"SUMIF(P$4:P$20,\"*←い*\",$C$4:$C$20)/1000*図面!$AK$20","v":0},{"$f":"SUMIF(Q$4:Q$20,\"*←い*\",$C$4:$C$20)/1000*図面!$AK$20","v":0},{"$f":"SUMIF(R$4:R$20,\"*←い*\",$C$4:$C$20)/1000*図面!$AK$20","v":0},{"$f":"SUMIF(S$4:S$20,\"*←い*\",$C$4:$C$20)/1000*図面!$AK$20","v":0},{"$f":"SUMIF(T$4:T$20,\"*←い*\",$C$4:$C$20)/1000*図面!$AK$20","v":0},{"$f":"SUMIF(U$4:U$20,\"*←い*\",$C$4:$C$20)/1000*図面!$AK$20","v":0},{"$f":"SUMIF(V$4:V$20,\"*←い*\",$C$4:$C$20)/1000*図面!$AK$20","v":0},{"$f":"SUMIF(W$4:W$20,\"*←い*\",$C$4:$C$20)/1000*図面!$AK$20","v":0},{"$f":"SUMIF(X$4:X$20,\"*←い*\",$C$4:$C$20)/1000*図面!$AK$20","v":0},{"$f":"SUMIF(Y$4:Y$20,\"*←い*\",$C$4:$C$20)/1000*図面!$AK$20","v":0},{"$f":"SUMIF(Z$4:Z$20,\"*←い*\",$C$4:$C$20)/1000*図面!$AK$20","v":0}]
[null,null,"→う",{"$f":"SUMIF(D$4:D$20,\"*→う*\",$C$4:$C$20)/1000*図面!$AK$21","v":0},{"$f":"SUMIF(E$4:E$20,\"*→う*\",$C$4:$C$20)/1000*図面!$AK$21","v":0},{"$f":"SUMIF(F$4:F$20,\"*→う*\",$C$4:$C$20)/1000*図面!$AK$21","v":0},{"$f":"SUMIF(G$4:G$20,\"*→う*\",$C$4:$C$20)/1000*図面!$AK$21","v":0},{"$f":"SUMIF(H$4:H$20,\"*→う*\",$C$4:$C$20)/1000*図面!$AK$21","v":0},{"$f":"SUMIF(I$4:I$20,\"*→う*\",$C$4:$C$20)/1000*図面!$AK$21","v":0},{"$f":"SUMIF(J$4:J$20,\"*→う*\",$C$4:$C$20)/1000*図面!$AK$21","v":0},{"$f":"SUMIF(K$4:K$20,\"*→う*\",$C$4:$C$20)/1000*図面!$AK$21","v":0},{"$f":"SUMIF(L$4:L$20,\"*→う*\",$C$4:$C$20)/1000*図面!$AK$21","v":0},{"$f":"SUMIF(M$4:M$20,\"*→う*\",$C$4:$C$20)/1000*図面!$AK$21","v":0},{"$f":"SUMIF(N$4:N$20,\"*→う*\",$C$4:$C$20)/1000*図面!$AK$21","v":0},{"$f":"SUMIF(O$4:O$20,\"*→う*\",$C$4:$C$20)/1000*図面!$AK$21","v":0},{"$f":"SUMIF(P$4:P$20,\"*→う*\",$C$4:$C$20)/1000*図面!$AK$21","v":0},{"$f":"SUMIF(Q$4:Q$20,\"*→う*\",$C$4:$C$20)/1000*図面!$AK$21","v":0},{"$f":"SUMIF(R$4:R$20,\"*→う*\",$C$4:$C$20)/1000*図面!$AK$21","v":0},{"$f":"SUMIF(S$4:S$20,\"*→う*\",$C$4:$C$20)/1000*図面!$AK$21","v":0},{"$f":"SUMIF(T$4:T$20,\"*→う*\",$C$4:$C$20)/1000*図面!$AK$21","v":0},{"$f":"SUMIF(U$4:U$20,\"*→う*\",$C$4:$C$20)/1000*図面!$AK$21","v":0},{"$f":"SUMIF(V$4:V$20,\"*→う*\",$C$4:$C$20)/1000*図面!$AK$21","v":0},{"$f":"SUMIF(W$4:W$20,\"*→う*\",$C$4:$C$20)/1000*図面!$AK$21","v":0},{"$f":"SUMIF(X$4:X$20,\"*→う*\",$C$4:$C$20)/1000*図面!$AK$21","v":0},{"$f":"SUMIF(Y$4:Y$20,\"*→う*\",$C$4:$C$20)/1000*図面!$AK$21","v":0},{"$f":"SUMIF(Z$4:Z$20,\"*→う*\",$C$4:$C$20)/1000*図面!$AK$21","v":0}]
[null,null,"←う",{"$f":"SUMIF(D$4:D$20,\"*←う*\",$C$4:$C$20)/1000*図面!$AK$21","v":0},{"$f":"SUMIF(E$4:E$20,\"*←う*\",$C$4:$C$20)/1000*図面!$AK$21","v":0},{"$f":"SUMIF(F$4:F$20,\"*←う*\",$C$4:$C$20)/1000*図面!$AK$21","v":0},{"$f":"SUMIF(G$4:G$20,\"*←う*\",$C$4:$C$20)/1000*図面!$AK$21","v":0},{"$f":"SUMIF(H$4:H$20,\"*←う*\",$C$4:$C$20)/1000*図面!$AK$21","v":0},{"$f":"SUMIF(I$4:I$20,\"*←う*\",$C$4:$C$20)/1000*図面!$AK$21","v":0},{"$f":"SUMIF(J$4:J$20,\"*←う*\",$C$4:$C$20)/1000*図面!$AK$21","v":0},{"$f":"SUMIF(K$4:K$20,\"*←う*\",$C$4:$C$20)/1000*図面!$AK$21","v":0},{"$f":"SUMIF(L$4:L$20,\"*←う*\",$C$4:$C$20)/1000*図面!$AK$21","v":0},{"$f":"SUMIF(M$4:M$20,\"*←う*\",$C$4:$C$20)/1000*図面!$AK$21","v":0},{"$f":"SUMIF(N$4:N$20,\"*←う*\",$C$4:$C$20)/1000*図面!$AK$21","v":0},{"$f":"SUMIF(O$4:O$20,\"*←う*\",$C$4:$C$20)/1000*図面!$AK$21","v":0},{"$f":"SUMIF(P$4:P$20,\"*←う*\",$C$4:$C$20)/1000*図面!$AK$21","v":0},{"$f":"SUMIF(Q$4:Q$20,\"*←う*\",$C$4:$C$20)/1000*図面!$AK$21","v":0},{"$f":"SUMIF(R$4:R$20,\"*←う*\",$C$4:$C$20)/1000*図面!$AK$21","v":0},{"$f":"SUMIF(S$4:S$20,\"*←う*\",$C$4:$C$20)/1000*図面!$AK$21","v":0},{"$f":"SUMIF(T$4:T$20,\"*←う*\",$C$4:$C$20)/1000*図面!$AK$21","v":0},{"$f":"SUMIF(U$4:U$20,\"*←う*\",$C$4:$C$20)/1000*図面!$AK$21","v":0},{"$f":"SUMIF(V$4:V$20,\"*←う*\",$C$4:$C$20)/1000*図面!$AK$21","v":0},{"$f":"SUMIF(W$4:W$20,\"*←う*\",$C$4:$C$20)/1000*図面!$AK$21","v":0},{"$f":"SUMIF(X$4:X$20,\"*←う*\",$C$4:$C$20)/1000*図面!$AK$21","v":0},{"$f":"SUMIF(Y$4:Y$20,\"*←う*\",$C$4:$C$20)/1000*図面!$AK$21","v":0},{"$f":"SUMIF(Z$4:Z$20,\"*←う*\",$C$4:$C$20)/1000*図面!$AK$21","v":0}]
[null,null,"→え",{"$f":"SUMIF(D$4:D$20,\"*→え*\",$C$4:$C$20)/1000*図面!$AK$22","v":0},{"$f":"SUMIF(E$4:E$20,\"*→え*\",$C$4:$C$20)/1000*図面!$AK$22","v":0},{"$f":"SUMIF(F$4:F$20,\"*→え*\",$C$4:$C$20)/1000*図面!$AK$22","v":0},{"$f":"SUMIF(G$4:G$20,\"*→え*\",$C$4:$C$20)/1000*図面!$AK$22","v":0},{"$f":"SUMIF(H$4:H$20,\"*→え*\",$C$4:$C$20)/1000*図面!$AK$22","v":0},{"$f":"SUMIF(I$4:I$20,\"*→え*\",$C$4:$C$20)/1000*図面!$AK$22","v":0},{"$f":"SUMIF(J$4:J$20,\"*→え*\",$C$4:$C$20)/1000*図面!$AK$22","v":0},{"$f":"SUMIF(K$4:K$20,\"*→え*\",$C$4:$C$20)/1000*図面!$AK$22","v":0},{"$f":"SUMIF(L$4:L$20,\"*→え*\",$C$4:$C$20)/1000*図面!$AK$22","v":0},{"$f":"SUMIF(M$4:M$20,\"*→え*\",$C$4:$C$20)/1000*図面!$AK$22","v":0},{"$f":"SUMIF(N$4:N$20,\"*→え*\",$C$4:$C$20)/1000*図面!$AK$22","v":0},{"$f":"SUMIF(O$4:O$20,\"*→え*\",$C$4:$C$20)/1000*図面!$AK$22","v":0},{"$f":"SUMIF(P$4:P$20,\"*→え*\",$C$4:$C$20)/1000*図面!$AK$22","v":0},{"$f":"SUMIF(Q$4:Q$20,\"*→え*\",$C$4:$C$20)/1000*図面!$AK$22","v":0},{"$f":"SUMIF(R$4:R$20,\"*→え*\",$C$4:$C$20)/1000*図面!$AK$22","v":0},{"$f":"SUMIF(S$4:S$20,\"*→え*\",$C$4:$C$20)/1000*図面!$AK$22","v":0},{"$f":"SUMIF(T$4:T$20,\"*→え*\",$C$4:$C$20)/1000*図面!$AK$22","v":0},{"$f":"SUMIF(U$4:U$20,\"*→え*\",$C$4:$C$20)/1000*図面!$AK$22","v":0},{"$f":"SUMIF(V$4:V$20,\"*→え*\",$C$4:$C$20)/1000*図面!$AK$22","v":0},{"$f":"SUMIF(W$4:W$20,\"*→え*\",$C$4:$C$20)/1000*図面!$AK$22","v":0},{"$f":"SUMIF(X$4:X$20,\"*→え*\",$C$4:$C$20)/1000*図面!$AK$22","v":0},{"$f":"SUMIF(Y$4:Y$20,\"*→え*\",$C$4:$C$20)/1000*図面!$AK$22","v":0},{"$f":"SUMIF(Z$4:Z$20,\"*→え*\",$C$4:$C$20)/1000*図面!$AK$22","v":0}]
[null,null,"←え",{"$f":"SUMIF(D$4:D$20,\"*←え*\",$C$4:$C$20)/1000*図面!$AK$22","v":0},{"$f":"SUMIF(E$4:E$20,\"*←え*\",$C$4:$C$20)/1000*図面!$AK$22","v":0},{"$f":"SUMIF(F$4:F$20,\"*←え*\",$C$4:$C$20)/1000*図面!$AK$22","v":0},{"$f":"SUMIF(G$4:G$20,\"*←え*\",$C$4:$C$20)/1000*図面!$AK$22","v":0},{"$f":"SUMIF(H$4:H$20,\"*←え*\",$C$4:$C$20)/1000*図面!$AK$22","v":0},{"$f":"SUMIF(I$4:I$20,\"*←え*\",$C$4:$C$20)/1000*図面!$AK$22","v":0},{"$f":"SUMIF(J$4:J$20,\"*←え*\",$C$4:$C$20)/1000*図面!$AK$22","v":0},{"$f":"SUMIF(K$4:K$20,\"*←え*\",$C$4:$C$20)/1000*図面!$AK$22","v":0},{"$f":"SUMIF(L$4:L$20,\"*←え*\",$C$4:$C$20)/1000*図面!$AK$22","v":0},{"$f":"SUMIF(M$4:M$20,\"*←え*\",$C$4:$C$20)/1000*図面!$AK$22","v":0},{"$f":"SUMIF(N$4:N$20,\"*←え*\",$C$4:$C$20)/1000*図面!$AK$22","v":0},{"$f":"SUMIF(O$4:O$20,\"*←え*\",$C$4:$C$20)/1000*図面!$AK$22","v":0},{"$f":"SUMIF(P$4:P$20,\"*←え*\",$C$4:$C$20)/1000*図面!$AK$22","v":0},{"$f":"SUMIF(Q$4:Q$20,\"*←え*\",$C$4:$C$20)/1000*図面!$AK$22","v":0},{"$f":"SUMIF(R$4:R$20,\"*←え*\",$C$4:$C$20)/1000*図面!$AK$22","v":0},{"$f":"SUMIF(S$4:S$20,\"*←え*\",$C$4:$C$20)/1000*図面!$AK$22","v":0},{"$f":"SUMIF(T$4:T$20,\"*←え*\",$C$4:$C$20)/1000*図面!$AK$22","v":0},{"$f":"SUMIF(U$4:U$20,\"*←え*\",$C$4:$C$20)/1000*図面!$AK$22","v":0},{"$f":"SUMIF(V$4:V$20,\"*←え*\",$C$4:$C$20)/1000*図面!$AK$22","v":0},{"$f":"SUMIF(W$4:W$20,\"*←え*\",$C$4:$C$20)/1000*図面!$AK$22","v":0},{"$f":"SUMIF(X$4:X$20,\"*←え*\",$C$4:$C$20)/1000*図面!$AK$22","v":0},{"$f":"SUMIF(Y$4:Y$20,\"*←え*\",$C$4:$C$20)/1000*図面!$AK$22","v":0},{"$f":"SUMIF(Z$4:Z$20,\"*←え*\",$C$4:$C$20)/1000*図面!$AK$22","v":0}]
[null,null,"→お",{"$f":"SUMIF(D$4:D$20,\"*→お*\",$C$4:$C$20)/1000*図面!$AK$23","v":0},{"$f":"SUMIF(E$4:E$20,\"*→お*\",$C$4:$C$20)/1000*図面!$AK$23","v":0},{"$f":"SUMIF(F$4:F$20,\"*→お*\",$C$4:$C$20)/1000*図面!$AK$23","v":0},{"$f":"SUMIF(G$4:G$20,\"*→お*\",$C$4:$C$20)/1000*図面!$AK$23","v":0},{"$f":"SUMIF(H$4:H$20,\"*→お*\",$C$4:$C$20)/1000*図面!$AK$23","v":0},{"$f":"SUMIF(I$4:I$20,\"*→お*\",$C$4:$C$20)/1000*図面!$AK$23","v":0},{"$f":"SUMIF(J$4:J$20,\"*→お*\",$C$4:$C$20)/1000*図面!$AK$23","v":0},{"$f":"SUMIF(K$4:K$20,\"*→お*\",$C$4:$C$20)/1000*図面!$AK$23","v":0},{"$f":"SUMIF(L$4:L$20,\"*→お*\",$C$4:$C$20)/1000*図面!$AK$23","v":0},{"$f":"SUMIF(M$4:M$20,\"*→お*\",$C$4:$C$20)/1000*図面!$AK$23","v":0},{"$f":"SUMIF(N$4:N$20,\"*→お*\",$C$4:$C$20)/1000*図面!$AK$23","v":0},{"$f":"SUMIF(O$4:O$20,\"*→お*\",$C$4:$C$20)/1000*図面!$AK$23","v":0},{"$f":"SUMIF(P$4:P$20,\"*→お*\",$C$4:$C$20)/1000*図面!$AK$23","v":0},{"$f":"SUMIF(Q$4:Q$20,\"*→お*\",$C$4:$C$20)/1000*図面!$AK$23","v":0},{"$f":"SUMIF(R$4:R$20,\"*→お*\",$C$4:$C$20)/1000*図面!$AK$23","v":0},{"$f":"SUMIF(S$4:S$20,\"*→お*\",$C$4:$C$20)/1000*図面!$AK$23","v":0},{"$f":"SUMIF(T$4:T$20,\"*→お*\",$C$4:$C$20)/1000*図面!$AK$23","v":0},{"$f":"SUMIF(U$4:U$20,\"*→お*\",$C$4:$C$20)/1000*図面!$AK$23","v":0},{"$f":"SUMIF(V$4:V$20,\"*→お*\",$C$4:$C$20)/1000*図面!$AK$23","v":0},{"$f":"SUMIF(W$4:W$20,\"*→お*\",$C$4:$C$20)/1000*図面!$AK$23","v":0},{"$f":"SUMIF(X$4:X$20,\"*→お*\",$C$4:$C$20)/1000*図面!$AK$23","v":0},{"$f":"SUMIF(Y$4:Y$20,\"*→お*\",$C$4:$C$20)/1000*図面!$AK$23","v":0},{"$f":"SUMIF(Z$4:Z$20,\"*→お*\",$C$4:$C$20)/1000*図面!$AK$23","v":0}]
[null,null,"←お",{"$f":"SUMIF(D$4:D$20,\"*←お*\",$C$4:$C$20)/1000*図面!$AK$23","v":0},{"$f":"SUMIF(E$4:E$20,\"*←お*\",$C$4:$C$20)/1000*図面!$AK$23","v":0},{"$f":"SUMIF(F$4:F$20,\"*←お*\",$C$4:$C$20)/1000*図面!$AK$23","v":0},{"$f":"SUMIF(G$4:G$20,\"*←お*\",$C$4:$C$20)/1000*図面!$AK$23","v":0},{"$f":"SUMIF(H$4:H$20,\"*←お*\",$C$4:$C$20)/1000*図面!$AK$23","v":0},{"$f":"SUMIF(I$4:I$20,\"*←お*\",$C$4:$C$20)/1000*図面!$AK$23","v":0},{"$f":"SUMIF(J$4:J$20,\"*←お*\",$C$4:$C$20)/1000*図面!$AK$23","v":0},{"$f":"SUMIF(K$4:K$20,\"*←お*\",$C$4:$C$20)/1000*図面!$AK$23","v":0},{"$f":"SUMIF(L$4:L$20,\"*←お*\",$C$4:$C$20)/1000*図面!$AK$23","v":0},{"$f":"SUMIF(M$4:M$20,\"*←お*\",$C$4:$C$20)/1000*図面!$AK$23","v":0},{"$f":"SUMIF(N$4:N$20,\"*←お*\",$C$4:$C$20)/1000*図面!$AK$23","v":0},{"$f":"SUMIF(O$4:O$20,\"*←お*\",$C$4:$C$20)/1000*図面!$AK$23","v":0},{"$f":"SUMIF(P$4:P$20,\"*←お*\",$C$4:$C$20)/1000*図面!$AK$23","v":0},{"$f":"SUMIF(Q$4:Q$20,\"*←お*\",$C$4:$C$20)/1000*図面!$AK$23","v":0},{"$f":"SUMIF(R$4:R$20,\"*←お*\",$C$4:$C$20)/1000*図面!$AK$23","v":0},{"$f":"SUMIF(S$4:S$20,\"*←お*\",$C$4:$C$20)/1000*図面!$AK$23","v":0},{"$f":"SUMIF(T$4:T$20,\"*←お*\",$C$4:$C$20)/1000*図面!$AK$23","v":0},{"$f":"SUMIF(U$4:U$20,\"*←お*\",$C$4:$C$20)/1000*図面!$AK$23","v":0},{"$f":"SUMIF(V$4:V$20,\"*←お*\",$C$4:$C$20)/1000*図面!$AK$23","v":0},{"$f":"SUMIF(W$4:W$20,\"*←お*\",$C$4:$C$20)/1000*図面!$AK$23","v":0},{"$f":"SUMIF(X$4:X$20,\"*←お*\",$C$4:$C$20)/1000*図面!$AK$23","v":0},{"$f":"SUMIF(Y$4:Y$20,\"*←お*\",$C$4:$C$20)/1000*図面!$AK$23","v":0},{"$f":"SUMIF(Z$4:Z$20,\"*←お*\",$C$4:$C$20)/1000*図面!$AK$23","v":0}]
[null,null,"→か",{"$f":"SUMIF(D$4:D$20,\"*→か*\",$C$4:$C$20)/1000*図面!$AK$23","v":0},{"$f":"SUMIF(E$4:E$20,\"*→か*\",$C$4:$C$20)/1000*図面!$AK$23","v":0},{"$f":"SUMIF(F$4:F$20,\"*→か*\",$C$4:$C$20)/1000*図面!$AK$23","v":0},{"$f":"SUMIF(G$4:G$20,\"*→か*\",$C$4:$C$20)/1000*図面!$AK$23","v":0},{"$f":"SUMIF(H$4:H$20,\"*→か*\",$C$4:$C$20)/1000*図面!$AK$23","v":0},{"$f":"SUMIF(I$4:I$20,\"*→か*\",$C$4:$C$20)/1000*図面!$AK$23","v":0},{"$f":"SUMIF(J$4:J$20,\"*→か*\",$C$4:$C$20)/1000*図面!$AK$23","v":0},{"$f":"SUMIF(K$4:K$20,\"*→か*\",$C$4:$C$20)/1000*図面!$AK$23","v":0},{"$f":"SUMIF(L$4:L$20,\"*→か*\",$C$4:$C$20)/1000*図面!$AK$23","v":0},{"$f":"SUMIF(M$4:M$20,\"*→か*\",$C$4:$C$20)/1000*図面!$AK$23","v":0},{"$f":"SUMIF(N$4:N$20,\"*→か*\",$C$4:$C$20)/1000*図面!$AK$23","v":0},{"$f":"SUMIF(O$4:O$20,\"*→か*\",$C$4:$C$20)/1000*図面!$AK$23","v":0},{"$f":"SUMIF(P$4:P$20,\"*→か*\",$C$4:$C$20)/1000*図面!$AK$23","v":0},{"$f":"SUMIF(Q$4:Q$20,\"*→か*\",$C$4:$C$20)/1000*図面!$AK$23","v":0},{"$f":"SUMIF(R$4:R$20,\"*→か*\",$C$4:$C$20)/1000*図面!$AK$23","v":0},{"$f":"SUMIF(S$4:S$20,\"*→か*\",$C$4:$C$20)/1000*図面!$AK$23","v":0},{"$f":"SUMIF(T$4:T$20,\"*→か*\",$C$4:$C$20)/1000*図面!$AK$23","v":0},{"$f":"SUMIF(U$4:U$20,\"*→か*\",$C$4:$C$20)/1000*図面!$AK$23","v":0},{"$f":"SUMIF(V$4:V$20,\"*→か*\",$C$4:$C$20)/1000*図面!$AK$23","v":0},{"$f":"SUMIF(W$4:W$20,\"*→か*\",$C$4:$C$20)/1000*図面!$AK$23","v":0},{"$f":"SUMIF(X$4:X$20,\"*→か*\",$C$4:$C$20)/1000*図面!$AK$23","v":0},{"$f":"SUMIF(Y$4:Y$20,\"*→か*\",$C$4:$C$20)/1000*図面!$AK$23","v":0},{"$f":"SUMIF(Z$4:Z$20,\"*→か*\",$C$4:$C$20)/1000*図面!$AK$23","v":0}]
[null,null,"←か",{"$f":"SUMIF(D$4:D$20,\"*←か*\",$C$4:$C$20)/1000*図面!$AK$23","v":0},{"$f":"SUMIF(E$4:E$20,\"*←か*\",$C$4:$C$20)/1000*図面!$AK$23","v":0},{"$f":"SUMIF(F$4:F$20,\"*←か*\",$C$4:$C$20)/1000*図面!$AK$23","v":0},{"$f":"SUMIF(G$4:G$20,\"*←か*\",$C$4:$C$20)/1000*図面!$AK$23","v":0},{"$f":"SUMIF(H$4:H$20,\"*←か*\",$C$4:$C$20)/1000*図面!$AK$23","v":0},{"$f":"SUMIF(I$4:I$20,\"*←か*\",$C$4:$C$20)/1000*図面!$AK$23","v":0},{"$f":"SUMIF(J$4:J$20,\"*←か*\",$C$4:$C$20)/1000*図面!$AK$23","v":0},{"$f":"SUMIF(K$4:K$20,\"*←か*\",$C$4:$C$20)/1000*図面!$AK$23","v":0},{"$f":"SUMIF(L$4:L$20,\"*←か*\",$C$4:$C$20)/1000*図面!$AK$23","v":0},{"$f":"SUMIF(M$4:M$20,\"*←か*\",$C$4:$C$20)/1000*図面!$AK$23","v":0},{"$f":"SUMIF(N$4:N$20,\"*←か*\",$C$4:$C$20)/1000*図面!$AK$23","v":0},{"$f":"SUMIF(O$4:O$20,\"*←か*\",$C$4:$C$20)/1000*図面!$AK$23","v":0},{"$f":"SUMIF(P$4:P$20,\"*←か*\",$C$4:$C$20)/1000*図面!$AK$23","v":0},{"$f":"SUMIF(Q$4:Q$20,\"*←か*\",$C$4:$C$20)/1000*図面!$AK$23","v":0},{"$f":"SUMIF(R$4:R$20,\"*←か*\",$C$4:$C$20)/1000*図面!$AK$23","v":0},{"$f":"SUMIF(S$4:S$20,\"*←か*\",$C$4:$C$20)/1000*図面!$AK$23","v":0},{"$f":"SUMIF(T$4:T$20,\"*←か*\",$C$4:$C$20)/1000*図面!$AK$23","v":0},{"$f":"SUMIF(U$4:U$20,\"*←か*\",$C$4:$C$20)/1000*図面!$AK$23","v":0},{"$f":"SUMIF(V$4:V$20,\"*←か*\",$C$4:$C$20)/1000*図面!$AK$23","v":0},{"$f":"SUMIF(W$4:W$20,\"*←か*\",$C$4:$C$20)/1000*図面!$AK$23","v":0},{"$f":"SUMIF(X$4:X$20,\"*←か*\",$C$4:$C$20)/1000*図面!$AK$23","v":0},{"$f":"SUMIF(Y$4:Y$20,\"*←か*\",$C$4:$C$20)/1000*図面!$AK$23","v":0},{"$f":"SUMIF(Z$4:Z$20,\"*←か*\",$C$4:$C$20)/1000*図面!$AK$23","v":0}]
[null,null,"合計",{"$f":"SUM(D23:D34)","v":0},{"$f":"SUM(E23:E34)","v":0},0,0,0,0,0,0,0,0,0,0,0,0,0,0,0,0,0,0,0,0,0,{"$f":"SUM(D35:Z35)","v":0}]
[null,null,null,{"$f":"IF(COUNTIF(面積計算!D27,1),\"左\",\" \")","v":" "},{"$f":"IF(COUNTIF(面積計算!E27,1),\"左\",\" \")","v":" "},{"$f":"IF(COUNTIF(面積計算!F27,1),\"左\",\" \")","v":" "},{"$f":"IF(COUNTIF(面積計算!G27,1),\"左\",\" \")","v":" "},{"$f":"IF(COUNTIF(面積計算!H27,1),\"左\",\" \")","v":" "},{"$f":"IF(COUNTIF(面積計算!I27,1),\"左\",\" \")","v":" "},{"$f":"IF(COUNTIF(面積計算!J27,1),\"左\",\" \")","v":" "},{"$f":"IF(COUNTIF(面積計算!K27,1),\"左\",\" \")","v":" "},{"$f":"IF(COUNTIF(面積計算!L27,1),\"左\",\" \")","v":" "},{"$f":"IF(COUNTIF(面積計算!M27,1),\"左\",\" \")","v":" "},{"$f":"IF(COUNTIF(面積計算!N27,1),\"左\",\" \")","v":" "},{"$f":"IF(COUNTIF(面積計算!O27,1),\"左\",\" \")","v":" "},{"$f":"IF(COUNTIF(面積計算!P27,1),\"左\",\" \")","v":" "},{"$f":"IF(COUNTIF(面積計算!Q27,1),\"左\",\" \")","v":" "},{"$f":"IF(COUNTIF(面積計算!R27,1),\"左\",\" \")","v":" "},{"$f":"IF(COUNTIF(面積計算!S27,1),\"左\",\" \")","v":" "},{"$f":"IF(COUNTIF(面積計算!T27,1),\"左\",\" \")","v":" "},{"$f":"IF(COUNTIF(面積計算!U27,1),\"左\",\" \")","v":" "},{"$f":"IF(COUNTIF(面積計算!V27,1),\"左\",\" \")","v":" "},{"$f":"IF(COUNTIF(面積計算!W27,1),\"左\",\" \")","v":" "},{"$f":"IF(COUNTIF(面積計算!X27,1),\"左\",\" \")","v":" "},{"$f":"IF(COUNTIF(面積計算!Y27,1),\"左\",\" \")","v":" "},{"$f":"IF(COUNTIF(面積計算!Z27,1),\"左\",\" \")","v":" "}]
[null,null,null,{"$f":"IF(COUNTIF(面積計算!D29,1),\"右\",\" \")","v":" "},{"$f":"IF(COUNTIF(面積計算!E29,1),\"右\",\" \")","v":" "},{"$f":"IF(COUNTIF(面積計算!F29,1),\"右\",\" \")","v":" "},{"$f":"IF(COUNTIF(面積計算!G29,1),\"右\",\" \")","v":" "},{"$f":"IF(COUNTIF(面積計算!H29,1),\"右\",\" \")","v":" "},{"$f":"IF(COUNTIF(面積計算!I29,1),\"右\",\" \")","v":" "},{"$f":"IF(COUNTIF(面積計算!J29,1),\"右\",\" \")","v":" "},{"$f":"IF(COUNTIF(面積計算!K29,1),\"右\",\" \")","v":" "},{"$f":"IF(COUNTIF(面積計算!L29,1),\"右\",\" \")","v":" "},{"$f":"IF(COUNTIF(面積計算!M29,1),\"右\",\" \")","v":" "},{"$f":"IF(COUNTIF(面積計算!N29,1),\"右\",\" \")","v":" "},{"$f":"IF(COUNTIF(面積計算!O29,1),\"右\",\" \")","v":" "},{"$f":"IF(COUNTIF(面積計算!P29,1),\"右\",\" \")","v":" "},{"$f":"IF(COUNTIF(面積計算!Q29,1),\"右\",\" \")","v":" "},{"$f":"IF(COUNTIF(面積計算!R29,1),\"右\",\" \")","v":" "},{"$f":"IF(COUNTIF(面積計算!S29,1),\"右\",\" \")","v":" "},{"$f":"IF(COUNTIF(面積計算!T29,1),\"右\",\" \")","v":" "},{"$f":"IF(COUNTIF(面積計算!U29,1),\"右\",\" \")","v":" "},{"$f":"IF(COUNTIF(面積計算!V29,1),\"右\",\" \")","v":" "},{"$f":"IF(COUNTIF(面積計算!W29,1),\"右\",\" \")","v":" "},{"$f":"IF(COUNTIF(面積計算!X29,1),\"右\",\" \")","v":" "},{"$f":"IF(COUNTIF(面積計算!Y29,1),\"右\",\" \")","v":" "},{"$f":"IF(COUNTIF(面積計算!Z29,1),\"右\",\" \")","v":" "}]
[null,null,"左壁量",{"$f":"IF(COUNTIF(C36:E36,\"左\"),D35,0)","v":0},{"$f":"IF(COUNTIF(D36:F36,\"左\"),E35,0)","v":0},0,0,{"$f":"IF(COUNTIF(G36:I36,\"左\"),H35,0)","v":0},{"$f":"IF(COUNTIF(H36:J36,\"左\"),I35,0)","v":0},0,0,0,0,0,0,0,0,{"$f":"IF(COUNTIF(Q36:S36,\"左\"),R35,0)","v":0},0,0,0,0,0,0,0,0]
[null,null,"→",{"$f":"D23+D25+D27+D29+D31+D33","v":0},{"$f":"E23+E25+E27+E29+E31+E33","v":0},0,0,0,0,0,0,0,0,0,0,0,0,0,0,0,0,0,0,0,0,0]
[null,null,"補正左",{"$f":"IF(AND(D36=\" \",C36=\"左\"),D38-D39,D38)","v":0},{"$f":"IF(AND(E36=\" \",D36=\"左\"),E38-E39,E38)","v":0},0,0,0,0,0,{"$f":"IF(AND(K36=\" \",J36=\"左\"),K38-K39,K38)","v":0},{"$f":"IF(AND(L36=\" \",K36=\"左\"),L38-L39,L38)","v":0},0,0,0,0,0,0,{"$f":"IF(AND(S36=\" \",R36=\"左\"),S38-S39,S38)","v":0},0,0,0,0,0,0,0,{"$f":"SUM(D40:Z40)","v":0}]
[null,null,"右壁量",{"$f":"IF(COUNTIF(C37:E37,\"右\"),D35,0)","v":0},{"$f":"IF(COUNTIF(D37:F37,\"右\"),E35,0)","v":0},0,0,0,0,0,0,0,0,0,0,0,0,0,0,0,{"$f":"IF(COUNTIF(T37:V37,\"右\"),U35,0)","v":0},0,0,0,0,0]
[null,null,"←",{"$f":"D24+D26+D28+D30+D32+D34","v":0},{"$f":"E24+E26+E28+E30+E32+E34","v":0},0,0,0,0,0,0,0,0,0,0,0,0,0,0,0,0,0,0,0,0,0]
[null,null,"補正右",{"$f":"IF(AND(D37=\" \",E37=\"右\"),D41-D42,D41)","v":0},{"$f":"IF(AND(E37=\" \",F37=\"右\"),E41-E42,E41)","v":0},0,0,0,0,0,{"$f":"IF(AND(K37=\" \",L37=\"右\"),K41-K42,K41)","v":0},0,0,0,0,0,0,{"$f":"IF(AND(R37=\" \",S37=\"右\"),R41-R42,R41)","v":0},{"$f":"IF(AND(S37=\" \",T37=\"右\"),S41-S42,S41)","v":0},{"$f":"IF(AND(T37=\" \",U37=\"右\"),T41-T42,T41)","v":0},{"$f":"IF(AND(U37=\" \",V37=\"右\"),U41-U42,U41)","v":0},0,0,0,0,0,{"$f":"SUM(D43:Z43)","v":0}]

{"sheet":"面積計算2階","index":8,"n_rows":32,"n_cols":38,"rows_kept":32,"cut":false,"hidden":true,"merged":[[23,1,23,2],[1,28,2,28],[1,29,2,29],[1,30,2,30],[1,31,2,31],[1,34,2,34],[1,36,2,36],[1,37,2,37],[22,1,22,2],[22,26,22,27],[1,32,2,32],[1,33,2,33],[31,1,31,2],[31,26,31,27],[24,1,24,2],[24,31,24,32],[24,37,24,38],[25,1,25,2],[25,31,25,32],[25,37,25,38],[26,1,26,2],[27,1,27,2],[28,1,28,2],[30,1,30,2],[30,26,30,27]]}
[]
[null,null,null,null,null,null,null,null,null,null,null,null,null,null,null,null,null,null,null,null,null,null,null,null,null,null,null,null,"横面積合計","番号","セル高さ","上からの累計長さ","倍率","下からの累計長さ","倍率",null,"1/4面積(上)","1/4面積(下)"]
[null,null,null,{"$f":"図面!D2","v":910},{"$f":"図面!E2","v":910},{"$f":"図面!F2","v":910},{"$f":"図面!G2","v":910},{"$f":"図面!H2","v":910},{"$f":"図面!I2","v":910},{"$f":"図面!J2","v":910},{"$f":"図面!K2","v":910},{"$f":"図面!L2","v":910},{"$f":"図面!M2","v":910},{"$f":"図面!N2","v":910},{"$f":"図面!O2","v":910},{"$f":"図面!P2","v":910},{"$f":"図面!Q2","v":910},{"$f":"図面!R2","v":910},{"$f":"図面!S2","v":910},{"$f":"図面!T2","v":910},{"$f":"図面!U2","v":910},{"$f":"図面!V2","v":910},{"$f":"図面!W2","v":910},{"$f":"図面!X2","v":910},{"$f":"図面!Y2","v":910},{"$f":"図面!Z2","v":910}]
[null,null,{"$f":"図面!B4","v":910},{"$f":"$C4*D$3/1000000","v":0.82809999999999995},{"$f":"$C4*E$3/1000000","v":0.82809999999999995},0.82809999999999995,0.82809999999999995,0.82809999999999995,0.82809999999999995,0.82809999999999995,0.82809999999999995,0.82809999999999995,0.82809999999999995,0.82809999999999995,0.82809999999999995,0.82809999999999995,0.82809999999999995,0.82809999999999995,0.82809999999999995,0.82809999999999995,{"$f":"$C4*U$3/1000000","v":0.82809999999999995},0.82809999999999995,0.82809999999999995,0.82809999999999995,0.82809999999999995,0.82809999999999995,{"$f":"IF(COUNTIF(AG4:AI4,1),\"●\",\" \")","v":" "},null,{"$f":"SUM(D4:Z4)-sumColor(D4:Z4,$AB$1)","v":0},{"$f":"IF(AC4=0,\"\",SUMPRODUCT((AC$4:AC4<>0)*1))","v":""},{"$f":"IF(AD4=\"\",\"\",C4)","v":""},{"$f":"IF(AD4=\"\",\"\",SUM(AE$4:AE4))","v":""},{"$f":"IF(AF4=\"\",\"\",IF(AF4>$AL$25,($AL$25-AF3)/AE4,IF(AF4<=$AL$25,1,\" \")))","v":""},{"$f":"IF(AD4=\"\",\"\",SUM(AE4:AE$20))","v":""},{"$f":"IF(AH4=\"\",\"\",IF(AH4>$AL$25,($AL$25-AH5)/AE4,IF(AH4<=$AL$25,1,\" \")))","v":""},null,{"$f":"IF(AD4=\"\",\"\",IF(AG4<=0,\" \",AC4*AG4))","v":""},{"$f":"IF(AD4=\"\",\"\",IF(AI4<=0,\" \",AC4*AI4))","v":""}]
[null,null,{"$f":"図面!B5","v":910},0.82809999999999995,0.82809999999999995,0.82809999999999995,0.82809999999999995,0.82809999999999995,0.82809999999999995,0.82809999999999995,0.82809999999999995,0.82809999999999995,0.82809999999999995,0.82809999999999995,0.82809999999999995,0.82809999999999995,0.82809999999999995,0.82809999999999995,0.82809999999999995,0.82809999999999995,0.82809999999999995,0.82809999999999995,0.82809999999999995,0.82809999999999995,0.82809999999999995,0.82809999999999995,{"$f":"IF(COUNTIF(AG5:AI5,1),\"●\",\" \")","v":" "},null,{"$f":"SUM(D5:Z5)-sumColor(D5:Z5,$AB$1)","v":0},{"$f":"IF(AC5=0,\"\",SUMPRODUCT((AC$4:AC5<>0)*1))","v":""},"",{"$f":"IF(AD5=\"\",\"\",SUM(AE$4:AE5))","v":""},"",{"$f":"IF(AD5=\"\",\"\",SUM(AE5:AE$20))","v":""},"",null,"",""]
[null,null,{"$f":"図面!B6","v":910},0.82809999999999995,0.82809999999999995,0.82809999999999995,0.82809999999999995,0.82809999999999995,0.82809999999999995,0.82809999999999995,0.82809999999999995,0.82809999999999995,0.82809999999999995,0.82809999999999995,0.82809999999999995,0.82809999999999995,0.82809999999999995,0.82809999999999995,0.82809999999999995,0.82809999999999995,0.82809999999999995,0.82809999999999995,0.82809999999999995,0.82809999999999995,0.82809999999999995,0.82809999999999995," ",null,{"$f":"SUM(D6:Z6)-sumColor(D6:Z6,$AB$1)","v":0},{"$f":"IF(AC6=0,\"\",SUMPRODUCT((AC$4:AC6<>0)*1))","v":""},"",{"$f":"IF(AD6=\"\",\"\",SUM(AE$4:AE6))","v":""},"",{"$f":"IF(AD6=\"\",\"\",SUM(AE6:AE$20))","v":""},"",null,"",""]
[null,null,{"$f":"図面!B7","v":910},0.82809999999999995,0.82809999999999995,0.82809999999999995,0.82809999999999995,0.82809999999999995,0.82809999999999995,0.82809999999999995,0.82809999999999995,0.82809999999999995,0.82809999999999995,0.82809999999999995,0.82809999999999995,0.82809999999999995,0.82809999999999995,0.82809999999999995,0.82809999999999995,0.82809999999999995,0.82809999999999995,0.82809999999999995,0.82809999999999995,0.82809999999999995,0.82809999999999995,0.82809999999999995," ",null,{"$f":"SUM(D7:Z7)-sumColor(D7:Z7,$AB$1)","v":0},{"$f":"IF(AC7=0,\"\",SUMPRODUCT((AC$4:AC7<>0)*1))","v":""},"",{"$f":"IF(AD7=\"\",\"\",SUM(AE$4:AE7))","v":""},"",{"$f":"IF(AD7=\"\",\"\",SUM(AE7:AE$20))","v":""},"",null,"",""]
[null,null,{"$f":"図面!B8","v":910},0.82809999999999995,0.82809999999999995,0.82809999999999995,0.82809999999999995,0.82809999999999995,0.82809999999999995,0.82809999999999995,0.82809999999999995,0.82809999999999995,0.82809999999999995,0.82809999999999995,0.82809999999999995,0.82809999999999995,0.82809999999999995,0.82809999999999995,0.82809999999999995,0.82809999999999995,0.82809999999999995,0.82809999999999995,0.82809999999999995,0.82809999999999995,0.82809999999999995,0.82809999999999995," ",null,{"$f":"SUM(D8:Z8)-sumColor(D8:Z8,$AB$1)","v":0},{"$f":"IF(AC8=0,\"\",SUMPRODUCT((AC$4:AC8<>0)*1))","v":""},"",{"$f":"IF(AD8=\"\",\"\",SUM(AE$4:AE8))","v":""},"",{"$f":"IF(AD8=\"\",\"\",SUM(AE8:AE$20))","v":""},"",null,"",""]
[null,null,{"$f":"図面!B9","v":910},0.82809999999999995,0.82809999999999995,0.82809999999999995,0.82809999999999995,0.82809999999999995,0.82809999999999995,0.82809999999999995,0.82809999999999995,0.82809999999999995,0.82809999999999995,0.82809999999999995,0.82809999999999995,0.82809999999999995,0.82809999999999995,0.82809999999999995,0.82809999999999995,0.82809999999999995,0.82809999999999995,0.82809999999999995,0.82809999999999995,0.82809999999999995,0.82809999999999995,0.82809999999999995," ",null,{"$f":"SUM(D9:Z9)-sumColor(D9:Z9,$AB$1)","v":0},{"$f":"IF(AC9=0,\"\",SUMPRODUCT((AC$4:AC9<>0)*1))","v":""},"",{"$f":"IF(AD9=\"\",\"\",SUM(AE$4:AE9))","v":""},"",{"$f":"IF(AD9=\"\",\"\",SUM(AE9:AE$20))","v":""},"",null,"",""]
[null,null,{"$f":"図面!B10","v":910},0.82809999999999995,0.82809999999999995,0.82809999999999995,0.82809999999999995,0.82809999999999995,0.82809999999999995,0.82809999999999995,0.82809999999999995,0.82809999999999995,0.82809999999999995,0.82809999999999995,0.82809999999999995,0.82809999999999995,0.82809999999999995,0.82809999999999995,0.82809999999999995,0.82809999999999995,0.82809999999999995,0.82809999999999995,0.82809999999999995,0.82809999999999995,0.82809999999999995,0.82809999999999995," ",null,{"$f":"SUM(D10:Z10)-sumColor(D10:Z10,$AB$1)","v":0},{"$f":"IF(AC10=0,\"\",SUMPRODUCT((AC$4:AC10<>0)*1))","v":""},"",{"$f":"IF(AD10=\"\",\"\",SUM(AE$4:AE10))","v":""},"",{"$f":"IF(AD10=\"\",\"\",SUM(AE10:AE$20))","v":""},"",null,"",""]
[null,null,{"$f":"図面!B11","v":910},0.82809999999999995,0.82809999999999995,0.82809999999999995,0.82809999999999995,0.82809999999999995,0.82809999999999995,0.82809999999999995,0.82809999999999995,0.82809999999999995,0.82809999999999995,0.82809999999999995,0.82809999999999995,0.82809999999999995,0.82809999999999995,0.82809999999999995,0.82809999999999995,0.82809999999999995,0.82809999999999995,0.82809999999999995,0.82809999999999995,0.82809999999999995,0.82809999999999995,0.82809999999999995," ",null,{"$f":"SUM(D11:Z11)-sumColor(D11:Z11,$AB$1)","v":0},{"$f":"IF(AC11=0,\"\",SUMPRODUCT((AC$4:AC11<>0)*1))","v":""},"",{"$f":"IF(AD11=\"\",\"\",SUM(AE$4:AE11))","v":""},"",{"$f":"IF(AD11=\"\",\"\",SUM(AE11:AE$20))","v":""},"",null,"",""]
[null,null,{"$f":"図面!B12","v":910},0.82809999999999995,0.82809999999999995,0.82809999999999995,0.82809999999999995,0.82809999999999995,0.82809999999999995,0.82809999999999995,0.82809999999999995,0.82809999999999995,0.82809999999999995,0.82809999999999995,0.82809999999999995,0.82809999999999995,0.82809999999999995,0.82809999999999995,0.82809999999999995,0.82809999999999995,0.82809999999999995,0.82809999999999995,0.82809999999999995,0.82809999999999995,0.82809999999999995,0.82809999999999995," ",null,{"$f":"SUM(D12:Z12)-sumColor(D12:Z12,$AB$1)","v":0},{"$f":"IF(AC12=0,\"\",SUMPRODUCT((AC$4:AC12<>0)*1))","v":""},"",{"$f":"IF(AD12=\"\",\"\",SUM(AE$4:AE12))","v":""},"",{"$f":"IF(AD12=\"\",\"\",SUM(AE12:AE$20))","v":""},"",null,"",""]
[null,null,{"$f":"図面!B13","v":910},0.82809999999999995,0.82809999999999995,0.82809999999999995,0.82809999999999995,0.82809999999999995,0.82809999999999995,0.82809999999999995,0.82809999999999995,0.82809999999999995,0.82809999999999995,0.82809999999999995,0.82809999999999995,0.82809999999999995,0.82809999999999995,0.82809999999999995,0.82809999999999995,0.82809999999999995,0.82809999999999995,0.82809999999999995,0.82809999999999995,0.82809999999999995,0.82809999999999995,0.82809999999999995," ",null,{"$f":"SUM(D13:Z13)-sumColor(D13:Z13,$AB$1)","v":0},{"$f":"IF(AC13=0,\"\",SUMPRODUCT((AC$4:AC13<>0)*1))","v":""},"",{"$f":"IF(AD13=\"\",\"\",SUM(AE$4:AE13))","v":""},"",{"$f":"IF(AD13=\"\",\"\",SUM(AE13:AE$20))","v":""},"",null,"",""]
[null,null,{"$f":"図面!B14","v":910},0.82809999999999995,0.82809999999999995,0.82809999999999995,0.82809999999999995,0.82809999999999995,0.82809999999999995,0.82809999999999995,0.82809999999999995,0.82809999999999995,0.82809999999999995,0.82809999999999995,0.82809999999999995,0.82809999999999995,0.82809999999999995,0.82809999999999995,0.82809999999999995,0.82809999999999995,0.82809999999999995,0.82809999999999995,0.82809999999999995,0.82809999999999995,0.82809999999999995,0.82809999999999995," ",null,{"$f":"SUM(D14:Z14)-sumColor(D14:Z14,$AB$1)","v":0},{"$f":"IF(AC14=0,\"\",SUMPRODUCT((AC$4:AC14<>0)*1))","v":""},"",{"$f":"IF(AD14=\"\",\"\",SUM(AE$4:AE14))","v":""},"",{"$f":"IF(AD14=\"\",\"\",SUM(AE14:AE$20))","v":""},"",null,"",""]
[null,null,{"$f":"図面!B15","v":910},0.82809999999999995,0.82809999999999995,0.82809999999999995,0.82809999999999995,0.82809999999999995,0.82809999999999995,0.82809999999999995,0.82809999999999995,0.82809999999999995,0.82809999999999995,0.82809999999999995,0.82809999999999995,0.82809999999999995,0.82809999999999995,0.82809999999999995,0.82809999999999995,0.82809999999999995,0.82809999999999995,0.82809999999999995,0.82809999999999995,0.82809999999999995,0.82809999999999995,0.82809999999999995," ",null,{"$f":"SUM(D15:Z15)-sumColor(D15:Z15,$AB$1)","v":0},{"$f":"IF(AC15=0,\"\",SUMPRODUCT((AC$4:AC15<>0)*1))","v":""},"",{"$f":"IF(AD15=\"\",\"\",SUM(AE$4:AE15))","v":""},"",{"$f":"IF(AD15=\"\",\"\",SUM(AE15:AE$20))","v":""},"",null,"",""]
[null,null,{"$f":"図面!B16","v":910},0.82809999999999995,0.82809999999999995,0.82809999999999995,0.82809999999999995,0.82809999999999995,0.82809999999999995,0.82809999999999995,0.82809999999999995,0.82809999999999995,0.82809999999999995,0.82809999999999995,0.82809999999999995,0.82809999999999995,0.82809999999999995,0.82809999999999995,0.82809999999999995,0.82809999999999995,0.82809999999999995,0.82809999999999995,0.82809999999999995,0.82809999999999995,0.82809999999999995,0.82809999999999995," ",null,{"$f":"SUM(D16:Z16)-sumColor(D16:Z16,$AB$1)","v":0},{"$f":"IF(AC16=0,\"\",SUMPRODUCT((AC$4:AC16<>0)*1))","v":""},"",{"$f":"IF(AD16=\"\",\"\",SUM(AE$4:AE16))","v":""},"",{"$f":"IF(AD16=\"\",\"\",SUM(AE16:AE$20))","v":""},"",null,"",""]
[null,null,{"$f":"図面!B17","v":910},0.82809999999999995,0.82809999999999995,0.82809999999999995,0.82809999999999995,0.82809999999999995,0.82809999999999995,0.82809999999999995,0.82809999999999995,0.82809999999999995,0.82809999999999995,0.82809999999999995,0.82809999999999995,0.82809999999999995,0.82809999999999995,0.82809999999999995,0.82809999999999995,0.82809999999999995,0.82809999999999995,0.82809999999999995,0.82809999999999995,0.82809999999999995,0.82809999999999995,0.82809999999999995," ",null,{"$f":"SUM(D17:Z17)-sumColor(D17:Z17,$AB$1)","v":0},{"$f":"IF(AC17=0,\"\",SUMPRODUCT((AC$4:AC17<>0)*1))","v":""},"",{"$f":"IF(AD17=\"\",\"\",SUM(AE$4:AE17))","v":""},"",{"$f":"IF(AD17=\"\",\"\",SUM(AE17:AE$20))","v":""},"",null,"",""]
[null,null,{"$f":"図面!B18","v":910},0.82809999999999995,0.82809999999999995,0.82809999999999995,0.82809999999999995,0.82809999999999995,0.82809999999999995,0.82809999999999995,0.82809999999999995,0.82809999999999995,0.82809999999999995,0.82809999999999995,0.82809999999999995,0.82809999999999995,0.82809999999999995,0.82809999999999995,0.82809999999999995,0.82809999999999995,0.82809999999999995,0.82809999999999995,0.82809999999999995,0.82809999999999995,0.82809999999999995,0.82809999999999995," ",null,{"$f":"SUM(D18:Z18)-sumColor(D18:Z18,$AB$1)","v":0},{"$f":"IF(AC18=0,\"\",SUMPRODUCT((AC$4:AC18<>0)*1))","v":""},"",{"$f":"IF(AD18=\"\",\"\",SUM(AE$4:AE18))","v":""},"",{"$f":"IF(AD18=\"\",\"\",SUM(AE18:AE$20))","v":""},"",null,{"$f":"IF(AD18=\"\",\"\",IF(AG18<=0,\" \",AC18*AG18))","v":""},{"$f":"IF(AD18=\"\",\"\",IF(AI18<=0,\" \",AC18*AI18))","v":""}]
[null,null,{"$f":"図面!B19","v":910},0.82809999999999995,0.82809999999999995,0.82809999999999995,0.82809999999999995,0.82809999999999995,0.82809999999999995,0.82809999999999995,0.82809999999999995,0.82809999999999995,0.82809999999999995,0.82809999999999995,0.82809999999999995,0.82809999999999995,0.82809999999999995,0.82809999999999995,0.82809999999999995,{"$f":"$C19*T$3/1000000","v":0.82809999999999995},0.82809999999999995,0.82809999999999995,0.82809999999999995,0.82809999999999995,0.82809999999999995,0.82809999999999995," ",null,{"$f":"SUM(D19:Z19)-sumColor(D19:Z19,$AB$1)","v":0},{"$f":"IF(AC19=0,\"\",SUMPRODUCT((AC$4:AC19<>0)*1))","v":""},"",{"$f":"IF(AD19=\"\",\"\",SUM(AE$4:AE19))","v":""},"",{"$f":"IF(AD19=\"\",\"\",SUM(AE19:AE$20))","v":""},"",null,{"$f":"IF(AD19=\"\",\"\",IF(AG19<=0,\" \",AC19*AG19))","v":""},{"$f":"IF(AD19=\"\",\"\",IF(AI19<=0,\" \",AC19*AI19))","v":""}]
[null,null,{"$f":"図面!B20","v":910},0.82809999999999995,{"$f":"$C20*E$3/1000000","v":0.82809999999999995},0.82809999999999995,0.82809999999999995,0.82809999999999995,0.82809999999999995,0.82809999999999995,0.82809999999999995,0.82809999999999995,0.82809999999999995,0.82809999999999995,0.82809999999999995,0.82809999999999995,0.82809999999999995,0.82809999999999995,0.82809999999999995,0.82809999999999995,0.82809999999999995,0.82809999999999995,0.82809999999999995,0.82809999999999995,0.82809999999999995,0.82809999999999995," ",null,{"$f":"SUM(D20:Z20)-sumColor(D20:Z20,$AB$1)","v":0},{"$f":"IF(AC20=0,\"\",SUMPRODUCT((AC$4:AC20<>0)*1))","v":""},"",{"$f":"IF(AD20=\"\",\"\",SUM(AE$4:AE20))","v":""},"",{"$f":"IF(AD20=\"\",\"\",SUM(AE20:AE$20))","v":""},{"$f":"IF(AH20=\"\",\"\",IF(AH20>$AL$25,($AL$25-#REF!)/AE20,IF(AH20<=$AL$25,1,\" \")))","v":""},null,{"$f":"IF(AD20=\"\",\"\",IF(AG20<=0,\" \",AC20*AG20))","v":""},{"$f":"IF(AD20=\"\",\"\",IF(AI20<=0,\" \",AC20*AI20))","v":""}]
[null,null,null,{"$f":"IF(COUNTIF(D27:D29,1),\"●\",\" \")","v":" "},{"$f":"IF(COUNTIF(E27:E29,1),\"●\",\" \")","v":" "}," "," "," "," "," "," "," "," "," "," "," "," "," "," "," "," "," "," "," "," "," ",null,null,{"$f":"SUMIF(AC4:AC20,\">0\")","v":0},null,null,null,null,null,null,null,{"$f":"SUMIF(AK4:AK20,\">0\")","v":0},{"$f":"SUMIF(AL4:AL20,\">0\")","v":0}]
[]
[null,"縦面積合計",null,{"$f":"SUM(D4:D20)-sumColor(D4:D20,$AA$1)","v":0},{"$f":"SUM(E4:E20)-sumColor(E4:E20,$AA$1)","v":0},{"$f":"SUM(F4:F20)-sumColor(F4:F20,$AA$1)","v":0},{"$f":"SUM(G4:G20)-sumColor(G4:G20,$AA$1)","v":0},{"$f":"SUM(H4:H20)-sumColor(H4:H20,$AA$1)","v":0},{"$f":"SUM(I4:I20)-sumColor(I4:I20,$AA$1)","v":0},{"$f":"SUM(J4:J20)-sumColor(J4:J20,$AA$1)","v":0},{"$f":"SUM(K4:K20)-sumColor(K4:K20,$AA$1)","v":0},{"$f":"SUM(L4:L20)-sumColor(L4:L20,$AA$1)","v":0},{"$f":"SUM(M4:M20)-sumColor(M4:M20,$AA$1)","v":0},{"$f":"SUM(N4:N20)-sumColor(N4:N20,$AA$1)","v":0},{"$f":"SUM(O4:O20)-sumColor(O4:O20,$AA$1)","v":0},{"$f":"SUM(P4:P20)-sumColor(P4:P20,$AA$1)","v":0},{"$f":"SUM(Q4:Q20)-sumColor(Q4:Q20,$AA$1)","v":0},{"$f":"SUM(R4:R20)-sumColor(R4:R20,$AA$1)","v":0},{"$f":"SUM(S4:S20)-sumColor(S4:S20,$AA$1)","v":0},{"$f":"SUM(T4:T20)-sumColor(T4:T20,$AA$1)","v":0},{"$f":"SUM(U4:U20)-sumColor(U4:U20,$AA$1)","v":0},{"$f":"SUM(V4:V20)-sumColor(V4:V20,$AA$1)","v":0},{"$f":"SUM(W4:W20)-sumColor(W4:W20,$AA$1)","v":0},{"$f":"SUM(X4:X20)-sumColor(X4:X20,$AA$1)","v":0},{"$f":"SUM(Y4:Y20)-sumColor(Y4:Y20,$AA$1)","v":0},{"$f":"SUM(Z4:Z20)-sumColor(Z4:Z20,$AA$1)","v":0},{"$f":"SUMIF(D23:Z23,\">0\")","v":0}]
[null,"番号",null,{"$f":"IF(D23=0,\"\",SUMPRODUCT(($D23:D23<>0)*1))","v":""},{"$f":"IF(E23=0,\"\",SUMPRODUCT(($D23:E23<>0)*1))","v":""},{"$f":"IF(F23=0,\"\",SUMPRODUCT(($D23:F23<>0)*1))","v":""},{"$f":"IF(G23=0,\"\",SUMPRODUCT(($D23:G23<>0)*1))","v":""},{"$f":"IF(H23=0,\"\",SUMPRODUCT(($D23:H23<>0)*1))","v":""},{"$f":"IF(I23=0,\"\",SUMPRODUCT(($D23:I23<>0)*1))","v":""},{"$f":"IF(J23=0,\"\",SUMPRODUCT(($D23:J23<>0)*1))","v":""},{"$f":"IF(K23=0,\"\",SUMPRODUCT(($D23:K23<>0)*1))","v":""},{"$f":"IF(L23=0,\"\",SUMPRODUCT(($D23:L23<>0)*1))","v":""},{"$f":"IF(M23=0,\"\",SUMPRODUCT(($D23:M23<>0)*1))","v":""},{"$f":"IF(N23=0,\"\",SUMPRODUCT(($D23:N23<>0)*1))","v":""},{"$f":"IF(O23=0,\"\",SUMPRODUCT(($D23:O23<>0)*1))","v":""},{"$f":"IF(P23=0,\"\",SUMPRODUCT(($D23:P23<>0)*1))","v":""},{"$f":"IF(Q23=0,\"\",SUMPRODUCT(($D23:Q23<>0)*1))","v":""},{"$f":"IF(R23=0,\"\",SUMPRODUCT(($D23:R23<>0)*1))","v":""},{"$f":"IF(S23=0,\"\",SUMPRODUCT(($D23:S23<>0)*1))","v":""},{"$f":"IF(T23=0,\"\",SUMPRODUCT(($D23:T23<>0)*1))","v":""},{"$f":"IF(U23=0,\"\",SUMPRODUCT(($D23:U23<>0)*1))","v":""},{"$f":"IF(V23=0,\"\",SUMPRODUCT(($D23:V23<>0)*1))","v":""},{"$f":"IF(W23=0,\"\",SUMPRODUCT(($D23:W23<>0)*1))","v":""},{"$f":"IF(X23=0,\"\",SUMPRODUCT(($D23:X23<>0)*1))","v":""},{"$f":"IF(Y23=0,\"\",SUMPRODUCT(($D23:Y23<>0)*1))","v":""},{"$f":"IF(Z23=0,\"\",SUMPRODUCT(($D23:Z23<>0)*1))","v":""}]
[null,"セル高さ",null,{"$f":"IF(D24=\"\",\"\",D3)","v":""},"","","","","","","","","","","","","","","","","","","","","","",null,null,null,null,"横方向４分割線位置",{"$f":"SUM(AE4:AE20)","v":0},null,"/",4,"＝",null,{"$f":"AF25/AI25","v":0}]
[null,"左からの累計長さ",null,{"$f":"IF(D24=\"\",\"\",SUM($D25:D25))","v":""},{"$f":"IF(E24=\"\",\"\",SUM($D25:E25))","v":""},{"$f":"IF(F24=\"\",\"\",SUM($D25:F25))","v":""},{"$f":"IF(G24=\"\",\"\",SUM($D25:G25))","v":""},{"$f":"IF(H24=\"\",\"\",SUM($D25:H25))","v":""},{"$f":"IF(I24=\"\",\"\",SUM($D25:I25))","v":""},{"$f":"IF(J24=\"\",\"\",SUM($D25:J25))","v":""},{"$f":"IF(K24=\"\",\"\",SUM($D25:K25))","v":""},{"$f":"IF(L24=\"\",\"\",SUM($D25:L25))","v":""},{"$f":"IF(M24=\"\",\"\",SUM($D25:M25))","v":""},{"$f":"IF(N24=\"\",\"\",SUM($D25:N25))","v":""},{"$f":"IF(O24=\"\",\"\",SUM($D25:O25))","v":""},{"$f":"IF(P24=\"\",\"\",SUM($D25:P25))","v":""},{"$f":"IF(Q24=\"\",\"\",SUM($D25:Q25))","v":""},{"$f":"IF(R24=\"\",\"\",SUM($D25:R25))","v":""},{"$f":"IF(S24=\"\",\"\",SUM($D25:S25))","v":""},{"$f":"IF(T24=\"\",\"\",SUM($D25:T25))","v":""},{"$f":"IF(U24=\"\",\"\",SUM($D25:U25))","v":""},{"$f":"IF(V24=\"\",\"\",SUM($D25:V25))","v":""},{"$f":"IF(W24=\"\",\"\",SUM($D25:W25))","v":""},{"$f":"IF(X24=\"\",\"\",SUM($D25:X25))","v":""},{"$f":"IF(Y24=\"\",\"\",SUM($D25:Y25))","v":""},{"$f":"IF(Z24=\"\",\"\",SUM($D25:Z25))","v":""},null,null,null,null,"縦方向４分割線位置",{"$f":"SUM(D25:Z25)","v":0},null,"/",4,"＝",null,{"$f":"AF26/AI26","v":0}]
[null,"倍率",null,{"$f":"IF(D26=\"\",\"\",IF(D26>$AL$26,($AL$26-C26)/D25,IF(D26<=$AL$26,1,\" \")))","v":""},"","","","","","","","","","","","","","","","","","","","","",""]
[null,"右からの累計長さ",null,{"$f":"IF(D24=\"\",\"\",SUM(D25:$Z25))","v":""},{"$f":"IF(E24=\"\",\"\",SUM(E25:$Z25))","v":""},{"$f":"IF(F24=\"\",\"\",SUM(F25:$Z25))","v":""},{"$f":"IF(G24=\"\",\"\",SUM(G25:$Z25))","v":""},{"$f":"IF(H24=\"\",\"\",SUM(H25:$Z25))","v":""},{"$f":"IF(I24=\"\",\"\",SUM(I25:$Z25))","v":""},{"$f":"IF(J24=\"\",\"\",SUM(J25:$Z25))","v":""},{"$f":"IF(K24=\"\",\"\",SUM(K25:$Z25))","v":""},{"$f":"IF(L24=\"\",\"\",SUM(L25:$Z25))","v":""},{"$f":"IF(M24=\"\",\"\",SUM(M25:$Z25))","v":""},{"$f":"IF(N24=\"\",\"\",SUM(N25:$Z25))","v":""},{"$f":"IF(O24=\"\",\"\",SUM(O25:$Z25))","v":""},{"$f":"IF(P24=\"\",\"\",SUM(P25:$Z25))","v":""},{"$f":"IF(Q24=\"\",\"\",SUM(Q25:$Z25))","v":""},{"$f":"IF(R24=\"\",\"\",SUM(R25:$Z25))","v":""},{"$f":"IF(S24=\"\",\"\",SUM(S25:$Z25))","v":""},{"$f":"IF(T24=\"\",\"\",SUM(T25:$Z25))","v":""},{"$f":"IF(U24=\"\",\"\",SUM(U25:$Z25))","v":""},{"$f":"IF(V24=\"\",\"\",SUM(V25:$Z25))","v":""},{"$f":"IF(W24=\"\",\"\",SUM(W25:$Z25))","v":""},{"$f":"IF(X24=\"\",\"\",SUM(X25:$Z25))","v":""},{"$f":"IF(Y24=\"\",\"\",SUM(Y25:$Z25))","v":""},{"$f":"IF(Z24=\"\",\"\",SUM(Z25:$Z25))","v":""}]
[null,"倍率",null,{"$f":"IF(D28=\"\",\"\",IF(D28>$AL$26,($AL$26-E28)/D25,IF(D28<=$AL$26,1,\" \")))","v":""},"","","","","","","","","","","","","","","","","","","","","",{"$f":"IF(Z28=\"\",\"\",IF(Z28>$AL$26,($AL$26-#REF!)/Z25,IF(Z28<=$AL$26,1,\" \")))","v":""}]
[]
[null,"面積(左)",null,{"$f":"IF(D24=\"\",\"\",IF(D27<=0,\" \",D23*D27))","v":""},{"$f":"IF(E24=\"\",\"\",IF(E27<=0,\" \",E23*E27))","v":""},"","","","",{"$f":"IF(J24=\"\",\"\",IF(J27<=0,\" \",J23*J27))","v":""},"","","","","","","","","","","","","",{"$f":"IF(X24=\"\",\"\",IF(X27<=0,\" \",X23*X27))","v":""},{"$f":"IF(Y24=\"\",\"\",IF(Y27<=0,\" \",Y23*Y27))","v":""},{"$f":"IF(Z24=\"\",\"\",IF(Z27<=0,\" \",Z23*Z27))","v":""},{"$f":"SUMIF(D31:Z31,\">0\")","v":0}]
[null,"面積(右)",null,{"$f":"IF(D24=\"\",\"\",IF(D29<=0,\" \",D23*D29))","v":""},{"$f":"IF(E24=\"\",\"\",IF(E29<=0,\" \",E23*E29))","v":""},"","","","","","","","","","","","","","","","","","",{"$f":"IF(X24=\"\",\"\",IF(X29<=0,\" \",X23*X29))","v":""},{"$f":"IF(Y24=\"\",\"\",IF(Y29<=0,\" \",Y23*Y29))","v":""},{"$f":"IF(Z24=\"\",\"\",IF(Z29<=0,\" \",Z23*Z29))","v":""},{"$f":"SUMIF(D32:Z32,\">0\")","v":0}]

{"sheet":"壁量計算2階","index":9,"n_rows":43,"n_cols":49,"rows_kept":43,"cut":false,"hidden":true,"merged":[]}
[]
[]
[null,null,null,{"$f":"図面!D2","v":910},{"$f":"図面!E2","v":910},{"$f":"図面!F2","v":910},{"$f":"図面!G2","v":910},{"$f":"図面!H2","v":910},{"$f":"図面!I2","v":910},{"$f":"図面!J2","v":910},{"$f":"図面!K2","v":910},{"$f":"図面!L2","v":910},{"$f":"図面!M2","v":910},{"$f":"図面!N2","v":910},{"$f":"図面!O2","v":910},{"$f":"図面!P2","v":910},{"$f":"図面!Q2","v":910},{"$f":"図面!R2","v":910},{"$f":"図面!S2","v":910},{"$f":"図面!T2","v":910},{"$f":"図面!U2","v":910},{"$f":"図面!V2","v":910},{"$f":"図面!W2","v":910},{"$f":"図面!X2","v":910},{"$f":"図面!Y2","v":910},{"$f":"図面!Z2","v":910},null,null,"↑あ","↓あ","↑い","↓い","↑う","↓う","↑え","↓え","↑お","↓お","↑か","↓か","合計",null,null,"上壁量","↓","補正上","下壁量","↑","補正下"]
[null,null,{"$f":"図面!B4","v":910},{"$f":"IF(図面2階!D4=\"\",\"\",図面2階!D4)","v":""},{"$f":"IF(図面2階!E4=\"\",\"\",図面2階!E4)","v":""},{"$f":"IF(図面2階!F4=\"\",\"\",図面2階!F4)","v":""},{"$f":"IF(図面2階!G4=\"\",\"\",図面2階!G4)","v":""},{"$f":"IF(図面2階!H4=\"\",\"\",図面2階!H4)","v":""},{"$f":"IF(図面2階!I4=\"\",\"\",図面2階!I4)","v":""},{"$f":"IF(図面2階!J4=\"\",\"\",図面2階!J4)","v":""},{"$f":"IF(図面2階!K4=\"\",\"\",図面2階!K4)","v":""},{"$f":"IF(図面2階!L4=\"\",\"\",図面2階!L4)","v":""},{"$f":"IF(図面2階!M4=\"\",\"\",図面2階!M4)","v":""},{"$f":"IF(図面2階!N4=\"\",\"\",図面2階!N4)","v":""},{"$f":"IF(図面2階!O4=\"\",\"\",図面2階!O4)","v":""},{"$f":"IF(図面2階!P4=\"\",\"\",図面2階!P4)","v":""},{"$f":"IF(図面2階!Q4=\"\",\"\",図面2階!Q4)","v":""},{"$f":"IF(図面2階!R4=\"\",\"\",図面2階!R4)","v":""},{"$f":"IF(図面2階!S4=\"\",\"\",図面2階!S4)","v":""},{"$f":"IF(図面2階!T4=\"\",\"\",図面2階!T4)","v":""},{"$f":"IF(図面2階!U4=\"\",\"\",図面2階!U4)","v":""},{"$f":"IF(図面2階!V4=\"\",\"\",図面2階!V4)","v":""},{"$f":"IF(図面2階!W4=\"\",\"\",図面2階!W4)","v":""},{"$f":"IF(図面2階!X4=\"\",\"\",図面2階!X4)","v":""},{"$f":"IF(図面2階!Y4=\"\",\"\",図面2階!Y4)","v":""},{"$f":"IF(図面2階!Z4=\"\",\"\",図面2階!Z4)","v":""},{"$f":"IF(COUNTIF(面積計算2階!AG4:AI4,1),\"●\",\" \")","v":" "},null,{"$f":"SUMIF($D4:$Z4,\"*↑あ*\",$D$3:$Z$3)/1000*図面!$AK$19","v":0},{"$f":"SUMIF($D4:$Z4,\"*↓あ*\",$D$3:$Z$3)/1000*図面!$AK$19","v":0},{"$f":"SUMIF($D4:$Z4,\"*↑い*\",$D$3:$Z$3)/1000*図面!$AK$20","v":0},{"$f":"SUMIF($D4:$Z4,\"*↓い*\",$D$3:$Z$3)/1000*図面!$AK$20","v":0},{"$f":"SUMIF($D4:$Z4,\"*↑う*\",$D$3:$Z$3)/1000*図面!$AK$21","v":0},{"$f":"SUMIF($D4:$Z4,\"*↓う*\",$D$3:$Z$3)/1000*図面!$AK$21","v":0},{"$f":"SUMIF($D4:$Z4,\"*↑え*\",$D$3:$Z$3)/1000*図面!$AK$22","v":0},{"$f":"SUMIF($D4:$Z4,\"*↓え*\",$D$3:$Z$3)/1000*図面!$AK$22","v":0},{"$f":"SUMIF($D4:$Z4,\"*↑お*\",$D$3:$Z$3)/1000*図面!$AK$23","v":0},{"$f":"SUMIF($D4:$Z4,\"*↓お*\",$D$3:$Z$3)/1000*図面!AK$23","v":0},{"$f":"SUMIF($D4:$Z4,\"*↑か*\",$D$3:$Z$3)/1000*図面!$AK$24","v":0},{"$f":"SUMIF($D4:$Z4,\"*↓か*\",$D$3:$Z$3)/1000*図面!$AK$24","v":0},{"$f":"SUM(AC4:AN4)","v":0},{"$f":"IF(COUNTIF(面積計算2階!AG4,1),\"上\",\" \")","v":" "},{"$f":"IF(COUNTIF(面積計算2階!AI4,1),\"下\",\" \")","v":" "},{"$f":"IF(COUNTIF(AP3:AP5,\"上\"),AO4,0)","v":0},{"$f":"AD4+AF4+AH4+AJ4+AL4+AN4","v":0},{"$f":"IF(AND(AP4=\" \",AP3=\"上\"),AR4-AS4,AR4)","v":0},{"$f":"IF(COUNTIF(AQ3:AQ5,\"下\"),AO4,0)","v":0},{"$f":"AC4+AE4+AG4+AI4+AK4+AM4","v":0},{"$f":"IF(AND(AQ4=\" \",AQ5=\"下\"),AU4-AV4,AU4)","v":0}]
[null,null,{"$f":"図面!B5","v":910},{"$f":"IF(図面2階!D5=\"\",\"\",図面2階!D5)","v":""},{"$f":"IF(図面2階!E5=\"\",\"\",図面2階!E5)","v":""},{"$f":"IF(図面2階!F5=\"\",\"\",図面2階!F5)","v":""},{"$f":"IF(図面2階!G5=\"\",\"\",図面2階!G5)","v":""},{"$f":"IF(図面2階!H5=\"\",\"\",図面2階!H5)","v":""},{"$f":"IF(図面2階!I5=\"\",\"\",図面2階!I5)","v":""},{"$f":"IF(図面2階!J5=\"\",\"\",図面2階!J5)","v":""},{"$f":"IF(図面2階!K5=\"\",\"\",図面2階!K5)","v":""},{"$f":"IF(図面2階!L5=\"\",\"\",図面2階!L5)","v":""},{"$f":"IF(図面2階!M5=\"\",\"\",図面2階!M5)","v":""},{"$f":"IF(図面2階!N5=\"\",\"\",図面2階!N5)","v":""},{"$f":"IF(図面2階!O5=\"\",\"\",図面2階!O5)","v":""},{"$f":"IF(図面2階!P5=\"\",\"\",図面2階!P5)","v":""},{"$f":"IF(図面2階!Q5=\"\",\"\",図面2階!Q5)","v":""},{"$f":"IF(図面2階!R5=\"\",\"\",図面2階!R5)","v":""},{"$f":"IF(図面2階!S5=\"\",\"\",図面2階!S5)","v":""},{"$f":"IF(図面2階!T5=\"\",\"\",図面2階!T5)","v":""},{"$f":"IF(図面2階!U5=\"\",\"\",図面2階!U5)","v":""},{"$f":"IF(図面2階!V5=\"\",\"\",図面2階!V5)","v":""},{"$f":"IF(図面2階!W5=\"\",\"\",図面2階!W5)","v":""},{"$f":"IF(図面2階!X5=\"\",\"\",図面2階!X5)","v":""},{"$f":"IF(図面2階!Y5=\"\",\"\",図面2階!Y5)","v":""},{"$f":"IF(図面2階!Z5=\"\",\"\",図面2階!Z5)","v":""},{"$f":"IF(COUNTIF(面積計算2階!AG5:AI5,1),\"●\",\" \")","v":" "},null,{"$f":"SUMIF($D5:$Z5,\"*↑あ*\",$D$3:$Z$3)/1000*図面!$AK$19","v":0},{"$f":"SUMIF($D5:$Z5,\"*↓あ*\",$D$3:$Z$3)/1000*図面!$AK$19","v":0},{"$f":"SUMIF($D5:$Z5,\"*↑い*\",$D$3:$Z$3)/1000*図面!$AK$20","v":0},{"$f":"SUMIF($D5:$Z5,\"*↓い*\",$D$3:$Z$3)/1000*図面!$AK$20","v":0},{"$f":"SUMIF($D5:$Z5,\"*↑う*\",$D$3:$Z$3)/1000*図面!$AK$21","v":0},{"$f":"SUMIF($D5:$Z5,\"*↓う*\",$D$3:$Z$3)/1000*図面!$AK$21","v":0},{"$f":"SUMIF($D5:$Z5,\"*↑え*\",$D$3:$Z$3)/1000*図面!$AK$22","v":0},{"$f":"SUMIF($D5:$Z5,\"*↓え*\",$D$3:$Z$3)/1000*図面!$AK$22","v":0},{"$f":"SUMIF($D5:$Z5,\"*↑お*\",$D$3:$Z$3)/1000*図面!$AK$23","v":0},{"$f":"SUMIF($D5:$Z5,\"*↓お*\",$D$3:$Z$3)/1000*図面!AK$23","v":0},{"$f":"SUMIF($D5:$Z5,\"*↑か*\",$D$3:$Z$3)/1000*図面!$AK$24","v":0},{"$f":"SUMIF($D5:$Z5,\"*↓か*\",$D$3:$Z$3)/1000*図面!$AK$24","v":0},{"$f":"SUM(AC5:AN5)","v":0},{"$f":"IF(COUNTIF(面積計算2階!AG5,1),\"上\",\" \")","v":" "},{"$f":"IF(COUNTIF(面積計算2階!AI5,1),\"下\",\" \")","v":" "},{"$f":"IF(COUNTIF(AP4:AP6,\"上\"),AO5,0)","v":0},{"$f":"AD5+AF5+AH5+AJ5+AL5+AN5","v":0},{"$f":"IF(AND(AP5=\" \",AP4=\"上\"),AR5-AS5,AR5)","v":0},0,{"$f":"AC5+AE5+AG5+AI5+AK5+AM5","v":0},0]
[null,null,{"$f":"図面!B6","v":910},{"$f":"IF(図面2階!D6=\"\",\"\",図面2階!D6)","v":""},{"$f":"IF(図面2階!E6=\"\",\"\",図面2階!E6)","v":""},{"$f":"IF(図面2階!F6=\"\",\"\",図面2階!F6)","v":""},{"$f":"IF(図面2階!G6=\"\",\"\",図面2階!G6)","v":""},{"$f":"IF(図面2階!H6=\"\",\"\",図面2階!H6)","v":""},{"$f":"IF(図面2階!I6=\"\",\"\",図面2階!I6)","v":""},{"$f":"IF(図面2階!J6=\"\",\"\",図面2階!J6)","v":""},{"$f":"IF(図面2階!K6=\"\",\"\",図面2階!K6)","v":""},{"$f":"IF(図面2階!L6=\"\",\"\",図面2階!L6)","v":""},{"$f":"IF(図面2階!M6=\"\",\"\",図面2階!M6)","v":""},{"$f":"IF(図面2階!N6=\"\",\"\",図面2階!N6)","v":""},{"$f":"IF(図面2階!O6=\"\",\"\",図面2階!O6)","v":""},{"$f":"IF(図面2階!P6=\"\",\"\",図面2階!P6)","v":""},{"$f":"IF(図面2階!Q6=\"\",\"\",図面2階!Q6)","v":""},{"$f":"IF(図面2階!R6=\"\",\"\",図面2階!R6)","v":""},{"$f":"IF(図面2階!S6=\"\",\"\",図面2階!S6)","v":""},{"$f":"IF(図面2階!T6=\"\",\"\",図面2階!T6)","v":""},{"$f":"IF(図面2階!U6=\"\",\"\",図面2階!U6)","v":""},{"$f":"IF(図面2階!V6=\"\",\"\",図面2階!V6)","v":""},{"$f":"IF(図面2階!W6=\"\",\"\",図面2階!W6)","v":""},{"$f":"IF(図面2階!X6=\"\",\"\",図面2階!X6)","v":""},{"$f":"IF(図面2階!Y6=\"\",\"\",図面2階!Y6)","v":""},{"$f":"IF(図面2階!Z6=\"\",\"\",図面2階!Z6)","v":""},{"$f":"IF(COUNTIF(面積計算2階!AG6:AI6,1),\"●\",\" \")","v":" "},null,{"$f":"SUMIF($D6:$Z6,\"*↑あ*\",$D$3:$Z$3)/1000*図面!$AK$19","v":0},{"$f":"SUMIF($D6:$Z6,\"*↓あ*\",$D$3:$Z$3)/1000*図面!$AK$19","v":0},{"$f":"SUMIF($D6:$Z6,\"*↑い*\",$D$3:$Z$3)/1000*図面!$AK$20","v":0},{"$f":"SUMIF($D6:$Z6,\"*↓い*\",$D$3:$Z$3)/1000*図面!$AK$20","v":0},{"$f":"SUMIF($D6:$Z6,\"*↑う*\",$D$3:$Z$3)/1000*図面!$AK$21","v":0},{"$f":"SUMIF($D6:$Z6,\"*↓う*\",$D$3:$Z$3)/1000*図面!$AK$21","v":0},{"$f":"SUMIF($D6:$Z6,\"*↑え*\",$D$3:$Z$3)/1000*図面!$AK$22","v":0},{"$f":"SUMIF($D6:$Z6,\"*↓え*\",$D$3:$Z$3)/1000*図面!$AK$22","v":0},{"$f":"SUMIF($D6:$Z6,\"*↑お*\",$D$3:$Z$3)/1000*図面!$AK$23","v":0},{"$f":"SUMIF($D6:$Z6,\"*↓お*\",$D$3:$Z$3)/1000*図面!AK$23","v":0},{"$f":"SUMIF($D6:$Z6,\"*↑か*\",$D$3:$Z$3)/1000*図面!$AK$24","v":0},{"$f":"SUMIF($D6:$Z6,\"*↓か*\",$D$3:$Z$3)/1000*図面!$AK$24","v":0},0,{"$f":"IF(COUNTIF(面積計算2階!AG6,1),\"上\",\" \")","v":" "},{"$f":"IF(COUNTIF(面積計算2階!AI6,1),\"下\",\" \")","v":" "},{"$f":"IF(COUNTIF(AP5:AP7,\"上\"),AO6,0)","v":0},0,{"$f":"IF(AND(AP6=\" \",AP5=\"上\"),AR6-AS6,AR6)","v":0},0,0,0]
[null,null,{"$f":"図面!B7","v":910},{"$f":"IF(図面2階!D7=\"\",\"\",図面2階!D7)","v":""},{"$f":"IF(図面2階!E7=\"\",\"\",図面2階!E7)","v":""},{"$f":"IF(図面2階!F7=\"\",\"\",図面2階!F7)","v":""},{"$f":"IF(図面2階!G7=\"\",\"\",図面2階!G7)","v":""},{"$f":"IF(図面2階!H7=\"\",\"\",図面2階!H7)","v":""},{"$f":"IF(図面2階!I7=\"\",\"\",図面2階!I7)","v":""},{"$f":"IF(図面2階!J7=\"\",\"\",図面2階!J7)","v":""},{"$f":"IF(図面2階!K7=\"\",\"\",図面2階!K7)","v":""},{"$f":"IF(図面2階!L7=\"\",\"\",図面2階!L7)","v":""},{"$f":"IF(図面2階!M7=\"\",\"\",図面2階!M7)","v":""},{"$f":"IF(図面2階!N7=\"\",\"\",図面2階!N7)","v":""},{"$f":"IF(図面2階!O7=\"\",\"\",図面2階!O7)","v":""},{"$f":"IF(図面2階!P7=\"\",\"\",図面2階!P7)","v":""},{"$f":"IF(図面2階!Q7=\"\",\"\",図面2階!Q7)","v":""},{"$f":"IF(図面2階!R7=\"\",\"\",図面2階!R7)","v":""},{"$f":"IF(図面2階!S7=\"\",\"\",図面2階!S7)","v":""},{"$f":"IF(図面2階!T7=\"\",\"\",図面2階!T7)","v":""},{"$f":"IF(図面2階!U7=\"\",\"\",図面2階!U7)","v":""},{"$f":"IF(図面2階!V7=\"\",\"\",図面2階!V7)","v":""},{"$f":"IF(図面2階!W7=\"\",\"\",図面2階!W7)","v":""},{"$f":"IF(図面2階!X7=\"\",\"\",図面2階!X7)","v":""},{"$f":"IF(図面2階!Y7=\"\",\"\",図面2階!Y7)","v":""},{"$f":"IF(図面2階!Z7=\"\",\"\",図面2階!Z7)","v":""},{"$f":"IF(COUNTIF(面積計算2階!AG7:AI7,1),\"●\",\" \")","v":" "},null,{"$f":"SUMIF($D7:$Z7,\"*↑あ*\",$D$3:$Z$3)/1000*図面!$AK$19","v":0},{"$f":"SUMIF($D7:$Z7,\"*↓あ*\",$D$3:$Z$3)/1000*図面!$AK$19","v":0},{"$f":"SUMIF($D7:$Z7,\"*↑い*\",$D$3:$Z$3)/1000*図面!$AK$20","v":0},{"$f":"SUMIF($D7:$Z7,\"*↓い*\",$D$3:$Z$3)/1000*図面!$AK$20","v":0},{"$f":"SUMIF($D7:$Z7,\"*↑う*\",$D$3:$Z$3)/1000*図面!$AK$21","v":0},{"$f":"SUMIF($D7:$Z7,\"*↓う*\",$D$3:$Z$3)/1000*図面!$AK$21","v":0},{"$f":"SUMIF($D7:$Z7,\"*↑え*\",$D$3:$Z$3)/1000*図面!$AK$22","v":0},{"$f":"SUMIF($D7:$Z7,\"*↓え*\",$D$3:$Z$3)/1000*図面!$AK$22","v":0},{"$f":"SUMIF($D7:$Z7,\"*↑お*\",$D$3:$Z$3)/1000*図面!$AK$23","v":0},{"$f":"SUMIF($D7:$Z7,\"*↓お*\",$D$3:$Z$3)/1000*図面!AK$23","v":0},{"$f":"SUMIF($D7:$Z7,\"*↑か*\",$D$3:$Z$3)/1000*図面!$AK$24","v":0},{"$f":"SUMIF($D7:$Z7,\"*↓か*\",$D$3:$Z$3)/1000*図面!$AK$24","v":0},0,{"$f":"IF(COUNTIF(面積計算2階!AG7,1),\"上\",\" \")","v":" "},{"$f":"IF(COUNTIF(面積計算2階!AI7,1),\"下\",\" \")","v":" "},{"$f":"IF(COUNTIF(AP6:AP8,\"上\"),AO7,0)","v":0},{"$f":"AD7+AF7+AH7+AJ7+AL7+AN7","v":0},{"$f":"IF(AND(AP7=\" \",AP6=\"上\"),AR7-AS7,AR7)","v":0},0,0,{"$f":"IF(AND(AQ7=\" \",AQ8=\"下\"),AU7-AV7,AU7)","v":0}]
[null,null,{"$f":"図面!B8","v":910},{"$f":"IF(図面2階!D8=\"\",\"\",図面2階!D8)","v":""},{"$f":"IF(図面2階!E8=\"\",\"\",図面2階!E8)","v":""},{"$f":"IF(図面2階!F8=\"\",\"\",図面2階!F8)","v":""},{"$f":"IF(図面2階!G8=\"\",\"\",図面2階!G8)","v":""},{"$f":"IF(図面2階!H8=\"\",\"\",図面2階!H8)","v":""},{"$f":"IF(図面2階!I8=\"\",\"\",図面2階!I8)","v":""},{"$f":"IF(図面2階!J8=\"\",\"\",図面2階!J8)","v":""},{"$f":"IF(図面2階!K8=\"\",\"\",図面2階!K8)","v":""},{"$f":"IF(図面2階!L8=\"\",\"\",図面2階!L8)","v":""},{"$f":"IF(図面2階!M8=\"\",\"\",図面2階!M8)","v":""},{"$f":"IF(図面2階!N8=\"\",\"\",図面2階!N8)","v":""},{"$f":"IF(図面2階!O8=\"\",\"\",図面2階!O8)","v":""},{"$f":"IF(図面2階!P8=\"\",\"\",図面2階!P8)","v":""},{"$f":"IF(図面2階!Q8=\"\",\"\",図面2階!Q8)","v":""},{"$f":"IF(図面2階!R8=\"\",\"\",図面2階!R8)","v":""},{"$f":"IF(図面2階!S8=\"\",\"\",図面2階!S8)","v":""},{"$f":"IF(図面2階!T8=\"\",\"\",図面2階!T8)","v":""},{"$f":"IF(図面2階!U8=\"\",\"\",図面2階!U8)","v":""},{"$f":"IF(図面2階!V8=\"\",\"\",図面2階!V8)","v":""},{"$f":"IF(図面2階!W8=\"\",\"\",図面2階!W8)","v":""},{"$f":"IF(図面2階!X8=\"\",\"\",図面2階!X8)","v":""},{"$f":"IF(図面2階!Y8=\"\",\"\",図面2階!Y8)","v":""},{"$f":"IF(図面2階!Z8=\"\",\"\",図面2階!Z8)","v":""},{"$f":"IF(COUNTIF(面積計算2階!AG8:AI8,1),\"●\",\" \")","v":" "},null,{"$f":"SUMIF($D8:$Z8,\"*↑あ*\",$D$3:$Z$3)/1000*図面!$AK$19","v":0},{"$f":"SUMIF($D8:$Z8,\"*↓あ*\",$D$3:$Z$3)/1000*図面!$AK$19","v":0},{"$f":"SUMIF($D8:$Z8,\"*↑い*\",$D$3:$Z$3)/1000*図面!$AK$20","v":0},{"$f":"SUMIF($D8:$Z8,\"*↓い*\",$D$3:$Z$3)/1000*図面!$AK$20","v":0},{"$f":"SUMIF($D8:$Z8,\"*↑う*\",$D$3:$Z$3)/1000*図面!$AK$21","v":0},{"$f":"SUMIF($D8:$Z8,\"*↓う*\",$D$3:$Z$3)/1000*図面!$AK$21","v":0},{"$f":"SUMIF($D8:$Z8,\"*↑え*\",$D$3:$Z$3)/1000*図面!$AK$22","v":0},{"$f":"SUMIF($D8:$Z8,\"*↓え*\",$D$3:$Z$3)/1000*図面!$AK$22","v":0},{"$f":"SUMIF($D8:$Z8,\"*↑お*\",$D$3:$Z$3)/1000*図面!$AK$23","v":0},{"$f":"SUMIF($D8:$Z8,\"*↓お*\",$D$3:$Z$3)/1000*図面!AK$23","v":0},{"$f":"SUMIF($D8:$Z8,\"*↑か*\",$D$3:$Z$3)/1000*図面!$AK$24","v":0},{"$f":"SUMIF($D8:$Z8,\"*↓か*\",$D$3:$Z$3)/1000*図面!$AK$24","v":0},0,{"$f":"IF(COUNTIF(面積計算2階!AG8,1),\"上\",\" \")","v":" "},{"$f":"IF(COUNTIF(面積計算2階!AI8,1),\"下\",\" \")","v":" "},{"$f":"IF(COUNTIF(AP7:AP9,\"上\"),AO8,0)","v":0},0,{"$f":"IF(AND(AP8=\" \",AP7=\"上\"),AR8-AS8,AR8)","v":0},0,0,0]
[null,null,{"$f":"図面!B9","v":910},{"$f":"IF(図面2階!D9=\"\",\"\",図面2階!D9)","v":""},{"$f":"IF(図面2階!E9=\"\",\"\",図面2階!E9)","v":""},{"$f":"IF(図面2階!F9=\"\",\"\",図面2階!F9)","v":""},{"$f":"IF(図面2階!G9=\"\",\"\",図面2階!G9)","v":""},{"$f":"IF(図面2階!H9=\"\",\"\",図面2階!H9)","v":""},{"$f":"IF(図面2階!I9=\"\",\"\",図面2階!I9)","v":""},{"$f":"IF(図面2階!J9=\"\",\"\",図面2階!J9)","v":""},{"$f":"IF(図面2階!K9=\"\",\"\",図面2階!K9)","v":""},{"$f":"IF(図面2階!L9=\"\",\"\",図面2階!L9)","v":""},{"$f":"IF(図面2階!M9=\"\",\"\",図面2階!M9)","v":""},{"$f":"IF(図面2階!N9=\"\",\"\",図面2階!N9)","v":""},{"$f":"IF(図面2階!O9=\"\",\"\",図面2階!O9)","v":""},{"$f":"IF(図面2階!P9=\"\",\"\",図面2階!P9)","v":""},{"$f":"IF(図面2階!Q9=\"\",\"\",図面2階!Q9)","v":""},{"$f":"IF(図面2階!R9=\"\",\"\",図面2階!R9)","v":""},{"$f":"IF(図面2階!S9=\"\",\"\",図面2階!S9)","v":""},{"$f":"IF(図面2階!T9=\"\",\"\",図面2階!T9)","v":""},{"$f":"IF(図面2階!U9=\"\",\"\",図面2階!U9)","v":""},{"$f":"IF(図面2階!V9=\"\",\"\",図面2階!V9)","v":""},{"$f":"IF(図面2階!W9=\"\",\"\",図面2階!W9)","v":""},{"$f":"IF(図面2階!X9=\"\",\"\",図面2階!X9)","v":""},{"$f":"IF(図面2階!Y9=\"\",\"\",図面2階!Y9)","v":""},{"$f":"IF(図面2階!Z9=\"\",\"\",図面2階!Z9)","v":""},{"$f":"IF(COUNTIF(面積計算2階!AG9:AI9,1),\"●\",\" \")","v":" "},null,{"$f":"SUMIF($D9:$Z9,\"*↑あ*\",$D$3:$Z$3)/1000*図面!$AK$19","v":0},{"$f":"SUMIF($D9:$Z9,\"*↓あ*\",$D$3:$Z$3)/1000*図面!$AK$19","v":0},{"$f":"SUMIF($D9:$Z9,\"*↑い*\",$D$3:$Z$3)/1000*図面!$AK$20","v":0},{"$f":"SUMIF($D9:$Z9,\"*↓い*\",$D$3:$Z$3)/1000*図面!$AK$20","v":0},{"$f":"SUMIF($D9:$Z9,\"*↑う*\",$D$3:$Z$3)/1000*図面!$AK$21","v":0},{"$f":"SUMIF($D9:$Z9,\"*↓う*\",$D$3:$Z$3)/1000*図面!$AK$21","v":0},{"$f":"SUMIF($D9:$Z9,\"*↑え*\",$D$3:$Z$3)/1000*図面!$AK$22","v":0},{"$f":"SUMIF($D9:$Z9,\"*↓え*\",$D$3:$Z$3)/1000*図面!$AK$22","v":0},{"$f":"SUMIF($D9:$Z9,\"*↑お*\",$D$3:$Z$3)/1000*図面!$AK$23","v":0},{"$f":"SUMIF($D9:$Z9,\"*↓お*\",$D$3:$Z$3)/1000*図面!AK$23","v":0},{"$f":"SUMIF($D9:$Z9,\"*↑か*\",$D$3:$Z$3)/1000*図面!$AK$24","v":0},{"$f":"SUMIF($D9:$Z9,\"*↓か*\",$D$3:$Z$3)/1000*図面!$AK$24","v":0},0,{"$f":"IF(COUNTIF(面積計算2階!AG9,1),\"上\",\" \")","v":" "},{"$f":"IF(COUNTIF(面積計算2階!AI9,1),\"下\",\" \")","v":" "},{"$f":"IF(COUNTIF(AP8:AP10,\"上\"),AO9,0)","v":0},0,{"$f":"IF(AND(AP9=\" \",AP8=\"上\"),AR9-AS9,AR9)","v":0},0,0,0]
[null,null,{"$f":"図面!B10","v":910},{"$f":"IF(図面2階!D10=\"\",\"\",図面2階!D10)","v":""},{"$f":"IF(図面2階!E10=\"\",\"\",図面2階!E10)","v":""},{"$f":"IF(図面2階!F10=\"\",\"\",図面2階!F10)","v":""},{"$f":"IF(図面2階!G10=\"\",\"\",図面2階!G10)","v":""},{"$f":"IF(図面2階!H10=\"\",\"\",図面2階!H10)","v":""},{"$f":"IF(図面2階!I10=\"\",\"\",図面2階!I10)","v":""},{"$f":"IF(図面2階!J10=\"\",\"\",図面2階!J10)","v":""},{"$f":"IF(図面2階!K10=\"\",\"\",図面2階!K10)","v":""},{"$f":"IF(図面2階!L10=\"\",\"\",図面2階!L10)","v":""},{"$f":"IF(図面2階!M10=\"\",\"\",図面2階!M10)","v":""},{"$f":"IF(図面2階!N10=\"\",\"\",図面2階!N10)","v":""},{"$f":"IF(図面2階!O10=\"\",\"\",図面2階!O10)","v":""},{"$f":"IF(図面2階!P10=\"\",\"\",図面2階!P10)","v":""},{"$f":"IF(図面2階!Q10=\"\",\"\",図面2階!Q10)","v":""},{"$f":"IF(図面2階!R10=\"\",\"\",図面2階!R10)","v":""},{"$f":"IF(図面2階!S10=\"\",\"\",図面2階!S10)","v":""},{"$f":"IF(図面2階!T10=\"\",\"\",図面2階!T10)","v":""},{"$f":"IF(図面2階!U10=\"\",\"\",図面2階!U10)","v":""},{"$f":"IF(図面2階!V10=\"\",\"\",図面2階!V10)","v":""},{"$f":"IF(図面2階!W10=\"\",\"\",図面2階!W10)","v":""},{"$f":"IF(図面2階!X10=\"\",\"\",図面2階!X10)","v":""},{"$f":"IF(図面2階!Y10=\"\",\"\",図面2階!Y10)","v":""},{"$f":"IF(図面2階!Z10=\"\",\"\",図面2階!Z10)","v":""},{"$f":"IF(COUNTIF(面積計算2階!AG10:AI10,1),\"●\",\" \")","v":" "},null,{"$f":"SUMIF($D10:$Z10,\"*↑あ*\",$D$3:$Z$3)/1000*図面!$AK$19","v":0},{"$f":"SUMIF($D10:$Z10,\"*↓あ*\",$D$3:$Z$3)/1000*図面!$AK$19","v":0},{"$f":"SUMIF($D10:$Z10,\"*↑い*\",$D$3:$Z$3)/1000*図面!$AK$20","v":0},{"$f":"SUMIF($D10:$Z10,\"*↓い*\",$D$3:$Z$3)/1000*図面!$AK$20","v":0},{"$f":"SUMIF($D10:$Z10,\"*↑う*\",$D$3:$Z$3)/1000*図面!$AK$21","v":0},{"$f":"SUMIF($D10:$Z10,\"*↓う*\",$D$3:$Z$3)/1000*図面!$AK$21","v":0},{"$f":"SUMIF($D10:$Z10,\"*↑え*\",$D$3:$Z$3)/1000*図面!$AK$22","v":0},{"$f":"SUMIF($D10:$Z10,\"*↓え*\",$D$3:$Z$3)/1000*図面!$AK$22","v":0},{"$f":"SUMIF($D10:$Z10,\"*↑お*\",$D$3:$Z$3)/1000*図面!$AK$23","v":0},{"$f":"SUMIF($D10:$Z10,\"*↓お*\",$D$3:$Z$3)/1000*図面!AK$23","v":0},{"$f":"SUMIF($D10:$Z10,\"*↑か*\",$D$3:$Z$3)/1000*図面!$AK$24","v":0},{"$f":"SUMIF($D10:$Z10,\"*↓か*\",$D$3:$Z$3)/1000*図面!$AK$24","v":0},0,{"$f":"IF(COUNTIF(面積計算2階!AG10,1),\"上\",\" \")","v":" "},{"$f":"IF(COUNTIF(面積計算2階!AI10,1),\"下\",\" \")","v":" "},0,0,0,0,0,0]
[null,null,{"$f":"図面!B11","v":910},{"$f":"IF(図面2階!D11=\"\",\"\",図面2階!D11)","v":""},{"$f":"IF(図面2階!E11=\"\",\"\",図面2階!E11)","v":""},{"$f":"IF(図面2階!F11=\"\",\"\",図面2階!F11)","v":""},{"$f":"IF(図面2階!G11=\"\",\"\",図面2階!G11)","v":""},{"$f":"IF(図面2階!H11=\"\",\"\",図面2階!H11)","v":""},{"$f":"IF(図面2階!I11=\"\",\"\",図面2階!I11)","v":""},{"$f":"IF(図面2階!J11=\"\",\"\",図面2階!J11)","v":""},{"$f":"IF(図面2階!K11=\"\",\"\",図面2階!K11)","v":""},{"$f":"IF(図面2階!L11=\"\",\"\",図面2階!L11)","v":""},{"$f":"IF(図面2階!M11=\"\",\"\",図面2階!M11)","v":""},{"$f":"IF(図面2階!N11=\"\",\"\",図面2階!N11)","v":""},{"$f":"IF(図面2階!O11=\"\",\"\",図面2階!O11)","v":""},{"$f":"IF(図面2階!P11=\"\",\"\",図面2階!P11)","v":""},{"$f":"IF(図面2階!Q11=\"\",\"\",図面2階!Q11)","v":""},{"$f":"IF(図面2階!R11=\"\",\"\",図面2階!R11)","v":""},{"$f":"IF(図面2階!S11=\"\",\"\",図面2階!S11)","v":""},{"$f":"IF(図面2階!T11=\"\",\"\",図面2階!T11)","v":""},{"$f":"IF(図面2階!U11=\"\",\"\",図面2階!U11)","v":""},{"$f":"IF(図面2階!V11=\"\",\"\",図面2階!V11)","v":""},{"$f":"IF(図面2階!W11=\"\",\"\",図面2階!W11)","v":""},{"$f":"IF(図面2階!X11=\"\",\"\",図面2階!X11)","v":""},{"$f":"IF(図面2階!Y11=\"\",\"\",図面2階!Y11)","v":""},{"$f":"IF(図面2階!Z11=\"\",\"\",図面2階!Z11)","v":""},{"$f":"IF(COUNTIF(面積計算2階!AG11:AI11,1),\"●\",\" \")","v":" "},null,{"$f":"SUMIF($D11:$Z11,\"*↑あ*\",$D$3:$Z$3)/1000*図面!$AK$19","v":0},{"$f":"SUMIF($D11:$Z11,\"*↓あ*\",$D$3:$Z$3)/1000*図面!$AK$19","v":0},{"$f":"SUMIF($D11:$Z11,\"*↑い*\",$D$3:$Z$3)/1000*図面!$AK$20","v":0},{"$f":"SUMIF($D11:$Z11,\"*↓い*\",$D$3:$Z$3)/1000*図面!$AK$20","v":0},{"$f":"SUMIF($D11:$Z11,\"*↑う*\",$D$3:$Z$3)/1000*図面!$AK$21","v":0},{"$f":"SUMIF($D11:$Z11,\"*↓う*\",$D$3:$Z$3)/1000*図面!$AK$21","v":0},{"$f":"SUMIF($D11:$Z11,\"*↑え*\",$D$3:$Z$3)/1000*図面!$AK$22","v":0},{"$f":"SUMIF($D11:$Z11,\"*↓え*\",$D$3:$Z$3)/1000*図面!$AK$22","v":0},{"$f":"SUMIF($D11:$Z11,\"*↑お*\",$D$3:$Z$3)/1000*図面!$AK$23","v":0},{"$f":"SUMIF($D11:$Z11,\"*↓お*\",$D$3:$Z$3)/1000*図面!AK$23","v":0},{"$f":"SUMIF($D11:$Z11,\"*↑か*\",$D$3:$Z$3)/1000*図面!$AK$24","v":0},{"$f":"SUMIF($D11:$Z11,\"*↓か*\",$D$3:$Z$3)/1000*図面!$AK$24","v":0},0,{"$f":"IF(COUNTIF(面積計算2階!AG11,1),\"上\",\" \")","v":" "},{"$f":"IF(COUNTIF(面積計算2階!AI11,1),\"下\",\" \")","v":" "},0,0,0,0,0,0]
[null,null,{"$f":"図面!B12","v":910},{"$f":"IF(図面2階!D12=\"\",\"\",図面2階!D12)","v":""},{"$f":"IF(図面2階!E12=\"\",\"\",図面2階!E12)","v":""},{"$f":"IF(図面2階!F12=\"\",\"\",図面2階!F12)","v":""},{"$f":"IF(図面2階!G12=\"\",\"\",図面2階!G12)","v":""},{"$f":"IF(図面2階!H12=\"\",\"\",図面2階!H12)","v":""},{"$f":"IF(図面2階!I12=\"\",\"\",図面2階!I12)","v":""},{"$f":"IF(図面2階!J12=\"\",\"\",図面2階!J12)","v":""},{"$f":"IF(図面2階!K12=\"\",\"\",図面2階!K12)","v":""},{"$f":"IF(図面2階!L12=\"\",\"\",図面2階!L12)","v":""},{"$f":"IF(図面2階!M12=\"\",\"\",図面2階!M12)","v":""},{"$f":"IF(図面2階!N12=\"\",\"\",図面2階!N12)","v":""},{"$f":"IF(図面2階!O12=\"\",\"\",図面2階!O12)","v":""},{"$f":"IF(図面2階!P12=\"\",\"\",図面2階!P12)","v":""},{"$f":"IF(図面2階!Q12=\"\",\"\",図面2階!Q12)","v":""},{"$f":"IF(図面2階!R12=\"\",\"\",図面2階!R12)","v":""},{"$f":"IF(図面2階!S12=\"\",\"\",図面2階!S12)","v":""},{"$f":"IF(図面2階!T12=\"\",\"\",図面2階!T12)","v":""},{"$f":"IF(図面2階!U12=\"\",\"\",図面2階!U12)","v":""},{"$f":"IF(図面2階!V12=\"\",\"\",図面2階!V12)","v":""},{"$f":"IF(図面2階!W12=\"\",\"\",図面2階!W12)","v":""},{"$f":"IF(図面2階!X12=\"\",\"\",図面2階!X12)","v":""},{"$f":"IF(図面2階!Y12=\"\",\"\",図面2階!Y12)","v":""},{"$f":"IF(図面2階!Z12=\"\",\"\",図面2階!Z12)","v":""},{"$f":"IF(COUNTIF(面積計算2階!AG12:AI12,1),\"●\",\" \")","v":" "},null,{"$f":"SUMIF($D12:$Z12,\"*↑あ*\",$D$3:$Z$3)/1000*図面!$AK$19","v":0},{"$f":"SUMIF($D12:$Z12,\"*↓あ*\",$D$3:$Z$3)/1000*図面!$AK$19","v":0},{"$f":"SUMIF($D12:$Z12,\"*↑い*\",$D$3:$Z$3)/1000*図面!$AK$20","v":0},{"$f":"SUMIF($D12:$Z12,\"*↓い*\",$D$3:$Z$3)/1000*図面!$AK$20","v":0},{"$f":"SUMIF($D12:$Z12,\"*↑う*\",$D$3:$Z$3)/1000*図面!$AK$21","v":0},{"$f":"SUMIF($D12:$Z12,\"*↓う*\",$D$3:$Z$3)/1000*図面!$AK$21","v":0},{"$f":"SUMIF($D12:$Z12,\"*↑え*\",$D$3:$Z$3)/1000*図面!$AK$22","v":0},{"$f":"SUMIF($D12:$Z12,\"*↓え*\",$D$3:$Z$3)/1000*図面!$AK$22","v":0},{"$f":"SUMIF($D12:$Z12,\"*↑お*\",$D$3:$Z$3)/1000*図面!$AK$23","v":0},{"$f":"SUMIF($D12:$Z12,\"*↓お*\",$D$3:$Z$3)/1000*図面!AK$23","v":0},{"$f":"SUMIF($D12:$Z12,\"*↑か*\",$D$3:$Z$3)/1000*図面!$AK$24","v":0},{"$f":"SUMIF($D12:$Z12,\"*↓か*\",$D$3:$Z$3)/1000*図面!$AK$24","v":0},0,{"$f":"IF(COUNTIF(面積計算2階!AG12,1),\"上\",\" \")","v":" "},{"$f":"IF(COUNTIF(面積計算2階!AI12,1),\"下\",\" \")","v":" "},0,0,0,{"$f":"IF(COUNTIF(AQ11:AQ13,\"下\"),AO12,0)","v":0},0,0]
[null,null,{"$f":"図面!B13","v":910},{"$f":"IF(図面2階!D13=\"\",\"\",図面2階!D13)","v":""},{"$f":"IF(図面2階!E13=\"\",\"\",図面2階!E13)","v":""},{"$f":"IF(図面2階!F13=\"\",\"\",図面2階!F13)","v":""},{"$f":"IF(図面2階!G13=\"\",\"\",図面2階!G13)","v":""},{"$f":"IF(図面2階!H13=\"\",\"\",図面2階!H13)","v":""},{"$f":"IF(図面2階!I13=\"\",\"\",図面2階!I13)","v":""},{"$f":"IF(図面2階!J13=\"\",\"\",図面2階!J13)","v":""},{"$f":"IF(図面2階!K13=\"\",\"\",図面2階!K13)","v":""},{"$f":"IF(図面2階!L13=\"\",\"\",図面2階!L13)","v":""},{"$f":"IF(図面2階!M13=\"\",\"\",図面2階!M13)","v":""},{"$f":"IF(図面2階!N13=\"\",\"\",図面2階!N13)","v":""},{"$f":"IF(図面2階!O13=\"\",\"\",図面2階!O13)","v":""},{"$f":"IF(図面2階!P13=\"\",\"\",図面2階!P13)","v":""},{"$f":"IF(図面2階!Q13=\"\",\"\",図面2階!Q13)","v":""},{"$f":"IF(図面2階!R13=\"\",\"\",図面2階!R13)","v":""},{"$f":"IF(図面2階!S13=\"\",\"\",図面2階!S13)","v":""},{"$f":"IF(図面2階!T13=\"\",\"\",図面2階!T13)","v":""},{"$f":"IF(図面2階!U13=\"\",\"\",図面2階!U13)","v":""},{"$f":"IF(図面2階!V13=\"\",\"\",図面2階!V13)","v":""},{"$f":"IF(図面2階!W13=\"\",\"\",図面2階!W13)","v":""},{"$f":"IF(図面2階!X13=\"\",\"\",図面2階!X13)","v":""},{"$f":"IF(図面2階!Y13=\"\",\"\",図面2階!Y13)","v":""},{"$f":"IF(図面2階!Z13=\"\",\"\",図面2階!Z13)","v":""},{"$f":"IF(COUNTIF(面積計算2階!AG13:AI13,1),\"●\",\" \")","v":" "},null,{"$f":"SUMIF($D13:$Z13,\"*↑あ*\",$D$3:$Z$3)/1000*図面!$AK$19","v":0},{"$f":"SUMIF($D13:$Z13,\"*↓あ*\",$D$3:$Z$3)/1000*図面!$AK$19","v":0},{"$f":"SUMIF($D13:$Z13,\"*↑い*\",$D$3:$Z$3)/1000*図面!$AK$20","v":0},{"$f":"SUMIF($D13:$Z13,\"*↓い*\",$D$3:$Z$3)/1000*図面!$AK$20","v":0},{"$f":"SUMIF($D13:$Z13,\"*↑う*\",$D$3:$Z$3)/1000*図面!$AK$21","v":0},{"$f":"SUMIF($D13:$Z13,\"*↓う*\",$D$3:$Z$3)/1000*図面!$AK$21","v":0},{"$f":"SUMIF($D13:$Z13,\"*↑え*\",$D$3:$Z$3)/1000*図面!$AK$22","v":0},{"$f":"SUMIF($D13:$Z13,\"*↓え*\",$D$3:$Z$3)/1000*図面!$AK$22","v":0},{"$f":"SUMIF($D13:$Z13,\"*↑お*\",$D$3:$Z$3)/1000*図面!$AK$23","v":0},{"$f":"SUMIF($D13:$Z13,\"*↓お*\",$D$3:$Z$3)/1000*図面!AK$23","v":0},{"$f":"SUMIF($D13:$Z13,\"*↑か*\",$D$3:$Z$3)/1000*図面!$AK$24","v":0},{"$f":"SUMIF($D13:$Z13,\"*↓か*\",$D$3:$Z$3)/1000*図面!$AK$24","v":0},{"$f":"SUM(AC13:AN13)","v":0},{"$f":"IF(COUNTIF(面積計算2階!AG13,1),\"上\",\" \")","v":" "},{"$f":"IF(COUNTIF(面積計算2階!AI13,1),\"下\",\" \")","v":" "},0,0,0,{"$f":"IF(COUNTIF(AQ12:AQ14,\"下\"),AO13,0)","v":0},0,0]
[null,null,{"$f":"図面!B14","v":910},{"$f":"IF(図面2階!D14=\"\",\"\",図面2階!D14)","v":""},{"$f":"IF(図面2階!E14=\"\",\"\",図面2階!E14)","v":""},{"$f":"IF(図面2階!F14=\"\",\"\",図面2階!F14)","v":""},{"$f":"IF(図面2階!G14=\"\",\"\",図面2階!G14)","v":""},{"$f":"IF(図面2階!H14=\"\",\"\",図面2階!H14)","v":""},{"$f":"IF(図面2階!I14=\"\",\"\",図面2階!I14)","v":""},{"$f":"IF(図面2階!J14=\"\",\"\",図面2階!J14)","v":""},{"$f":"IF(図面2階!K14=\"\",\"\",図面2階!K14)","v":""},{"$f":"IF(図面2階!L14=\"\",\"\",図面2階!L14)","v":""},{"$f":"IF(図面2階!M14=\"\",\"\",図面2階!M14)","v":""},{"$f":"IF(図面2階!N14=\"\",\"\",図面2階!N14)","v":""},{"$f":"IF(図面2階!O14=\"\",\"\",図面2階!O14)","v":""},{"$f":"IF(図面2階!P14=\"\",\"\",図面2階!P14)","v":""},{"$f":"IF(図面2階!Q14=\"\",\"\",図面2階!Q14)","v":""},{"$f":"IF(図面2階!R14=\"\",\"\",図面2階!R14)","v":""},{"$f":"IF(図面2階!S14=\"\",\"\",図面2階!S14)","v":""},{"$f":"IF(図面2階!T14=\"\",\"\",図面2階!T14)","v":""},{"$f":"IF(図面2階!U14=\"\",\"\",図面2階!U14)","v":""},{"$f":"IF(図面2階!V14=\"\",\"\",図面2階!V14)","v":""},{"$f":"IF(図面2階!W14=\"\",\"\",図面2階!W14)","v":""},{"$f":"IF(図面2階!X14=\"\",\"\",図面2階!X14)","v":""},{"$f":"IF(図面2階!Y14=\"\",\"\",図面2階!Y14)","v":""},{"$f":"IF(図面2階!Z14=\"\",\"\",図面2階!Z14)","v":""},{"$f":"IF(COUNTIF(面積計算2階!AG14:AI14,1),\"●\",\" \")","v":" "},null,{"$f":"SUMIF($D14:$Z14,\"*↑あ*\",$D$3:$Z$3)/1000*図面!$AK$19","v":0},{"$f":"SUMIF($D14:$Z14,\"*↓あ*\",$D$3:$Z$3)/1000*図面!$AK$19","v":0},{"$f":"SUMIF($D14:$Z14,\"*↑い*\",$D$3:$Z$3)/1000*図面!$AK$20","v":0},{"$f":"SUMIF($D14:$Z14,\"*↓い*\",$D$3:$Z$3)/1000*図面!$AK$20","v":0},{"$f":"SUMIF($D14:$Z14,\"*↑う*\",$D$3:$Z$3)/1000*図面!$AK$21","v":0},{"$f":"SUMIF($D14:$Z14,\"*↓う*\",$D$3:$Z$3)/1000*図面!$AK$21","v":0},{"$f":"SUMIF($D14:$Z14,\"*↑え*\",$D$3:$Z$3)/1000*図面!$AK$22","v":0},{"$f":"SUMIF($D14:$Z14,\"*↓え*\",$D$3:$Z$3)/1000*図面!$AK$22","v":0},{"$f":"SUMIF($D14:$Z14,\"*↑お*\",$D$3:$Z$3)/1000*図面!$AK$23","v":0},{"$f":"SUMIF($D14:$Z14,\"*↓お*\",$D$3:$Z$3)/1000*図面!AK$23","v":0},{"$f":"SUMIF($D14:$Z14,\"*↑か*\",$D$3:$Z$3)/1000*図面!$AK$24","v":0},{"$f":"SUMIF($D14:$Z14,\"*↓か*\",$D$3:$Z$3)/1000*図面!$AK$24","v":0},0,{"$f":"IF(COUNTIF(面積計算2階!AG14,1),\"上\",\" \")","v":" "},{"$f":"IF(COUNTIF(面積計算2階!AI14,1),\"下\",\" \")","v":" "},0,0,0,0,0,0]
[null,null,{"$f":"図面!B15","v":910},{"$f":"IF(図面2階!D15=\"\",\"\",図面2階!D15)","v":""},{"$f":"IF(図面2階!E15=\"\",\"\",図面2階!E15)","v":""},{"$f":"IF(図面2階!F15=\"\",\"\",図面2階!F15)","v":""},{"$f":"IF(図面2階!G15=\"\",\"\",図面2階!G15)","v":""},{"$f":"IF(図面2階!H15=\"\",\"\",図面2階!H15)","v":""},{"$f":"IF(図面2階!I15=\"\",\"\",図面2階!I15)","v":""},{"$f":"IF(図面2階!J15=\"\",\"\",図面2階!J15)","v":""},{"$f":"IF(図面2階!K15=\"\",\"\",図面2階!K15)","v":""},{"$f":"IF(図面2階!L15=\"\",\"\",図面2階!L15)","v":""},{"$f":"IF(図面2階!M15=\"\",\"\",図面2階!M15)","v":""},{"$f":"IF(図面2階!N15=\"\",\"\",図面2階!N15)","v":""},{"$f":"IF(図面2階!O15=\"\",\"\",図面2階!O15)","v":""},{"$f":"IF(図面2階!P15=\"\",\"\",図面2階!P15)","v":""},{"$f":"IF(図面2階!Q15=\"\",\"\",図面2階!Q15)","v":""},{"$f":"IF(図面2階!R15=\"\",\"\",図面2階!R15)","v":""},{"$f":"IF(図面2階!S15=\"\",\"\",図面2階!S15)","v":""},{"$f":"IF(図面2階!T15=\"\",\"\",図面2階!T15)","v":""},{"$f":"IF(図面2階!U15=\"\",\"\",図面2階!U15)","v":""},{"$f":"IF(図面2階!V15=\"\",\"\",図面2階!V15)","v":""},{"$f":"IF(図面2階!W15=\"\",\"\",図面2階!W15)","v":""},{"$f":"IF(図面2階!X15=\"\",\"\",図面2階!X15)","v":""},{"$f":"IF(図面2階!Y15=\"\",\"\",図面2階!Y15)","v":""},{"$f":"IF(図面2階!Z15=\"\",\"\",図面2階!Z15)","v":""},{"$f":"IF(COUNTIF(面積計算2階!AG15:AI15,1),\"●\",\" \")","v":" "},null,{"$f":"SUMIF($D15:$Z15,\"*↑あ*\",$D$3:$Z$3)/1000*図面!$AK$19","v":0},{"$f":"SUMIF($D15:$Z15,\"*↓あ*\",$D$3:$Z$3)/1000*図面!$AK$19","v":0},{"$f":"SUMIF($D15:$Z15,\"*↑い*\",$D$3:$Z$3)/1000*図面!$AK$20","v":0},{"$f":"SUMIF($D15:$Z15,\"*↓い*\",$D$3:$Z$3)/1000*図面!$AK$20","v":0},{"$f":"SUMIF($D15:$Z15,\"*↑う*\",$D$3:$Z$3)/1000*図面!$AK$21","v":0},{"$f":"SUMIF($D15:$Z15,\"*↓う*\",$D$3:$Z$3)/1000*図面!$AK$21","v":0},{"$f":"SUMIF($D15:$Z15,\"*↑え*\",$D$3:$Z$3)/1000*図面!$AK$22","v":0},{"$f":"SUMIF($D15:$Z15,\"*↓え*\",$D$3:$Z$3)/1000*図面!$AK$22","v":0},{"$f":"SUMIF($D15:$Z15,\"*↑お*\",$D$3:$Z$3)/1000*図面!$AK$23","v":0},{"$f":"SUMIF($D15:$Z15,\"*↓お*\",$D$3:$Z$3)/1000*図面!AK$23","v":0},{"$f":"SUMIF($D15:$Z15,\"*↑か*\",$D$3:$Z$3)/1000*図面!$AK$24","v":0},{"$f":"SUMIF($D15:$Z15,\"*↓か*\",$D$3:$Z$3)/1000*図面!$AK$24","v":0},0,{"$f":"IF(COUNTIF(面積計算2階!AG15,1),\"上\",\" \")","v":" "},{"$f":"IF(COUNTIF(面積計算2階!AI15,1),\"下\",\" \")","v":" "},0,0,0,0,0,0]
[null,null,{"$f":"図面!B16","v":910},{"$f":"IF(図面2階!D16=\"\",\"\",図面2階!D16)","v":""},{"$f":"IF(図面2階!E16=\"\",\"\",図面2階!E16)","v":""},{"$f":"IF(図面2階!F16=\"\",\"\",図面2階!F16)","v":""},{"$f":"IF(図面2階!G16=\"\",\"\",図面2階!G16)","v":""},{"$f":"IF(図面2階!H16=\"\",\"\",図面2階!H16)","v":""},{"$f":"IF(図面2階!I16=\"\",\"\",図面2階!I16)","v":""},{"$f":"IF(図面2階!J16=\"\",\"\",図面2階!J16)","v":""},{"$f":"IF(図面2階!K16=\"\",\"\",図面2階!K16)","v":""},{"$f":"IF(図面2階!L16=\"\",\"\",図面2階!L16)","v":""},{"$f":"IF(図面2階!M16=\"\",\"\",図面2階!M16)","v":""},{"$f":"IF(図面2階!N16=\"\",\"\",図面2階!N16)","v":""},{"$f":"IF(図面2階!O16=\"\",\"\",図面2階!O16)","v":""},{"$f":"IF(図面2階!P16=\"\",\"\",図面2階!P16)","v":""},{"$f":"IF(図面2階!Q16=\"\",\"\",図面2階!Q16)","v":""},{"$f":"IF(図面2階!R16=\"\",\"\",図面2階!R16)","v":""},{"$f":"IF(図面2階!S16=\"\",\"\",図面2階!S16)","v":""},{"$f":"IF(図面2階!T16=\"\",\"\",図面2階!T16)","v":""},{"$f":"IF(図面2階!U16=\"\",\"\",図面2階!U16)","v":""},{"$f":"IF(図面2階!V16=\"\",\"\",図面2階!V16)","v":""},{"$f":"IF(図面2階!W16=\"\",\"\",図面2階!W16)","v":""},{"$f":"IF(図面2階!X16=\"\",\"\",図面2階!X16)","v":""},{"$f":"IF(図面2階!Y16=\"\",\"\",図面2階!Y16)","v":""},{"$f":"IF(図面2階!Z16=\"\",\"\",図面2階!Z16)","v":""},{"$f":"IF(COUNTIF(面積計算2階!AG16:AI16,1),\"●\",\" \")","v":" "},null,{"$f":"SUMIF($D16:$Z16,\"*↑あ*\",$D$3:$Z$3)/1000*図面!$AK$19","v":0},{"$f":"SUMIF($D16:$Z16,\"*↓あ*\",$D$3:$Z$3)/1000*図面!$AK$19","v":0},{"$f":"SUMIF($D16:$Z16,\"*↑い*\",$D$3:$Z$3)/1000*図面!$AK$20","v":0},{"$f":"SUMIF($D16:$Z16,\"*↓い*\",$D$3:$Z$3)/1000*図面!$AK$20","v":0},{"$f":"SUMIF($D16:$Z16,\"*↑う*\",$D$3:$Z$3)/1000*図面!$AK$21","v":0},{"$f":"SUMIF($D16:$Z16,\"*↓う*\",$D$3:$Z$3)/1000*図面!$AK$21","v":0},{"$f":"SUMIF($D16:$Z16,\"*↑え*\",$D$3:$Z$3)/1000*図面!$AK$22","v":0},{"$f":"SUMIF($D16:$Z16,\"*↓え*\",$D$3:$Z$3)/1000*図面!$AK$22","v":0},{"$f":"SUMIF($D16:$Z16,\"*↑お*\",$D$3:$Z$3)/1000*図面!$AK$23","v":0},{"$f":"SUMIF($D16:$Z16,\"*↓お*\",$D$3:$Z$3)/1000*図面!AK$23","v":0},{"$f":"SUMIF($D16:$Z16,\"*↑か*\",$D$3:$Z$3)/1000*図面!$AK$24","v":0},{"$f":"SUMIF($D16:$Z16,\"*↓か*\",$D$3:$Z$3)/1000*図面!$AK$24","v":0},0,{"$f":"IF(COUNTIF(面積計算2階!AG16,1),\"上\",\" \")","v":" "},{"$f":"IF(COUNTIF(面積計算2階!AI16,1),\"下\",\" \")","v":" "},0,0,0,0,0,0]
[null,null,{"$f":"図面!B17","v":910},{"$f":"IF(図面2階!D17=\"\",\"\",図面2階!D17)","v":""},{"$f":"IF(図面2階!E17=\"\",\"\",図面2階!E17)","v":""},{"$f":"IF(図面2階!F17=\"\",\"\",図面2階!F17)","v":""},{"$f":"IF(図面2階!G17=\"\",\"\",図面2階!G17)","v":""},{"$f":"IF(図面2階!H17=\"\",\"\",図面2階!H17)","v":""},{"$f":"IF(図面2階!I17=\"\",\"\",図面2階!I17)","v":""},{"$f":"IF(図面2階!J17=\"\",\"\",図面2階!J17)","v":""},{"$f":"IF(図面2階!K17=\"\",\"\",図面2階!K17)","v":""},{"$f":"IF(図面2階!L17=\"\",\"\",図面2階!L17)","v":""},{"$f":"IF(図面2階!M17=\"\",\"\",図面2階!M17)","v":""},{"$f":"IF(図面2階!N17=\"\",\"\",図面2階!N17)","v":""},{"$f":"IF(図面2階!O17=\"\",\"\",図面2階!O17)","v":""},{"$f":"IF(図面2階!P17=\"\",\"\",図面2階!P17)","v":""},{"$f":"IF(図面2階!Q17=\"\",\"\",図面2階!Q17)","v":""},{"$f":"IF(図面2階!R17=\"\",\"\",図面2階!R17)","v":""},{"$f":"IF(図面2階!S17=\"\",\"\",図面2階!S17)","v":""},{"$f":"IF(図面2階!T17=\"\",\"\",図面2階!T17)","v":""},{"$f":"IF(図面2階!U17=\"\",\"\",図面2階!U17)","v":""},{"$f":"IF(図面2階!V17=\"\",\"\",図面2階!V17)","v":""},{"$f":"IF(図面2階!W17=\"\",\"\",図面2階!W17)","v":""},{"$f":"IF(図面2階!X17=\"\",\"\",図面2階!X17)","v":""},{"$f":"IF(図面2階!Y17=\"\",\"\",図面2階!Y17)","v":""},{"$f":"IF(図面2階!Z17=\"\",\"\",図面2階!Z17)","v":""},{"$f":"IF(COUNTIF(面積計算2階!AG17:AI17,1),\"●\",\" \")","v":" "},null,{"$f":"SUMIF($D17:$Z17,\"*↑あ*\",$D$3:$Z$3)/1000*図面!$AK$19","v":0},{"$f":"SUMIF($D17:$Z17,\"*↓あ*\",$D$3:$Z$3)/1000*図面!$AK$19","v":0},{"$f":"SUMIF($D17:$Z17,\"*↑い*\",$D$3:$Z$3)/1000*図面!$AK$20","v":0},{"$f":"SUMIF($D17:$Z17,\"*↓い*\",$D$3:$Z$3)/1000*図面!$AK$20","v":0},{"$f":"SUMIF($D17:$Z17,\"*↑う*\",$D$3:$Z$3)/1000*図面!$AK$21","v":0},{"$f":"SUMIF($D17:$Z17,\"*↓う*\",$D$3:$Z$3)/1000*図面!$AK$21","v":0},{"$f":"SUMIF($D17:$Z17,\"*↑え*\",$D$3:$Z$3)/1000*図面!$AK$22","v":0},{"$f":"SUMIF($D17:$Z17,\"*↓え*\",$D$3:$Z$3)/1000*図面!$AK$22","v":0},{"$f":"SUMIF($D17:$Z17,\"*↑お*\",$D$3:$Z$3)/1000*図面!$AK$23","v":0},{"$f":"SUMIF($D17:$Z17,\"*↓お*\",$D$3:$Z$3)/1000*図面!AK$23","v":0},{"$f":"SUMIF($D17:$Z17,\"*↑か*\",$D$3:$Z$3)/1000*図面!$AK$24","v":0},{"$f":"SUMIF($D17:$Z17,\"*↓か*\",$D$3:$Z$3)/1000*図面!$AK$24","v":0},0,{"$f":"IF(COUNTIF(面積計算2階!AG17,1),\"上\",\" \")","v":" "},{"$f":"IF(COUNTIF(面積計算2階!AI17,1),\"下\",\" \")","v":" "},0,0,0,0,0,0]
[null,null,{"$f":"図面!B18","v":910},{"$f":"IF(図面2階!D18=\"\",\"\",図面2階!D18)","v":""},{"$f":"IF(図面2階!E18=\"\",\"\",図面2階!E18)","v":""},{"$f":"IF(図面2階!F18=\"\",\"\",図面2階!F18)","v":""},{"$f":"IF(図面2階!G18=\"\",\"\",図面2階!G18)","v":""},{"$f":"IF(図面2階!H18=\"\",\"\",図面2階!H18)","v":""},{"$f":"IF(図面2階!I18=\"\",\"\",図面2階!I18)","v":""},{"$f":"IF(図面2階!J18=\"\",\"\",図面2階!J18)","v":""},{"$f":"IF(図面2階!K18=\"\",\"\",図面2階!K18)","v":""},{"$f":"IF(図面2階!L18=\"\",\"\",図面2階!L18)","v":""},{"$f":"IF(図面2階!M18=\"\",\"\",図面2階!M18)","v":""},{"$f":"IF(図面2階!N18=\"\",\"\",図面2階!N18)","v":""},{"$f":"IF(図面2階!O18=\"\",\"\",図面2階!O18)","v":""},{"$f":"IF(図面2階!P18=\"\",\"\",図面2階!P18)","v":""},{"$f":"IF(図面2階!Q18=\"\",\"\",図面2階!Q18)","v":""},{"$f":"IF(図面2階!R18=\"\",\"\",図面2階!R18)","v":""},{"$f":"IF(図面2階!S18=\"\",\"\",図面2階!S18)","v":""},{"$f":"IF(図面2階!T18=\"\",\"\",図面2階!T18)","v":""},{"$f":"IF(図面2階!U18=\"\",\"\",図面2階!U18)","v":""},{"$f":"IF(図面2階!V18=\"\",\"\",図面2階!V18)","v":""},{"$f":"IF(図面2階!W18=\"\",\"\",図面2階!W18)","v":""},{"$f":"IF(図面2階!X18=\"\",\"\",図面2階!X18)","v":""},{"$f":"IF(図面2階!Y18=\"\",\"\",図面2階!Y18)","v":""},{"$f":"IF(図面2階!Z18=\"\",\"\",図面2階!Z18)","v":""},{"$f":"IF(COUNTIF(面積計算2階!AG18:AI18,1),\"●\",\" \")","v":" "},null,{"$f":"SUMIF($D18:$Z18,\"*↑あ*\",$D$3:$Z$3)/1000*図面!$AK$19","v":0},{"$f":"SUMIF($D18:$Z18,\"*↓あ*\",$D$3:$Z$3)/1000*図面!$AK$19","v":0},{"$f":"SUMIF($D18:$Z18,\"*↑い*\",$D$3:$Z$3)/1000*図面!$AK$20","v":0},{"$f":"SUMIF($D18:$Z18,\"*↓い*\",$D$3:$Z$3)/1000*図面!$AK$20","v":0},{"$f":"SUMIF($D18:$Z18,\"*↑う*\",$D$3:$Z$3)/1000*図面!$AK$21","v":0},{"$f":"SUMIF($D18:$Z18,\"*↓う*\",$D$3:$Z$3)/1000*図面!$AK$21","v":0},{"$f":"SUMIF($D18:$Z18,\"*↑え*\",$D$3:$Z$3)/1000*図面!$AK$22","v":0},{"$f":"SUMIF($D18:$Z18,\"*↓え*\",$D$3:$Z$3)/1000*図面!$AK$22","v":0},{"$f":"SUMIF($D18:$Z18,\"*↑お*\",$D$3:$Z$3)/1000*図面!$AK$23","v":0},{"$f":"SUMIF($D18:$Z18,\"*↓お*\",$D$3:$Z$3)/1000*図面!AK$23","v":0},{"$f":"SUMIF($D18:$Z18,\"*↑か*\",$D$3:$Z$3)/1000*図面!$AK$24","v":0},{"$f":"SUMIF($D18:$Z18,\"*↓か*\",$D$3:$Z$3)/1000*図面!$AK$24","v":0},0,{"$f":"IF(COUNTIF(面積計算2階!AG18,1),\"上\",\" \")","v":" "},{"$f":"IF(COUNTIF(面積計算2階!AI18,1),\"下\",\" \")","v":" "},0,0,0,0,0,0]
[null,null,{"$f":"図面!B19","v":910},{"$f":"IF(図面2階!D19=\"\",\"\",図面2階!D19)","v":""},{"$f":"IF(図面2階!E19=\"\",\"\",図面2階!E19)","v":""},{"$f":"IF(図面2階!F19=\"\",\"\",図面2階!F19)","v":""},{"$f":"IF(図面2階!G19=\"\",\"\",図面2階!G19)","v":""},{"$f":"IF(図面2階!H19=\"\",\"\",図面2階!H19)","v":""},{"$f":"IF(図面2階!I19=\"\",\"\",図面2階!I19)","v":""},{"$f":"IF(図面2階!J19=\"\",\"\",図面2階!J19)","v":""},{"$f":"IF(図面2階!K19=\"\",\"\",図面2階!K19)","v":""},{"$f":"IF(図面2階!L19=\"\",\"\",図面2階!L19)","v":""},{"$f":"IF(図面2階!M19=\"\",\"\",図面2階!M19)","v":""},{"$f":"IF(図面2階!N19=\"\",\"\",図面2階!N19)","v":""},{"$f":"IF(図面2階!O19=\"\",\"\",図面2階!O19)","v":""},{"$f":"IF(図面2階!P19=\"\",\"\",図面2階!P19)","v":""},{"$f":"IF(図面2階!Q19=\"\",\"\",図面2階!Q19)","v":""},{"$f":"IF(図面2階!R19=\"\",\"\",図面2階!R19)","v":""},{"$f":"IF(図面2階!S19=\"\",\"\",図面2階!S19)","v":""},{"$f":"IF(図面2階!T19=\"\",\"\",図面2階!T19)","v":""},{"$f":"IF(図面2階!U19=\"\",\"\",図面2階!U19)","v":""},{"$f":"IF(図面2階!V19=\"\",\"\",図面2階!V19)","v":""},{"$f":"IF(図面2階!W19=\"\",\"\",図面2階!W19)","v":""},{"$f":"IF(図面2階!X19=\"\",\"\",図面2階!X19)","v":""},{"$f":"IF(図面2階!Y19=\"\",\"\",図面2階!Y19)","v":""},{"$f":"IF(図面2階!Z19=\"\",\"\",図面2階!Z19)","v":""},{"$f":"IF(COUNTIF(面積計算2階!AG19:AI19,1),\"●\",\" \")","v":" "},null,{"$f":"SUMIF($D19:$Z19,\"*↑あ*\",$D$3:$Z$3)/1000*図面!$AK$19","v":0},{"$f":"SUMIF($D19:$Z19,\"*↓あ*\",$D$3:$Z$3)/1000*図面!$AK$19","v":0},{"$f":"SUMIF($D19:$Z19,\"*↑い*\",$D$3:$Z$3)/1000*図面!$AK$20","v":0},{"$f":"SUMIF($D19:$Z19,\"*↓い*\",$D$3:$Z$3)/1000*図面!$AK$20","v":0},{"$f":"SUMIF($D19:$Z19,\"*↑う*\",$D$3:$Z$3)/1000*図面!$AK$21","v":0},{"$f":"SUMIF($D19:$Z19,\"*↓う*\",$D$3:$Z$3)/1000*図面!$AK$21","v":0},{"$f":"SUMIF($D19:$Z19,\"*↑え*\",$D$3:$Z$3)/1000*図面!$AK$22","v":0},{"$f":"SUMIF($D19:$Z19,\"*↓え*\",$D$3:$Z$3)/1000*図面!$AK$22","v":0},{"$f":"SUMIF($D19:$Z19,\"*↑お*\",$D$3:$Z$3)/1000*図面!$AK$23","v":0},{"$f":"SUMIF($D19:$Z19,\"*↓お*\",$D$3:$Z$3)/1000*図面!AK$23","v":0},{"$f":"SUMIF($D19:$Z19,\"*↑か*\",$D$3:$Z$3)/1000*図面!$AK$24","v":0},{"$f":"SUMIF($D19:$Z19,\"*↓か*\",$D$3:$Z$3)/1000*図面!$AK$24","v":0},0,{"$f":"IF(COUNTIF(面積計算2階!AG19,1),\"上\",\" \")","v":" "},{"$f":"IF(COUNTIF(面積計算2階!AI19,1),\"下\",\" \")","v":" "},0,0,0,0,0,0]
[null,null,{"$f":"図面!B20","v":910},{"$f":"IF(図面2階!D20=\"\",\"\",図面2階!D20)","v":""},{"$f":"IF(図面2階!E20=\"\",\"\",図面2階!E20)","v":""},{"$f":"IF(図面2階!F20=\"\",\"\",図面2階!F20)","v":""},{"$f":"IF(図面2階!G20=\"\",\"\",図面2階!G20)","v":""},{"$f":"IF(図面2階!H20=\"\",\"\",図面2階!H20)","v":""},{"$f":"IF(図面2階!I20=\"\",\"\",図面2階!I20)","v":""},{"$f":"IF(図面2階!J20=\"\",\"\",図面2階!J20)","v":""},{"$f":"IF(図面2階!K20=\"\",\"\",図面2階!K20)","v":""},{"$f":"IF(図面2階!L20=\"\",\"\",図面2階!L20)","v":""},{"$f":"IF(図面2階!M20=\"\",\"\",図面2階!M20)","v":""},{"$f":"IF(図面2階!N20=\"\",\"\",図面2階!N20)","v":""},{"$f":"IF(図面2階!O20=\"\",\"\",図面2階!O20)","v":""},{"$f":"IF(図面2階!P20=\"\",\"\",図面2階!P20)","v":""},{"$f":"IF(図面2階!Q20=\"\",\"\",図面2階!Q20)","v":""},{"$f":"IF(図面2階!R20=\"\",\"\",図面2階!R20)","v":""},{"$f":"IF(図面2階!S20=\"\",\"\",図面2階!S20)","v":""},{"$f":"IF(図面2階!T20=\"\",\"\",図面2階!T20)","v":""},{"$f":"IF(図面2階!U20=\"\",\"\",図面2階!U20)","v":""},{"$f":"IF(図面2階!V20=\"\",\"\",図面2階!V20)","v":""},{"$f":"IF(図面2階!W20=\"\",\"\",図面2階!W20)","v":""},{"$f":"IF(図面2階!X20=\"\",\"\",図面2階!X20)","v":""},{"$f":"IF(図面2階!Y20=\"\",\"\",図面2階!Y20)","v":""},{"$f":"IF(図面2階!Z20=\"\",\"\",図面2階!Z20)","v":""},{"$f":"IF(COUNTIF(面積計算2階!AG20:AI20,1),\"●\",\" \")","v":" "},null,{"$f":"SUMIF($D20:$Z20,\"*↑あ*\",$D$3:$Z$3)/1000*図面!$AK$19","v":0},{"$f":"SUMIF($D20:$Z20,\"*↓あ*\",$D$3:$Z$3)/1000*図面!$AK$19","v":0},{"$f":"SUMIF($D20:$Z20,\"*↑い*\",$D$3:$Z$3)/1000*図面!$AK$20","v":0},{"$f":"SUMIF($D20:$Z20,\"*↓い*\",$D$3:$Z$3)/1000*図面!$AK$20","v":0},{"$f":"SUMIF($D20:$Z20,\"*↑う*\",$D$3:$Z$3)/1000*図面!$AK$21","v":0},{"$f":"SUMIF($D20:$Z20,\"*↓う*\",$D$3:$Z$3)/1000*図面!$AK$21","v":0},{"$f":"SUMIF($D20:$Z20,\"*↑え*\",$D$3:$Z$3)/1000*図面!$AK$22","v":0},{"$f":"SUMIF($D20:$Z20,\"*↓え*\",$D$3:$Z$3)/1000*図面!$AK$22","v":0},{"$f":"SUMIF($D20:$Z20,\"*↑お*\",$D$3:$Z$3)/1000*図面!$AK$23","v":0},{"$f":"SUMIF($D20:$Z20,\"*↓お*\",$D$3:$Z$3)/1000*図面!AK$23","v":0},{"$f":"SUMIF($D20:$Z20,\"*↑か*\",$D$3:$Z$3)/1000*図面!$AK$24","v":0},{"$f":"SUMIF($D20:$Z20,\"*↓か*\",$D$3:$Z$3)/1000*図面!$AK$24","v":0},0,{"$f":"IF(COUNTIF(面積計算2階!AG20,1),\"上\",\" \")","v":" "},{"$f":"IF(COUNTIF(面積計算2階!AI20,1),\"下\",\" \")","v":" "},0,0,0,0,0,0]
[null,null,null,{"$f":"IF(COUNTIF(面積計算2階!D27:D29,1),\"●\",\" \")","v":" "},{"$f":"IF(COUNTIF(面積計算2階!E27:E29,1),\"●\",\" \")","v":" "},{"$f":"IF(COUNTIF(面積計算2階!F27:F29,1),\"●\",\" \")","v":" "},{"$f":"IF(COUNTIF(面積計算2階!G27:G29,1),\"●\",\" \")","v":" "},{"$f":"IF(COUNTIF(面積計算2階!H27:H29,1),\"●\",\" \")","v":" "},{"$f":"IF(COUNTIF(面積計算2階!I27:I29,1),\"●\",\" \")","v":" "},{"$f":"IF(COUNTIF(面積計算2階!J27:J29,1),\"●\",\" \")","v":" "},{"$f":"IF(COUNTIF(面積計算2階!K27:K29,1),\"●\",\" \")","v":" "},{"$f":"IF(COUNTIF(面積計算2階!L27:L29,1),\"●\",\" \")","v":" "},{"$f":"IF(COUNTIF(面積計算2階!M27:M29,1),\"●\",\" \")","v":" "},{"$f":"IF(COUNTIF(面積計算2階!N27:N29,1),\"●\",\" \")","v":" "},{"$f":"IF(COUNTIF(面積計算2階!O27:O29,1),\"●\",\" \")","v":" "},{"$f":"IF(COUNTIF(面積計算2階!P27:P29,1),\"●\",\" \")","v":" "},{"$f":"IF(COUNTIF(面積計算2階!Q27:Q29,1),\"●\",\" \")","v":" "},{"$f":"IF(COUNTIF(面積計算2階!R27:R29,1),\"●\",\" \")","v":" "},{"$f":"IF(COUNTIF(面積計算2階!S27:S29,1),\"●\",\" \")","v":" "},{"$f":"IF(COUNTIF(面積計算2階!T27:T29,1),\"●\",\" \")","v":" "},{"$f":"IF(COUNTIF(面積計算2階!U27:U29,1),\"●\",\" \")","v":" "},{"$f":"IF(COUNTIF(面積計算2階!V27:V29,1),\"●\",\" \")","v":" "},{"$f":"IF(COUNTIF(面積計算2階!W27:W29,1),\"●\",\" \")","v":" "},{"$f":"IF(COUNTIF(面積計算2階!X27:X29,1),\"●\",\" \")","v":" "},{"$f":"IF(COUNTIF(面積計算2階!Y27:Y29,1),\"●\",\" \")","v":" "},{"$f":"IF(COUNTIF(面積計算2階!Z27:Z29,1),\"●\",\" \")","v":" "},null,null,null,null,null,null,null,null,null,null,null,null,null,null,{"$f":"SUM(AO4:AO20)","v":0},null,null,null,null,{"$f":"SUM(AT4:AT20)","v":0},null,null,{"$f":"SUM(AW4:AW20)","v":0}]
[]
[null,null,"→あ",{"$f":"SUMIF(D$4:D$20,\"*→あ*\",$C$4:$C$20)/1000*図面!$AK$19","v":0},{"$f":"SUMIF(E$4:E$20,\"*→あ*\",$C$4:$C$20)/1000*図面!$AK$19","v":0},{"$f":"SUMIF(F$4:F$20,\"*→あ*\",$C$4:$C$20)/1000*図面!$AK$19","v":0},{"$f":"SUMIF(G$4:G$20,\"*→あ*\",$C$4:$C$20)/1000*図面!$AK$19","v":0},{"$f":"SUMIF(H$4:H$20,\"*→あ*\",$C$4:$C$20)/1000*図面!$AK$19","v":0},{"$f":"SUMIF(I$4:I$20,\"*→あ*\",$C$4:$C$20)/1000*図面!$AK$19","v":0},{"$f":"SUMIF(J$4:J$20,\"*→あ*\",$C$4:$C$20)/1000*図面!$AK$19","v":0},{"$f":"SUMIF(K$4:K$20,\"*→あ*\",$C$4:$C$20)/1000*図面!$AK$19","v":0},{"$f":"SUMIF(L$4:L$20,\"*→あ*\",$C$4:$C$20)/1000*図面!$AK$19","v":0},{"$f":"SUMIF(M$4:M$20,\"*→あ*\",$C$4:$C$20)/1000*図面!$AK$19","v":0},{"$f":"SUMIF(N$4:N$20,\"*→あ*\",$C$4:$C$20)/1000*図面!$AK$19","v":0},{"$f":"SUMIF(O$4:O$20,\"*→あ*\",$C$4:$C$20)/1000*図面!$AK$19","v":0},{"$f":"SUMIF(P$4:P$20,\"*→あ*\",$C$4:$C$20)/1000*図面!$AK$19","v":0},{"$f":"SUMIF(Q$4:Q$20,\"*→あ*\",$C$4:$C$20)/1000*図面!$AK$19","v":0},{"$f":"SUMIF(R$4:R$20,\"*→あ*\",$C$4:$C$20)/1000*図面!$AK$19","v":0},{"$f":"SUMIF(S$4:S$20,\"*→あ*\",$C$4:$C$20)/1000*図面!$AK$19","v":0},{"$f":"SUMIF(T$4:T$20,\"*→あ*\",$C$4:$C$20)/1000*図面!$AK$19","v":0},{"$f":"SUMIF(U$4:U$20,\"*→あ*\",$C$4:$C$20)/1000*図面!$AK$19","v":0},{"$f":"SUMIF(V$4:V$20,\"*→あ*\",$C$4:$C$20)/1000*図面!$AK$19","v":0},{"$f":"SUMIF(W$4:W$20,\"*→あ*\",$C$4:$C$20)/1000*図面!$AK$19","v":0},{"$f":"SUMIF(X$4:X$20,\"*→あ*\",$C$4:$C$20)/1000*図面!$AK$19","v":0},{"$f":"SUMIF(Y$4:Y$20,\"*→あ*\",$C$4:$C$20)/1000*図面!$AK$19","v":0},{"$f":"SUMIF(Z$4:Z$20,\"*→あ*\",$C$4:$C$20)/1000*図面!$AK$19","v":0}]
[null,null,"←あ",{"$f":"SUMIF(D$4:D$20,\"*←あ*\",$C$4:$C$20)/1000*図面!$AK$19","v":0},{"$f":"SUMIF(E$4:E$20,\"*←あ*\",$C$4:$C$20)/1000*図面!$AK$19","v":0},{"$f":"SUMIF(F$4:F$20,\"*←あ*\",$C$4:$C$20)/1000*図面!$AK$19","v":0},{"$f":"SUMIF(G$4:G$20,\"*←あ*\",$C$4:$C$20)/1000*図面!$AK$19","v":0},{"$f":"SUMIF(H$4:H$20,\"*←あ*\",$C$4:$C$20)/1000*図面!$AK$19","v":0},{"$f":"SUMIF(I$4:I$20,\"*←あ*\",$C$4:$C$20)/1000*図面!$AK$19","v":0},{"$f":"SUMIF(J$4:J$20,\"*←あ*\",$C$4:$C$20)/1000*図面!$AK$19","v":0},{"$f":"SUMIF(K$4:K$20,\"*←あ*\",$C$4:$C$20)/1000*図面!$AK$19","v":0},{"$f":"SUMIF(L$4:L$20,\"*←あ*\",$C$4:$C$20)/1000*図面!$AK$19","v":0},{"$f":"SUMIF(M$4:M$20,\"*←あ*\",$C$4:$C$20)/1000*図面!$AK$19","v":0},{"$f":"SUMIF(N$4:N$20,\"*←あ*\",$C$4:$C$20)/1000*図面!$AK$19","v":0},{"$f":"SUMIF(O$4:O$20,\"*←あ*\",$C$4:$C$20)/1000*図面!$AK$19","v":0},{"$f":"SUMIF(P$4:P$20,\"*←あ*\",$C$4:$C$20)/1000*図面!$AK$19","v":0},{"$f":"SUMIF(Q$4:Q$20,\"*←あ*\",$C$4:$C$20)/1000*図面!$AK$19","v":0},{"$f":"SUMIF(R$4:R$20,\"*←あ*\",$C$4:$C$20)/1000*図面!$AK$19","v":0},{"$f":"SUMIF(S$4:S$20,\"*←あ*\",$C$4:$C$20)/1000*図面!$AK$19","v":0},{"$f":"SUMIF(T$4:T$20,\"*←あ*\",$C$4:$C$20)/1000*図面!$AK$19","v":0},{"$f":"SUMIF(U$4:U$20,\"*←あ*\",$C$4:$C$20)/1000*図面!$AK$19","v":0},{"$f":"SUMIF(V$4:V$20,\"*←あ*\",$C$4:$C$20)/1000*図面!$AK$19","v":0},{"$f":"SUMIF(W$4:W$20,\"*←あ*\",$C$4:$C$20)/1000*図面!$AK$19","v":0},{"$f":"SUMIF(X$4:X$20,\"*←あ*\",$C$4:$C$20)/1000*図面!$AK$19","v":0},{"$f":"SUMIF(Y$4:Y$20,\"*←あ*\",$C$4:$C$20)/1000*図面!$AK$19","v":0},{"$f":"SUMIF(Z$4:Z$20,\"*←あ*\",$C$4:$C$20)/1000*図面!$AK$19","v":0}]
[null,null,"→い",{"$f":"SUMIF(D$4:D$20,\"*→い*\",$C$4:$C$20)/1000*図面!$AK$20","v":0},{"$f":"SUMIF(E$4:E$20,\"*→い*\",$C$4:$C$20)/1000*図面!$AK$20","v":0},{"$f":"SUMIF(F$4:F$20,\"*→い*\",$C$4:$C$20)/1000*図面!$AK$20","v":0},{"$f":"SUMIF(G$4:G$20,\"*→い*\",$C$4:$C$20)/1000*図面!$AK$20","v":0},{"$f":"SUMIF(H$4:H$20,\"*→い*\",$C$4:$C$20)/1000*図面!$AK$20","v":0},{"$f":"SUMIF(I$4:I$20,\"*→い*\",$C$4:$C$20)/1000*図面!$AK$20","v":0},{"$f":"SUMIF(J$4:J$20,\"*→い*\",$C$4:$C$20)/1000*図面!$AK$20","v":0},{"$f":"SUMIF(K$4:K$20,\"*→い*\",$C$4:$C$20)/1000*図面!$AK$20","v":0},{"$f":"SUMIF(L$4:L$20,\"*→い*\",$C$4:$C$20)/1000*図面!$AK$20","v":0},{"$f":"SUMIF(M$4:M$20,\"*→い*\",$C$4:$C$20)/1000*図面!$AK$20","v":0},{"$f":"SUMIF(N$4:N$20,\"*→い*\",$C$4:$C$20)/1000*図面!$AK$20","v":0},{"$f":"SUMIF(O$4:O$20,\"*→い*\",$C$4:$C$20)/1000*図面!$AK$20","v":0},{"$f":"SUMIF(P$4:P$20,\"*→い*\",$C$4:$C$20)/1000*図面!$AK$20","v":0},{"$f":"SUMIF(Q$4:Q$20,\"*→い*\",$C$4:$C$20)/1000*図面!$AK$20","v":0},{"$f":"SUMIF(R$4:R$20,\"*→い*\",$C$4:$C$20)/1000*図面!$AK$20","v":0},{"$f":"SUMIF(S$4:S$20,\"*→い*\",$C$4:$C$20)/1000*図面!$AK$20","v":0},{"$f":"SUMIF(T$4:T$20,\"*→い*\",$C$4:$C$20)/1000*図面!$AK$20","v":0},{"$f":"SUMIF(U$4:U$20,\"*→い*\",$C$4:$C$20)/1000*図面!$AK$20","v":0},{"$f":"SUMIF(V$4:V$20,\"*→い*\",$C$4:$C$20)/1000*図面!$AK$20","v":0},{"$f":"SUMIF(W$4:W$20,\"*→い*\",$C$4:$C$20)/1000*図面!$AK$20","v":0},{"$f":"SUMIF(X$4:X$20,\"*→い*\",$C$4:$C$20)/1000*図面!$AK$20","v":0},{"$f":"SUMIF(Y$4:Y$20,\"*→い*\",$C$4:$C$20)/1000*図面!$AK$20","v":0},{"$f":"SUMIF(Z$4:Z$20,\"*→い*\",$C$4:$C$20)/1000*図面!$AK$20","v":0}]
[null,null,"←い",{"$f":"SUMIF(D$4:D$20,\"*←い*\",$C$4:$C$20)/1000*図面!$AK$20","v":0},{"$f":"SUMIF(E$4:E$20,\"*←い*\",$C$4:$C$20)/1000*図面!$AK$20","v":0},{"$f":"SUMIF(F$4:F$20,\"*←い*\",$C$4:$C$20)/1000*図面!$AK$20","v":0},{"$f":"SUMIF(G$4:G$20,\"*←い*\",$C$4:$C$20)/1000*図面!$AK$20","v":0},{"$f":"SUMIF(H$4:H$20,\"*←い*\",$C$4:$C$20)/1000*図面!$AK$20","v":0},{"$f":"SUMIF(I$4:I$20,\"*←い*\",$C$4:$C$20)/1000*図面!$AK$20","v":0},{"$f":"SUMIF(J$4:J$20,\"*←い*\",$C$4:$C$20)/1000*図面!$AK$20","v":0},{"$f":"SUMIF(K$4:K$20,\"*←い*\",$C$4:$C$20)/1000*図面!$AK$20","v":0},{"$f":"SUMIF(L$4:L$20,\"*←い*\",$C$4:$C$20)/1000*図面!$AK$20","v":0},{"$f":"SUMIF(M$4:M$20,\"*←い*\",$C$4:$C$20)/1000*図面!$AK$20","v":0},{"$f":"SUMIF(N$4:N$20,\"*←い*\",$C$4:$C$20)/1000*図面!$AK$20","v":0},{"$f":"SUMIF(O$4:O$20,\"*←い*\",$C$4:$C$20)/1000*図面!$AK$20","v":0},{"$f":"SUMIF(P$4:P$20,\"*←い*\",$C$4:$C$20)/1000*図面!$AK$20","v":0},{"$f":"SUMIF(Q$4:Q$20,\"*←い*\",$C$4:$C$20)/1000*図面!$AK$20","v":0},{"$f":"SUMIF(R$4:R$20,\"*←い*\",$C$4:$C$20)/1000*図面!$AK$20","v":0},{"$f":"SUMIF(S$4:S$20,\"*←い*\",$C$4:$C$20)/1000*図面!$AK$20","v":0},{"$f":"SUMIF(T$4:T$20,\"*←い*\",$C$4:$C$20)/1000*図面!$AK$20","v":0},{"$f":"SUMIF(U$4:U$20,\"*←い*\",$C$4:$C$20)/1000*図面!$AK$20","v":0},{"$f":"SUMIF(V$4:V$20,\"*←い*\",$C$4:$C$20)/1000*図面!$AK$20","v":0},{"$f":"SUMIF(W$4:W$20,\"*←い*\",$C$4:$C$20)/1000*図面!$AK$20","v":0},{"$f":"SUMIF(X$4:X$20,\"*←い*\",$C$4:$C$20)/1000*図面!$AK$20","v":0},{"$f":"SUMIF(Y$4:Y$20,\"*←い*\",$C$4:$C$20)/1000*図面!$AK$20","v":0},{"$f":"SUMIF(Z$4:Z$20,\"*←い*\",$C$4:$C$20)/1000*図面!$AK$20","v":0}]
[null,null,"→う",{"$f":"SUMIF(D$4:D$20,\"*→う*\",$C$4:$C$20)/1000*図面!$AK$21","v":0},{"$f":"SUMIF(E$4:E$20,\"*→う*\",$C$4:$C$20)/1000*図面!$AK$21","v":0},{"$f":"SUMIF(F$4:F$20,\"*→う*\",$C$4:$C$20)/1000*図面!$AK$21","v":0},{"$f":"SUMIF(G$4:G$20,\"*→う*\",$C$4:$C$20)/1000*図面!$AK$21","v":0},{"$f":"SUMIF(H$4:H$20,\"*→う*\",$C$4:$C$20)/1000*図面!$AK$21","v":0},{"$f":"SUMIF(I$4:I$20,\"*→う*\",$C$4:$C$20)/1000*図面!$AK$21","v":0},{"$f":"SUMIF(J$4:J$20,\"*→う*\",$C$4:$C$20)/1000*図面!$AK$21","v":0},{"$f":"SUMIF(K$4:K$20,\"*→う*\",$C$4:$C$20)/1000*図面!$AK$21","v":0},{"$f":"SUMIF(L$4:L$20,\"*→う*\",$C$4:$C$20)/1000*図面!$AK$21","v":0},{"$f":"SUMIF(M$4:M$20,\"*→う*\",$C$4:$C$20)/1000*図面!$AK$21","v":0},{"$f":"SUMIF(N$4:N$20,\"*→う*\",$C$4:$C$20)/1000*図面!$AK$21","v":0},{"$f":"SUMIF(O$4:O$20,\"*→う*\",$C$4:$C$20)/1000*図面!$AK$21","v":0},{"$f":"SUMIF(P$4:P$20,\"*→う*\",$C$4:$C$20)/1000*図面!$AK$21","v":0},{"$f":"SUMIF(Q$4:Q$20,\"*→う*\",$C$4:$C$20)/1000*図面!$AK$21","v":0},{"$f":"SUMIF(R$4:R$20,\"*→う*\",$C$4:$C$20)/1000*図面!$AK$21","v":0},{"$f":"SUMIF(S$4:S$20,\"*→う*\",$C$4:$C$20)/1000*図面!$AK$21","v":0},{"$f":"SUMIF(T$4:T$20,\"*→う*\",$C$4:$C$20)/1000*図面!$AK$21","v":0},{"$f":"SUMIF(U$4:U$20,\"*→う*\",$C$4:$C$20)/1000*図面!$AK$21","v":0},{"$f":"SUMIF(V$4:V$20,\"*→う*\",$C$4:$C$20)/1000*図面!$AK$21","v":0},{"$f":"SUMIF(W$4:W$20,\"*→う*\",$C$4:$C$20)/1000*図面!$AK$21","v":0},{"$f":"SUMIF(X$4:X$20,\"*→う*\",$C$4:$C$20)/1000*図面!$AK$21","v":0},{"$f":"SUMIF(Y$4:Y$20,\"*→う*\",$C$4:$C$20)/1000*図面!$AK$21","v":0},{"$f":"SUMIF(Z$4:Z$20,\"*→う*\",$C$4:$C$20)/1000*図面!$AK$21","v":0}]
[null,null,"←う",{"$f":"SUMIF(D$4:D$20,\"*←う*\",$C$4:$C$20)/1000*図面!$AK$21","v":0},{"$f":"SUMIF(E$4:E$20,\"*←う*\",$C$4:$C$20)/1000*図面!$AK$21","v":0},{"$f":"SUMIF(F$4:F$20,\"*←う*\",$C$4:$C$20)/1000*図面!$AK$21","v":0},{"$f":"SUMIF(G$4:G$20,\"*←う*\",$C$4:$C$20)/1000*図面!$AK$21","v":0},{"$f":"SUMIF(H$4:H$20,\"*←う*\",$C$4:$C$20)/1000*図面!$AK$21","v":0},{"$f":"SUMIF(I$4:I$20,\"*←う*\",$C$4:$C$20)/1000*図面!$AK$21","v":0},{"$f":"SUMIF(J$4:J$20,\"*←う*\",$C$4:$C$20)/1000*図面!$AK$21","v":0},{"$f":"SUMIF(K$4:K$20,\"*←う*\",$C$4:$C$20)/1000*図面!$AK$21","v":0},{"$f":"SUMIF(L$4:L$20,\"*←う*\",$C$4:$C$20)/1000*図面!$AK$21","v":0},{"$f":"SUMIF(M$4:M$20,\"*←う*\",$C$4:$C$20)/1000*図面!$AK$21","v":0},{"$f":"SUMIF(N$4:N$20,\"*←う*\",$C$4:$C$20)/1000*図面!$AK$21","v":0},{"$f":"SUMIF(O$4:O$20,\"*←う*\",$C$4:$C$20)/1000*図面!$AK$21","v":0},{"$f":"SUMIF(P$4:P$20,\"*←う*\",$C$4:$C$20)/1000*図面!$AK$21","v":0},{"$f":"SUMIF(Q$4:Q$20,\"*←う*\",$C$4:$C$20)/1000*図面!$AK$21","v":0},{"$f":"SUMIF(R$4:R$20,\"*←う*\",$C$4:$C$20)/1000*図面!$AK$21","v":0},{"$f":"SUMIF(S$4:S$20,\"*←う*\",$C$4:$C$20)/1000*図面!$AK$21","v":0},{"$f":"SUMIF(T$4:T$20,\"*←う*\",$C$4:$C$20)/1000*図面!$AK$21","v":0},{"$f":"SUMIF(U$4:U$20,\"*←う*\",$C$4:$C$20)/1000*図面!$AK$21","v":0},{"$f":"SUMIF(V$4:V$20,\"*←う*\",$C$4:$C$20)/1000*図面!$AK$21","v":0},{"$f":"SUMIF(W$4:W$20,\"*←う*\",$C$4:$C$20)/1000*図面!$AK$21","v":0},{"$f":"SUMIF(X$4:X$20,\"*←う*\",$C$4:$C$20)/1000*図面!$AK$21","v":0},{"$f":"SUMIF(Y$4:Y$20,\"*←う*\",$C$4:$C$20)/1000*図面!$AK$21","v":0},{"$f":"SUMIF(Z$4:Z$20,\"*←う*\",$C$4:$C$20)/1000*図面!$AK$21","v":0}]
[null,null,"→え",{"$f":"SUMIF(D$4:D$20,\"*→え*\",$C$4:$C$20)/1000*図面!$AK$22","v":0},{"$f":"SUMIF(E$4:E$20,\"*→え*\",$C$4:$C$20)/1000*図面!$AK$22","v":0},{"$f":"SUMIF(F$4:F$20,\"*→え*\",$C$4:$C$20)/1000*図面!$AK$22","v":0},{"$f":"SUMIF(G$4:G$20,\"*→え*\",$C$4:$C$20)/1000*図面!$AK$22","v":0},{"$f":"SUMIF(H$4:H$20,\"*→え*\",$C$4:$C$20)/1000*図面!$AK$22","v":0},{"$f":"SUMIF(I$4:I$20,\"*→え*\",$C$4:$C$20)/1000*図面!$AK$22","v":0},{"$f":"SUMIF(J$4:J$20,\"*→え*\",$C$4:$C$20)/1000*図面!$AK$22","v":0},{"$f":"SUMIF(K$4:K$20,\"*→え*\",$C$4:$C$20)/1000*図面!$AK$22","v":0},{"$f":"SUMIF(L$4:L$20,\"*→え*\",$C$4:$C$20)/1000*図面!$AK$22","v":0},{"$f":"SUMIF(M$4:M$20,\"*→え*\",$C$4:$C$20)/1000*図面!$AK$22","v":0},{"$f":"SUMIF(N$4:N$20,\"*→え*\",$C$4:$C$20)/1000*図面!$AK$22","v":0},{"$f":"SUMIF(O$4:O$20,\"*→え*\",$C$4:$C$20)/1000*図面!$AK$22","v":0},{"$f":"SUMIF(P$4:P$20,\"*→え*\",$C$4:$C$20)/1000*図面!$AK$22","v":0},{"$f":"SUMIF(Q$4:Q$20,\"*→え*\",$C$4:$C$20)/1000*図面!$AK$22","v":0},{"$f":"SUMIF(R$4:R$20,\"*→え*\",$C$4:$C$20)/1000*図面!$AK$22","v":0},{"$f":"SUMIF(S$4:S$20,\"*→え*\",$C$4:$C$20)/1000*図面!$AK$22","v":0},{"$f":"SUMIF(T$4:T$20,\"*→え*\",$C$4:$C$20)/1000*図面!$AK$22","v":0},{"$f":"SUMIF(U$4:U$20,\"*→え*\",$C$4:$C$20)/1000*図面!$AK$22","v":0},{"$f":"SUMIF(V$4:V$20,\"*→え*\",$C$4:$C$20)/1000*図面!$AK$22","v":0},{"$f":"SUMIF(W$4:W$20,\"*→え*\",$C$4:$C$20)/1000*図面!$AK$22","v":0},{"$f":"SUMIF(X$4:X$20,\"*→え*\",$C$4:$C$20)/1000*図面!$AK$22","v":0},{"$f":"SUMIF(Y$4:Y$20,\"*→え*\",$C$4:$C$20)/1000*図面!$AK$22","v":0},{"$f":"SUMIF(Z$4:Z$20,\"*→え*\",$C$4:$C$20)/1000*図面!$AK$22","v":0}]
[null,null,"←え",{"$f":"SUMIF(D$4:D$20,\"*←え*\",$C$4:$C$20)/1000*図面!$AK$22","v":0},{"$f":"SUMIF(E$4:E$20,\"*←え*\",$C$4:$C$20)/1000*図面!$AK$22","v":0},{"$f":"SUMIF(F$4:F$20,\"*←え*\",$C$4:$C$20)/1000*図面!$AK$22","v":0},{"$f":"SUMIF(G$4:G$20,\"*←え*\",$C$4:$C$20)/1000*図面!$AK$22","v":0},{"$f":"SUMIF(H$4:H$20,\"*←え*\",$C$4:$C$20)/1000*図面!$AK$22","v":0},{"$f":"SUMIF(I$4:I$20,\"*←え*\",$C$4:$C$20)/1000*図面!$AK$22","v":0},{"$f":"SUMIF(J$4:J$20,\"*←え*\",$C$4:$C$20)/1000*図面!$AK$22","v":0},{"$f":"SUMIF(K$4:K$20,\"*←え*\",$C$4:$C$20)/1000*図面!$AK$22","v":0},{"$f":"SUMIF(L$4:L$20,\"*←え*\",$C$4:$C$20)/1000*図面!$AK$22","v":0},{"$f":"SUMIF(M$4:M$20,\"*←え*\",$C$4:$C$20)/1000*図面!$AK$22","v":0},{"$f":"SUMIF(N$4:N$20,\"*←え*\",$C$4:$C$20)/1000*図面!$AK$22","v":0},{"$f":"SUMIF(O$4:O$20,\"*←え*\",$C$4:$C$20)/1000*図面!$AK$22","v":0},{"$f":"SUMIF(P$4:P$20,\"*←え*\",$C$4:$C$20)/1000*図面!$AK$22","v":0},{"$f":"SUMIF(Q$4:Q$20,\"*←え*\",$C$4:$C$20)/1000*図面!$AK$22","v":0},{"$f":"SUMIF(R$4:R$20,\"*←え*\",$C$4:$C$20)/1000*図面!$AK$22","v":0},{"$f":"SUMIF(S$4:S$20,\"*←え*\",$C$4:$C$20)/1000*図面!$AK$22","v":0},{"$f":"SUMIF(T$4:T$20,\"*←え*\",$C$4:$C$20)/1000*図面!$AK$22","v":0},{"$f":"SUMIF(U$4:U$20,\"*←え*\",$C$4:$C$20)/1000*図面!$AK$22","v":0},{"$f":"SUMIF(V$4:V$20,\"*←え*\",$C$4:$C$20)/1000*図面!$AK$22","v":0},{"$f":"SUMIF(W$4:W$20,\"*←え*\",$C$4:$C$20)/1000*図面!$AK$22","v":0},{"$f":"SUMIF(X$4:X$20,\"*←え*\",$C$4:$C$20)/1000*図面!$AK$22","v":0},{"$f":"SUMIF(Y$4:Y$20,\"*←え*\",$C$4:$C$20)/1000*図面!$AK$22","v":0},{"$f":"SUMIF(Z$4:Z$20,\"*←え*\",$C$4:$C$20)/1000*図面!$AK$22","v":0}]
[null,null,"→お",{"$f":"SUMIF(D$4:D$20,\"*→お*\",$C$4:$C$20)/1000*図面!$AK$23","v":0},{"$f":"SUMIF(E$4:E$20,\"*→お*\",$C$4:$C$20)/1000*図面!$AK$23","v":0},{"$f":"SUMIF(F$4:F$20,\"*→お*\",$C$4:$C$20)/1000*図面!$AK$23","v":0},{"$f":"SUMIF(G$4:G$20,\"*→お*\",$C$4:$C$20)/1000*図面!$AK$23","v":0},{"$f":"SUMIF(H$4:H$20,\"*→お*\",$C$4:$C$20)/1000*図面!$AK$23","v":0},{"$f":"SUMIF(I$4:I$20,\"*→お*\",$C$4:$C$20)/1000*図面!$AK$23","v":0},{"$f":"SUMIF(J$4:J$20,\"*→お*\",$C$4:$C$20)/1000*図面!$AK$23","v":0},{"$f":"SUMIF(K$4:K$20,\"*→お*\",$C$4:$C$20)/1000*図面!$AK$23","v":0},{"$f":"SUMIF(L$4:L$20,\"*→お*\",$C$4:$C$20)/1000*図面!$AK$23","v":0},{"$f":"SUMIF(M$4:M$20,\"*→お*\",$C$4:$C$20)/1000*図面!$AK$23","v":0},{"$f":"SUMIF(N$4:N$20,\"*→お*\",$C$4:$C$20)/1000*図面!$AK$23","v":0},{"$f":"SUMIF(O$4:O$20,\"*→お*\",$C$4:$C$20)/1000*図面!$AK$23","v":0},{"$f":"SUMIF(P$4:P$20,\"*→お*\",$C$4:$C$20)/1000*図面!$AK$23","v":0},{"$f":"SUMIF(Q$4:Q$20,\"*→お*\",$C$4:$C$20)/1000*図面!$AK$23","v":0},{"$f":"SUMIF(R$4:R$20,\"*→お*\",$C$4:$C$20)/1000*図面!$AK$23","v":0},{"$f":"SUMIF(S$4:S$20,\"*→お*\",$C$4:$C$20)/1000*図面!$AK$23","v":0},{"$f":"SUMIF(T$4:T$20,\"*→お*\",$C$4:$C$20)/1000*図面!$AK$23","v":0},{"$f":"SUMIF(U$4:U$20,\"*→お*\",$C$4:$C$20)/1000*図面!$AK$23","v":0},{"$f":"SUMIF(V$4:V$20,\"*→お*\",$C$4:$C$20)/1000*図面!$AK$23","v":0},{"$f":"SUMIF(W$4:W$20,\"*→お*\",$C$4:$C$20)/1000*図面!$AK$23","v":0},{"$f":"SUMIF(X$4:X$20,\"*→お*\",$C$4:$C$20)/1000*図面!$AK$23","v":0},{"$f":"SUMIF(Y$4:Y$20,\"*→お*\",$C$4:$C$20)/1000*図面!$AK$23","v":0},{"$f":"SUMIF(Z$4:Z$20,\"*→お*\",$C$4:$C$20)/1000*図面!$AK$23","v":0}]
[null,null,"←お",{"$f":"SUMIF(D$4:D$20,\"*←お*\",$C$4:$C$20)/1000*図面!$AK$23","v":0},{"$f":"SUMIF(E$4:E$20,\"*←お*\",$C$4:$C$20)/1000*図面!$AK$23","v":0},{"$f":"SUMIF(F$4:F$20,\"*←お*\",$C$4:$C$20)/1000*図面!$AK$23","v":0},{"$f":"SUMIF(G$4:G$20,\"*←お*\",$C$4:$C$20)/1000*図面!$AK$23","v":0},{"$f":"SUMIF(H$4:H$20,\"*←お*\",$C$4:$C$20)/1000*図面!$AK$23","v":0},{"$f":"SUMIF(I$4:I$20,\"*←お*\",$C$4:$C$20)/1000*図面!$AK$23","v":0},{"$f":"SUMIF(J$4:J$20,\"*←お*\",$C$4:$C$20)/1000*図面!$AK$23","v":0},{"$f":"SUMIF(K$4:K$20,\"*←お*\",$C$4:$C$20)/1000*図面!$AK$23","v":0},{"$f":"SUMIF(L$4:L$20,\"*←お*\",$C$4:$C$20)/1000*図面!$AK$23","v":0},{"$f":"SUMIF(M$4:M$20,\"*←お*\",$C$4:$C$20)/1000*図面!$AK$23","v":0},{"$f":"SUMIF(N$4:N$20,\"*←お*\",$C$4:$C$20)/1000*図面!$AK$23","v":0},{"$f":"SUMIF(O$4:O$20,\"*←お*\",$C$4:$C$20)/1000*図面!$AK$23","v":0},{"$f":"SUMIF(P$4:P$20,\"*←お*\",$C$4:$C$20)/1000*図面!$AK$23","v":0},{"$f":"SUMIF(Q$4:Q$20,\"*←お*\",$C$4:$C$20)/1000*図面!$AK$23","v":0},{"$f":"SUMIF(R$4:R$20,\"*←お*\",$C$4:$C$20)/1000*図面!$AK$23","v":0},{"$f":"SUMIF(S$4:S$20,\"*←お*\",$C$4:$C$20)/1000*図面!$AK$23","v":0},{"$f":"SUMIF(T$4:T$20,\"*←お*\",$C$4:$C$20)/1000*図面!$AK$23","v":0},{"$f":"SUMIF(U$4:U$20,\"*←お*\",$C$4:$C$20)/1000*図面!$AK$23","v":0},{"$f":"SUMIF(V$4:V$20,\"*←お*\",$C$4:$C$20)/1000*図面!$AK$23","v":0},{"$f":"SUMIF(W$4:W$20,\"*←お*\",$C$4:$C$20)/1000*図面!$AK$23","v":0},{"$f":"SUMIF(X$4:X$20,\"*←お*\",$C$4:$C$20)/1000*図面!$AK$23","v":0},{"$f":"SUMIF(Y$4:Y$20,\"*←お*\",$C$4:$C$20)/1000*図面!$AK$23","v":0},{"$f":"SUMIF(Z$4:Z$20,\"*←お*\",$C$4:$C$20)/1000*図面!$AK$23","v":0}]
[null,null,"→か",{"$f":"SUMIF(D$4:D$20,\"*→か*\",$C$4:$C$20)/1000*図面!$AK$23","v":0},{"$f":"SUMIF(E$4:E$20,\"*→か*\",$C$4:$C$20)/1000*図面!$AK$23","v":0},{"$f":"SUMIF(F$4:F$20,\"*→か*\",$C$4:$C$20)/1000*図面!$AK$23","v":0},{"$f":"SUMIF(G$4:G$20,\"*→か*\",$C$4:$C$20)/1000*図面!$AK$23","v":0},{"$f":"SUMIF(H$4:H$20,\"*→か*\",$C$4:$C$20)/1000*図面!$AK$23","v":0},{"$f":"SUMIF(I$4:I$20,\"*→か*\",$C$4:$C$20)/1000*図面!$AK$23","v":0},{"$f":"SUMIF(J$4:J$20,\"*→か*\",$C$4:$C$20)/1000*図面!$AK$23","v":0},{"$f":"SUMIF(K$4:K$20,\"*→か*\",$C$4:$C$20)/1000*図面!$AK$23","v":0},{"$f":"SUMIF(L$4:L$20,\"*→か*\",$C$4:$C$20)/1000*図面!$AK$23","v":0},{"$f":"SUMIF(M$4:M$20,\"*→か*\",$C$4:$C$20)/1000*図面!$AK$23","v":0},{"$f":"SUMIF(N$4:N$20,\"*→か*\",$C$4:$C$20)/1000*図面!$AK$23","v":0},{"$f":"SUMIF(O$4:O$20,\"*→か*\",$C$4:$C$20)/1000*図面!$AK$23","v":0},{"$f":"SUMIF(P$4:P$20,\"*→か*\",$C$4:$C$20)/1000*図面!$AK$23","v":0},{"$f":"SUMIF(Q$4:Q$20,\"*→か*\",$C$4:$C$20)/1000*図面!$AK$23","v":0},{"$f":"SUMIF(R$4:R$20,\"*→か*\",$C$4:$C$20)/1000*図面!$AK$23","v":0},{"$f":"SUMIF(S$4:S$20,\"*→か*\",$C$4:$C$20)/1000*図面!$AK$23","v":0},{"$f":"SUMIF(T$4:T$20,\"*→か*\",$C$4:$C$20)/1000*図面!$AK$23","v":0},{"$f":"SUMIF(U$4:U$20,\"*→か*\",$C$4:$C$20)/1000*図面!$AK$23","v":0},{"$f":"SUMIF(V$4:V$20,\"*→か*\",$C$4:$C$20)/1000*図面!$AK$23","v":0},{"$f":"SUMIF(W$4:W$20,\"*→か*\",$C$4:$C$20)/1000*図面!$AK$23","v":0},{"$f":"SUMIF(X$4:X$20,\"*→か*\",$C$4:$C$20)/1000*図面!$AK$23","v":0},{"$f":"SUMIF(Y$4:Y$20,\"*→か*\",$C$4:$C$20)/1000*図面!$AK$23","v":0},{"$f":"SUMIF(Z$4:Z$20,\"*→か*\",$C$4:$C$20)/1000*図面!$AK$23","v":0}]
[null,null,"←か",{"$f":"SUMIF(D$4:D$20,\"*←か*\",$C$4:$C$20)/1000*図面!$AK$23","v":0},{"$f":"SUMIF(E$4:E$20,\"*←か*\",$C$4:$C$20)/1000*図面!$AK$23","v":0},{"$f":"SUMIF(F$4:F$20,\"*←か*\",$C$4:$C$20)/1000*図面!$AK$23","v":0},{"$f":"SUMIF(G$4:G$20,\"*←か*\",$C$4:$C$20)/1000*図面!$AK$23","v":0},{"$f":"SUMIF(H$4:H$20,\"*←か*\",$C$4:$C$20)/1000*図面!$AK$23","v":0},{"$f":"SUMIF(I$4:I$20,\"*←か*\",$C$4:$C$20)/1000*図面!$AK$23","v":0},{"$f":"SUMIF(J$4:J$20,\"*←か*\",$C$4:$C$20)/1000*図面!$AK$23","v":0},{"$f":"SUMIF(K$4:K$20,\"*←か*\",$C$4:$C$20)/1000*図面!$AK$23","v":0},{"$f":"SUMIF(L$4:L$20,\"*←か*\",$C$4:$C$20)/1000*図面!$AK$23","v":0},{"$f":"SUMIF(M$4:M$20,\"*←か*\",$C$4:$C$20)/1000*図面!$AK$23","v":0},{"$f":"SUMIF(N$4:N$20,\"*←か*\",$C$4:$C$20)/1000*図面!$AK$23","v":0},{"$f":"SUMIF(O$4:O$20,\"*←か*\",$C$4:$C$20)/1000*図面!$AK$23","v":0},{"$f":"SUMIF(P$4:P$20,\"*←か*\",$C$4:$C$20)/1000*図面!$AK$23","v":0},{"$f":"SUMIF(Q$4:Q$20,\"*←か*\",$C$4:$C$20)/1000*図面!$AK$23","v":0},{"$f":"SUMIF(R$4:R$20,\"*←か*\",$C$4:$C$20)/1000*図面!$AK$23","v":0},{"$f":"SUMIF(S$4:S$20,\"*←か*\",$C$4:$C$20)/1000*図面!$AK$23","v":0},{"$f":"SUMIF(T$4:T$20,\"*←か*\",$C$4:$C$20)/1000*図面!$AK$23","v":0},{"$f":"SUMIF(U$4:U$20,\"*←か*\",$C$4:$C$20)/1000*図面!$AK$23","v":0},{"$f":"SUMIF(V$4:V$20,\"*←か*\",$C$4:$C$20)/1000*図面!$AK$23","v":0},{"$f":"SUMIF(W$4:W$20,\"*←か*\",$C$4:$C$20)/1000*図面!$AK$23","v":0},{"$f":"SUMIF(X$4:X$20,\"*←か*\",$C$4:$C$20)/1000*図面!$AK$23","v":0},{"$f":"SUMIF(Y$4:Y$20,\"*←か*\",$C$4:$C$20)/1000*図面!$AK$23","v":0},{"$f":"SUMIF(Z$4:Z$20,\"*←か*\",$C$4:$C$20)/1000*図面!$AK$23","v":0}]
[null,null,"合計",{"$f":"SUM(D23:D34)","v":0},{"$f":"SUM(E23:E34)","v":0},0,0,0,0,0,0,0,0,0,0,0,0,0,0,0,0,0,0,0,0,0,{"$f":"SUM(D35:Z35)","v":0}]
[null,null,null,{"$f":"IF(COUNTIF(面積計算!D27,1),\"左\",\" \")","v":" "},{"$f":"IF(COUNTIF(面積計算!E27,1),\"左\",\" \")","v":" "},{"$f":"IF(COUNTIF(面積計算!F27,1),\"左\",\" \")","v":" "},{"$f":"IF(COUNTIF(面積計算!G27,1),\"左\",\" \")","v":" "},{"$f":"IF(COUNTIF(面積計算!H27,1),\"左\",\" \")","v":" "},{"$f":"IF(COUNTIF(面積計算!I27,1),\"左\",\" \")","v":" "},{"$f":"IF(COUNTIF(面積計算!J27,1),\"左\",\" \")","v":" "},{"$f":"IF(COUNTIF(面積計算!K27,1),\"左\",\" \")","v":" "},{"$f":"IF(COUNTIF(面積計算!L27,1),\"左\",\" \")","v":" "},{"$f":"IF(COUNTIF(面積計算!M27,1),\"左\",\" \")","v":" "},{"$f":"IF(COUNTIF(面積計算!N27,1),\"左\",\" \")","v":" "},{"$f":"IF(COUNTIF(面積計算!O27,1),\"左\",\" \")","v":" "},{"$f":"IF(COUNTIF(面積計算!P27,1),\"左\",\" \")","v":" "},{"$f":"IF(COUNTIF(面積計算!Q27,1),\"左\",\" \")","v":" "},{"$f":"IF(COUNTIF(面積計算!R27,1),\"左\",\" \")","v":" "},{"$f":"IF(COUNTIF(面積計算!S27,1),\"左\",\" \")","v":" "},{"$f":"IF(COUNTIF(面積計算!T27,1),\"左\",\" \")","v":" "},{"$f":"IF(COUNTIF(面積計算!U27,1),\"左\",\" \")","v":" "},{"$f":"IF(COUNTIF(面積計算!V27,1),\"左\",\" \")","v":" "},{"$f":"IF(COUNTIF(面積計算!W27,1),\"左\",\" \")","v":" "},{"$f":"IF(COUNTIF(面積計算!X27,1),\"左\",\" \")","v":" "},{"$f":"IF(COUNTIF(面積計算!Y27,1),\"左\",\" \")","v":" "},{"$f":"IF(COUNTIF(面積計算!Z27,1),\"左\",\" \")","v":" "}]
[null,null,null,{"$f":"IF(COUNTIF(面積計算!D29,1),\"右\",\" \")","v":" "},{"$f":"IF(COUNTIF(面積計算!E29,1),\"右\",\" \")","v":" "},{"$f":"IF(COUNTIF(面積計算!F29,1),\"右\",\" \")","v":" "},{"$f":"IF(COUNTIF(面積計算!G29,1),\"右\",\" \")","v":" "},{"$f":"IF(COUNTIF(面積計算!H29,1),\"右\",\" \")","v":" "},{"$f":"IF(COUNTIF(面積計算!I29,1),\"右\",\" \")","v":" "},{"$f":"IF(COUNTIF(面積計算!J29,1),\"右\",\" \")","v":" "},{"$f":"IF(COUNTIF(面積計算!K29,1),\"右\",\" \")","v":" "},{"$f":"IF(COUNTIF(面積計算!L29,1),\"右\",\" \")","v":" "},{"$f":"IF(COUNTIF(面積計算!M29,1),\"右\",\" \")","v":" "},{"$f":"IF(COUNTIF(面積計算!N29,1),\"右\",\" \")","v":" "},{"$f":"IF(COUNTIF(面積計算!O29,1),\"右\",\" \")","v":" "},{"$f":"IF(COUNTIF(面積計算!P29,1),\"右\",\" \")","v":" "},{"$f":"IF(COUNTIF(面積計算!Q29,1),\"右\",\" \")","v":" "},{"$f":"IF(COUNTIF(面積計算!R29,1),\"右\",\" \")","v":" "},{"$f":"IF(COUNTIF(面積計算!S29,1),\"右\",\" \")","v":" "},{"$f":"IF(COUNTIF(面積計算!T29,1),\"右\",\" \")","v":" "},{"$f":"IF(COUNTIF(面積計算!U29,1),\"右\",\" \")","v":" "},{"$f":"IF(COUNTIF(面積計算!V29,1),\"右\",\" \")","v":" "},{"$f":"IF(COUNTIF(面積計算!W29,1),\"右\",\" \")","v":" "},{"$f":"IF(COUNTIF(面積計算!X29,1),\"右\",\" \")","v":" "},{"$f":"IF(COUNTIF(面積計算!Y29,1),\"右\",\" \")","v":" "},{"$f":"IF(COUNTIF(面積計算!Z29,1),\"右\",\" \")","v":" "}]
[null,null,"左壁量",{"$f":"IF(COUNTIF(C36:E36,\"左\"),D35,0)","v":0},{"$f":"IF(COUNTIF(D36:F36,\"左\"),E35,0)","v":0},0,0,{"$f":"IF(COUNTIF(G36:I36,\"左\"),H35,0)","v":0},{"$f":"IF(COUNTIF(H36:J36,\"左\"),I35,0)","v":0},0,0,0,0,0,0,0,0,0,0,0,0,0,0,0,0,0]
[null,null,"→",{"$f":"D23+D25+D27+D29+D31+D33","v":0},{"$f":"E23+E25+E27+E29+E31+E33","v":0},0,0,0,0,0,0,0,0,0,0,0,0,0,0,0,0,0,0,0,0,0]
[null,null,"補正左",{"$f":"IF(AND(D36=\" \",C36=\"左\"),D38-D39,D38)","v":0},{"$f":"IF(AND(E36=\" \",D36=\"左\"),E38-E39,E38)","v":0},0,0,0,0,0,{"$f":"IF(AND(K36=\" \",J36=\"左\"),K38-K39,K38)","v":0},{"$f":"IF(AND(L36=\" \",K36=\"左\"),L38-L39,L38)","v":0},0,0,0,0,0,0,0,0,0,0,0,0,0,0,{"$f":"SUM(D40:Z40)","v":0}]
[null,null,"右壁量",{"$f":"IF(COUNTIF(C37:E37,\"右\"),D35,0)","v":0},{"$f":"IF(COUNTIF(D37:F37,\"右\"),E35,0)","v":0},0,0,0,0,0,0,0,0,0,0,0,0,0,0,0,0,0,0,0,0,0]
[null,null,"←",{"$f":"D24+D26+D28+D30+D32+D34","v":0},{"$f":"E24+E26+E28+E30+E32+E34","v":0},0,0,0,0,0,0,0,0,0,0,0,0,0,0,0,0,0,0,0,0,0]
[null,null,"補正右",{"$f":"IF(AND(D37=\" \",E37=\"右\"),D41-D42,D41)","v":0},{"$f":"IF(AND(E37=\" \",F37=\"右\"),E41-E42,E41)","v":0},0,0,0,0,0,{"$f":"IF(AND(K37=\" \",L37=\"右\"),K41-K42,K41)","v":0},0,0,0,0,0,0,{"$f":"IF(AND(R37=\" \",S37=\"右\"),R41-R42,R41)","v":0},{"$f":"IF(AND(S37=\" \",T37=\"右\"),S41-S42,S41)","v":0},{"$f":"IF(AND(T37=\" \",U37=\"右\"),T41-T42,T41)","v":0},{"$f":"IF(AND(U37=\" \",V37=\"右\"),U41-U42,U41)","v":0},0,0,0,0,0,{"$f":"SUM(D43:Z43)","v":0}]

{"sheet":"桁行軸組","index":10,"n_rows":69,"n_cols":39,"rows_kept":69,"cut":false,"hidden":true,"merged":[[14,34,14,45],[15,34,15,45],[9,29,9,30],[14,32,14,33],[15,32,15,33],[9,32,9,33],[10,32,10,33],[11,32,11,33],[12,32,12,33],[13,32,13,33],[9,34,9,45],[10,34,10,45],[11,34,11,45],[12,34,12,45],[13,34,13,45],[58,1,60,1],[19,1,21,1],[16,34,16,45],[18,34,18,45],[19,34,19,45],[20,34,20,45],[19,32,19,33],[20,32,20,33],[16,32,16,33],[18,32,18,33],[21,29,21,30]]}
[]
[null,null,null,null,null,null,null,null,null,null,null,null,null,null,null,null,null,null,null,null,null,null,null,null,null,null,null,null,null,"↓あ",1,"右",2,"右上",null,"↑あ",1,"右",2]
[null,null,null,null,null,null,null,null,null,"↓え","↓え",null,null,"↓え",null,null,"↓え",null,null,null,null,null,null,null,null,null,null,null,null,"↓い",2,"左",2,"左上",null,"↑い",2,"左",2]
[null,null,null,null,null,null,null,null,"→え",null,null,null,null,"←い",null,null,null,"←え",null,null,null,null,null,null,null,null,null,null,null,"↓う",3,"タスキ",4,"タスキ",null,"↑う",3,"タスキ",4]
[null,null,null,null,null,null,null,null,null,null,null,null,null,null,null,null,null,null,null,null,null,null,null,null,null,null,null,null,null,"↓え",4,"面材",2.5,"面材",null,"↑え",4,"面材",2.5]
[null,null,null,{"$f":"IF(OR(COUNTIF(C3:C4,\"→*\")>0,COUNTIF(C3:D3,\"↓*\")>0,COUNTIF(C4:D4,\"↑*\")>0,COUNTIF(D3:D4,\"←*\")>0,COUNTIF(D4,\"｀柱\")>0),\"柱\",\"無\")","v":"無"},{"$f":"IF(OR(COUNTIF(D3:D4,\"→*\")>0,COUNTIF(D3:E3,\"↓*\")>0,COUNTIF(D4:E4,\"↑*\")>0,COUNTIF(E3:E4,\"←*\")>0,COUNTIF(E4,\"｀柱\")>0),\"柱\",\"無\")","v":"無"},"無","無","無","無","柱","柱","柱",{"$f":"IF(OR(COUNTIF(L3:L4,\"→*\")>0,COUNTIF(L3:M3,\"↓*\")>0,COUNTIF(L4:M4,\"↑*\")>0,COUNTIF(M3:M4,\"←*\")>0,COUNTIF(M4,\"｀柱\")>0),\"柱\",\"無\")","v":"無"},{"$f":"IF(OR(COUNTIF(M3:M4,\"→*\")>0,COUNTIF(M3:N3,\"↓*\")>0,COUNTIF(M4:N4,\"↑*\")>0,COUNTIF(N3:N4,\"←*\")>0,COUNTIF(N4,\"｀柱\")>0),\"柱\",\"無\")","v":"柱"},"柱","無","柱","柱","無","無","無","無","無","無","無","無",null,null,null,"↓お",5,"右",4.5,"右面",null,"↑お",5,"右",4.5]
[null,null,null,{"$f":"IF(ColorCount(D3:D4,$AC$4)<2,IFERROR(VLOOKUP(D3,$AD$2:$AE$8,2,0),\"0\"),\" \")","v":" "},{"$f":"IF(ColorCount(E3:E4,$AC$4)<2,IFERROR(VLOOKUP(E3,$AD$2:$AE$8,2,0),\"0\"),\" \")","v":" "},{"$f":"IF(ColorCount(F3:F4,$AC$4)<2,IFERROR(VLOOKUP(F3,$AD$2:$AE$8,2,0),\"0\"),\" \")","v":" "},{"$f":"IF(ColorCount(G3:G4,$AC$4)<2,IFERROR(VLOOKUP(G3,$AD$2:$AE$8,2,0),\"0\"),\" \")","v":" "},{"$f":"IF(ColorCount(H3:H4,$AC$4)<2,IFERROR(VLOOKUP(H3,$AD$2:$AE$8,2,0),\"0\"),\" \")","v":" "},{"$f":"IF(ColorCount(I3:I4,$AC$4)<2,IFERROR(VLOOKUP(I3,$AD$2:$AE$8,2,0),\"0\"),\" \")","v":" "},{"$f":"IF(ColorCount(J3:J4,$AC$4)<2,IFERROR(VLOOKUP(J3,$AD$2:$AE$8,2,0),\"0\"),\" \")","v":4},{"$f":"IF(ColorCount(K3:K4,$AC$4)<2,IFERROR(VLOOKUP(K3,$AD$2:$AE$8,2,0),\"0\"),\" \")","v":4},{"$f":"IF(ColorCount(L3:L4,$AC$4)<2,IFERROR(VLOOKUP(L3,$AD$2:$AE$8,2,0),\"0\"),\" \")","v":0},{"$f":"IF(ColorCount(M3:M4,$AC$4)<2,IFERROR(VLOOKUP(M3,$AD$2:$AE$8,2,0),\"0\"),\" \")","v":0},{"$f":"IF(ColorCount(N3:N4,$AC$4)<2,IFERROR(VLOOKUP(N3,$AD$2:$AE$8,2,0),\"0\"),\" \")","v":4},{"$f":"IF(ColorCount(O3:O4,$AC$4)<2,IFERROR(VLOOKUP(O3,$AD$2:$AE$8,2,0),\"0\"),\" \")","v":0},{"$f":"IF(ColorCount(P3:P4,$AC$4)<2,IFERROR(VLOOKUP(P3,$AD$2:$AE$8,2,0),\"0\"),\" \")","v":0},{"$f":"IF(ColorCount(Q3:Q4,$AC$4)<2,IFERROR(VLOOKUP(Q3,$AD$2:$AE$8,2,0),\"0\"),\" \")","v":4},{"$f":"IF(ColorCount(R3:R4,$AC$4)<2,IFERROR(VLOOKUP(R3,$AD$2:$AE$8,2,0),\"0\"),\" \")","v":" "},{"$f":"IF(ColorCount(S3:S4,$AC$4)<2,IFERROR(VLOOKUP(S3,$AD$2:$AE$8,2,0),\"0\"),\" \")","v":" "},{"$f":"IF(ColorCount(T3:T4,$AC$4)<2,IFERROR(VLOOKUP(T3,$AD$2:$AE$8,2,0),\"0\"),\" \")","v":" "},{"$f":"IF(ColorCount(U3:U4,$AC$4)<2,IFERROR(VLOOKUP(U3,$AD$2:$AE$8,2,0),\"0\"),\" \")","v":" "},{"$f":"IF(ColorCount(V3:V4,$AC$4)<2,IFERROR(VLOOKUP(V3,$AD$2:$AE$8,2,0),\"0\"),\" \")","v":" "},{"$f":"IF(ColorCount(W3:W4,$AC$4)<2,IFERROR(VLOOKUP(W3,$AD$2:$AE$8,2,0),\"0\"),\" \")","v":" "},{"$f":"IF(ColorCount(X3:X4,$AC$4)<2,IFERROR(VLOOKUP(X3,$AD$2:$AE$8,2,0),\"0\"),\" \")","v":" "},{"$f":"IF(ColorCount(Y3:Y4,$AC$4)<2,IFERROR(VLOOKUP(Y3,$AD$2:$AE$8,2,0),\"0\"),\" \")","v":" "},{"$f":"IF(ColorCount(Z3:Z4,$AC$4)<2,IFERROR(VLOOKUP(Z3,$AD$2:$AE$8,2,0),\"0\"),\" \")","v":" "},null,null,null,"↓か",6,"左",4.5,"左面",null,"↑か",6,"左",4.5]
[null,null,null,{"$f":"IF(ColorCount(D3:D4,$AC$4)<2,IFERROR(VLOOKUP(D4,$AJ$2:$AK$8,2,0),\"0\"),\" \")","v":" "},{"$f":"IF(ColorCount(E3:E4,$AC$4)<2,IFERROR(VLOOKUP(E4,$AJ$2:$AK$8,2,0),\"0\"),\" \")","v":" "},{"$f":"IF(ColorCount(F3:F4,$AC$4)<2,IFERROR(VLOOKUP(F4,$AJ$2:$AK$8,2,0),\"0\"),\" \")","v":" "},{"$f":"IF(ColorCount(G3:G4,$AC$4)<2,IFERROR(VLOOKUP(G4,$AJ$2:$AK$8,2,0),\"0\"),\" \")","v":" "},{"$f":"IF(ColorCount(H3:H4,$AC$4)<2,IFERROR(VLOOKUP(H4,$AJ$2:$AK$8,2,0),\"0\"),\" \")","v":" "},{"$f":"IF(ColorCount(I3:I4,$AC$4)<2,IFERROR(VLOOKUP(I4,$AJ$2:$AK$8,2,0),\"0\"),\" \")","v":" "},{"$f":"IF(ColorCount(J3:J4,$AC$4)<2,IFERROR(VLOOKUP(J4,$AJ$2:$AK$8,2,0),\"0\"),\" \")","v":0},{"$f":"IF(ColorCount(K3:K4,$AC$4)<2,IFERROR(VLOOKUP(K4,$AJ$2:$AK$8,2,0),\"0\"),\" \")","v":0},{"$f":"IF(ColorCount(L3:L4,$AC$4)<2,IFERROR(VLOOKUP(L4,$AJ$2:$AK$8,2,0),\"0\"),\" \")","v":0},{"$f":"IF(ColorCount(M3:M4,$AC$4)<2,IFERROR(VLOOKUP(M4,$AJ$2:$AK$8,2,0),\"0\"),\" \")","v":0},{"$f":"IF(ColorCount(N3:N4,$AC$4)<2,IFERROR(VLOOKUP(N4,$AJ$2:$AK$8,2,0),\"0\"),\" \")","v":"0"},{"$f":"IF(ColorCount(O3:O4,$AC$4)<2,IFERROR(VLOOKUP(O4,$AJ$2:$AK$8,2,0),\"0\"),\" \")","v":0},{"$f":"IF(ColorCount(P3:P4,$AC$4)<2,IFERROR(VLOOKUP(P4,$AJ$2:$AK$8,2,0),\"0\"),\" \")","v":0},{"$f":"IF(ColorCount(Q3:Q4,$AC$4)<2,IFERROR(VLOOKUP(Q4,$AJ$2:$AK$8,2,0),\"0\"),\" \")","v":0},{"$f":"IF(ColorCount(R3:R4,$AC$4)<2,IFERROR(VLOOKUP(R4,$AJ$2:$AK$8,2,0),\"0\"),\" \")","v":" "},{"$f":"IF(ColorCount(S3:S4,$AC$4)<2,IFERROR(VLOOKUP(S4,$AJ$2:$AK$8,2,0),\"0\"),\" \")","v":" "},{"$f":"IF(ColorCount(T3:T4,$AC$4)<2,IFERROR(VLOOKUP(T4,$AJ$2:$AK$8,2,0),\"0\"),\" \")","v":" "},{"$f":"IF(ColorCount(U3:U4,$AC$4)<2,IFERROR(VLOOKUP(U4,$AJ$2:$AK$8,2,0),\"0\"),\" \")","v":" "},{"$f":"IF(ColorCount(V3:V4,$AC$4)<2,IFERROR(VLOOKUP(V4,$AJ$2:$AK$8,2,0),\"0\"),\" \")","v":" "},{"$f":"IF(ColorCount(W3:W4,$AC$4)<2,IFERROR(VLOOKUP(W4,$AJ$2:$AK$8,2,0),\"0\"),\" \")","v":" "},{"$f":"IF(ColorCount(X3:X4,$AC$4)<2,IFERROR(VLOOKUP(X4,$AJ$2:$AK$8,2,0),\"0\"),\" \")","v":" "},{"$f":"IF(ColorCount(Y3:Y4,$AC$4)<2,IFERROR(VLOOKUP(Y4,$AJ$2:$AK$8,2,0),\"0\"),\" \")","v":" "},{"$f":"IF(ColorCount(Z3:Z4,$AC$4)<2,IFERROR(VLOOKUP(Z4,$AJ$2:$AK$8,2,0),\"0\"),\" \")","v":" "},null,null,null,0,0,"無",0,"無",null,0,0,"無",0]
[null,null,null,{"$f":"IF(D7=\" \",\"\",D7+D8)","v":""},{"$f":"IF(E7=\" \",\"\",E7+E8)","v":""},{"$f":"IF(F7=\" \",\"\",F7+F8)","v":""},{"$f":"IF(G7=\" \",\"\",G7+G8)","v":""},{"$f":"IF(H7=\" \",\"\",H7+H8)","v":""},{"$f":"IF(I7=\" \",\"\",I7+I8)","v":""},4,{"$f":"IF(K7=\" \",\"\",K7+K8)","v":4},0,0,4,0,0,4,"","","","","","","","","",null,null,null,null,null,0,0]
[null,null,null,{"$f":"IF(D7=\" \",0,VLOOKUP(D7+D8,$AE$2:$AF$8,2,0))","v":0},0,0,0,0,0,"面材","面材","無","無","面材","無","無","面材",0,0,0,0,0,0,0,0,0,null,null,null,"N値",null,null,"必要耐力（kN)",null,"金物等（これらと同等以上の接合方法を含む）"]
[null,null,null,{"$f":"IF(D7=\" \",\"無\",VLOOKUP(D7+D8,$AE$2:$AF$8,2,0))","v":"無"},"無","無","無","無","無","面材","面材","無","無","面材","無","無","面材","無","無","無","無","無","無","無","無","無",null,null,null,0,"以下","い",0,null,"短ほぞ差し、かすがい打"]
[null,null,"倍率",{"$f":"IF(D10=0,\"\",VLOOKUP(D9,$AE$2:$AG$9,3,0))","v":""},"","","","","",2.5,2.5,0,0,2.5,0,0,2.5,"","","","","","","","","",null,null,null,0.65,"以下","ろ",3.4,null,"長ほぞ差し込み栓打、L字形かど金物くぎCN65×5本"]
[null,null,"出隅(0.8)他(0.5)",{"$f":"IF(ColorCount(C3:D4,$C$2)=3,0.8,IF(AND(D10=0,C10=0),\"\",0.5))","v":""},{"$f":"IF(ColorCount(D3:E4,$C$2)=3,0.8,IF(AND(E10=0,D10=0),\"\",0.5))","v":""},{"$f":"IF(ColorCount(E3:F4,$C$2)=3,0.8,IF(AND(F10=0,E10=0),\"\",0.5))","v":""},{"$f":"IF(ColorCount(F3:G4,$C$2)=3,0.8,IF(AND(G10=0,F10=0),\"\",0.5))","v":""},{"$f":"IF(ColorCount(G3:H4,$C$2)=3,0.8,IF(AND(H10=0,G10=0),\"\",0.5))","v":""},{"$f":"IF(ColorCount(H3:I4,$C$2)=3,0.8,IF(AND(I10=0,H10=0),\"\",0.5))","v":""},{"$f":"IF(ColorCount(I3:J4,$C$2)=3,0.8,IF(AND(J10=0,I10=0),\"\",0.5))","v":0.8},{"$f":"IF(ColorCount(J3:K4,$C$2)=3,0.8,IF(AND(K10=0,J10=0),\"\",0.5))","v":0.5},{"$f":"IF(ColorCount(K3:L4,$C$2)=3,0.8,IF(AND(L10=0,K10=0),\"\",0.5))","v":0.5},{"$f":"IF(ColorCount(L3:M4,$C$2)=3,0.8,IF(AND(M10=0,L10=0),\"\",0.5))","v":0.5},{"$f":"IF(ColorCount(M3:N4,$C$2)=3,0.8,IF(AND(N10=0,M10=0),\"\",0.5))","v":0.5},{"$f":"IF(ColorCount(N3:O4,$C$2)=3,0.8,IF(AND(O10=0,N10=0),\"\",0.5))","v":0.5},{"$f":"IF(ColorCount(O3:P4,$C$2)=3,0.8,IF(AND(P10=0,O10=0),\"\",0.5))","v":0.5},{"$f":"IF(ColorCount(P3:Q4,$C$2)=3,0.8,IF(AND(Q10=0,P10=0),\"\",0.5))","v":0.5},{"$f":"IF(ColorCount(Q3:R4,$C$2)=3,0.8,IF(AND(R10=0,Q10=0),\"\",0.5))","v":0.8},{"$f":"IF(ColorCount(R3:S4,$C$2)=3,0.8,IF(AND(S10=0,R10=0),\"\",0.5))","v":""},{"$f":"IF(ColorCount(S3:T4,$C$2)=3,0.8,IF(AND(T10=0,S10=0),\"\",0.5))","v":""},{"$f":"IF(ColorCount(T3:U4,$C$2)=3,0.8,IF(AND(U10=0,T10=0),\"\",0.5))","v":""},{"$f":"IF(ColorCount(U3:V4,$C$2)=3,0.8,IF(AND(V10=0,U10=0),\"\",0.5))","v":""},{"$f":"IF(ColorCount(V3:W4,$C$2)=3,0.8,IF(AND(W10=0,V10=0),\"\",0.5))","v":""},{"$f":"IF(ColorCount(W3:X4,$C$2)=3,0.8,IF(AND(X10=0,W10=0),\"\",0.5))","v":""},{"$f":"IF(ColorCount(X3:Y4,$C$2)=3,0.8,IF(AND(Y10=0,X10=0),\"\",0.5))","v":""},{"$f":"IF(ColorCount(Y3:Z4,$C$2)=3,0.8,IF(AND(Z10=0,Y10=0),\"\",0.5))","v":""},null,null,null,1,"以下","は",5.0999999999999996,null,"T字形かど金物くぎCN65×5本、山形プレート金物くぎCN90×8本"]
[null,null,"柱頭補正値",{"$f":"IF(OR(AND(C11=\"右\",OR(D11=\"面材\",D11=\"無\")),AND(OR(C11=\"面材\",C11=\"無\"),D11=\"左\")),0.5,\"\")","v":""},"","","","","","","","","","","","","","","","","","","","","","",null,null,null,1.4,"以下","に",7.5,null,"羽子板ボルトφ12mm、短冊金物"]
[null,null,"柱脚補正値",{"$f":"IF(OR(AND(C11=\"左\",OR(D11=\"面材\",D11=\"無\")),AND(OR(C11=\"面材\",C11=\"無\"),D11=\"右\")),-0.5,\"\")","v":""},"","","","","","","","","","","","","","","","","","","","","","",null,null,null,1.6,"以下","ほ",8.5,null,"羽子板ボルトφ12mmに長さ50mm径4.5mmのスクリュー釘"]
[null,null,"両端片筋かい補正値",{"$f":"IF(OR(AND(C11=\"右\",D11=\"右\"),AND(C11=\"左\",D11=\"左\"),AND(C11=\"右\",D11=\"左\"),AND(C11=\"左\",D11=\"右\")),1,\"\")","v":""},"","","","","","","","","","","","","","","","","","","","","","",null,null,null,1.8,"以下","へ",10,null,"10kN用引き寄せ金物"]
[null,null,"タスキ+片筋かい補正値",{"$f":"IF(OR(AND(C11=\"タスキ\",OR(D11=\"右\",D11=\"左\")),AND(OR(C11=\"右\",C11=\"左\"),D11=\"タスキ\")),0.5,\"\")","v":""},"","","","","","","","","","","","","","","","","","","","","","",null,null,null,2.8,"以下","と",15,null,"15kN用引き寄せ金物"]
[null,null,null,{"$f":"IF(D13=\"\",\" \",IF(AND(OR(D19=\"\",D19=\"無\"),D6=\"柱\"),\"←柱\",D19))","v":" "},{"$f":"IF(E13=\"\",\" \",IF(AND(OR(E19=\"\",E19=\"無\"),E6=\"柱\"),\"←柱\",E19))","v":" "}," "," "," "," ",{"$f":"IF(J13=\"\",\" \",IF(AND(OR(J19=\"\",J19=\"無\"),J6=\"柱\"),\"←柱\",J19))","v":"面材"},"面材","←柱","無","面材","←柱","無","面材","←柱"," "," "," "," "," "," "," "," "]
[null,null,null,{"$f":"IF(D9=\"\",\"\",VLOOKUP(D9,$AE$2:$AH$8,4,0))","v":""},"","","","","",{"$f":"IF(J9=\"\",\"\",VLOOKUP(J9,$AE$2:$AH$8,4,0))","v":"面材"},"面材","無","無","面材","無","無","面材","","","","","","","","","",null,null,null,3.7,"以下","ち",20,null,"20kN用引き寄せ金物"]
[null,"A2","左右倍率大",{"$f":"IF(D13=\"\",\"\",MAX(C12,D12))","v":""},"","","","","",2.5,2.5,2.5,0,2.5,2.5,0,2.5,2.5,"","","","","","","","",null,null,null,5.6,"以下","ぬ",30,null,"30kN用引き寄せ金物"]
[null,null,"左右倍率小",{"$f":"IF(D13=\"\",\"\",MINA(C12,D12))","v":""},"","","","","",0,2.5,0,0,0,0,0,0,0,"","","","","","","","",null,null,null,5.6,"超","-","N×5.3",null,"N×5.3kNに見合う金物"]
[null,null,"補正値",{"$f":"IF(D13=\"\",\"\",SUM(D14:D17))","v":""},"","","","","",0,0,{"$f":"IF(L13=\"\",\"\",SUM(L14:L17))","v":0},0,0,0,0,0,0,"","","","","","","",""]
[null,"B2","出隅(0.8)他(0.5)",{"$f":"IF(AND(D20=0,D21=0,D6=\"無\"),\"\",D13)","v":""},"","","","","",0.8,0.5,{"$f":"IF(AND(L20=0,L21=0,L6=\"無\"),\"\",L13)","v":0.5},{"$f":"IF(AND(M20=0,M21=0,M6=\"無\"),\"\",M13)","v":""},{"$f":"IF(AND(N20=0,N21=0,N6=\"無\"),\"\",N13)","v":0.5},0.5,"",{"$f":"IF(AND(Q20=0,Q21=0,Q6=\"無\"),\"\",Q13)","v":0.5},0.8,"","","","","","","",""]
[null,"L","出隅(0.4)他(0.6)",{"$f":"IF(D23=\"\",\"\",IF(D23=0.8,0.4,(IF(D23=0.5,0.6,0))))","v":""},"","","","","",{"$f":"IF(J23=\"\",\"\",IF(J23=0.8,0.4,(IF(J23=0.5,0.6,0))))","v":0.4},0.6,0.6,"",{"$f":"IF(N23=\"\",\"\",IF(N23=0.8,0.4,(IF(N23=0.5,0.6,0))))","v":0.6},{"$f":"IF(O23=\"\",\"\",IF(O23=0.8,0.4,(IF(O23=0.5,0.6,0))))","v":0.6},"",{"$f":"IF(Q23=\"\",\"\",IF(Q23=0.8,0.4,(IF(Q23=0.5,0.6,0))))","v":0.6},0.4,"","","","","","","",""]
[null,"N","N値",{"$f":"IF(D24=\"\",\"\",(D20-D21+D22)*D23-D24)","v":""},"","","","","",{"$f":"IF(J24=\"\",\"\",(J20-J21+J22)*J23-J24)","v":1.6},-0.6,{"$f":"IF(L24=\"\",\"\",(L20-L21+L22)*L23-L24)","v":0.65},{"$f":"IF(M24=\"\",\"\",(M20-M21+M22)*M23-M24)","v":""},0.65,0.65,"",0.65,1.6,"",{"$f":"IF(T24=\"\",\"\",(T20-T21+T22)*T23-T24)","v":""},"","","","","","",null,null,{"$f":"(K20-K21+K22)*K23","v":0}]
[null,null,"金物",{"$f":"IF(D25=\"\",\" \",IF(D25<=0,\"い\",IF(D25<=0.65,\"ろ\",IF(D25<=1,\"は\",IF(D25<=1.4,\"に\",IF(D25<=1.6,\"ほ\",IF(D25<=1.8,\"へ\",IF(D25<=2.8,\"と\",IF(D25<=3.7,\"ち\",IF(D25<=4.7,\"り\",IF(D25<=5.6,\"ぬ\",IF(D25>5.6,\"-\"))))))))))))","v":" "},{"$f":"IF(E25=\"\",\" \",IF(E25<=0,\"い\",IF(E25<=0.65,\"ろ\",IF(E25<=1,\"は\",IF(E25<=1.4,\"に\",IF(E25<=1.6,\"ほ\",IF(E25<=1.8,\"へ\",IF(E25<=2.8,\"と\",IF(E25<=3.7,\"ち\",IF(E25<=4.7,\"り\",IF(E25<=5.6,\"ぬ\",IF(E25>5.6,\"-\"))))))))))))","v":" "}," "," "," "," ",{"$f":"IF(J25=\"\",\" \",IF(J25<=0,\"い\",IF(J25<=0.65,\"ろ\",IF(J25<=1,\"は\",IF(J25<=1.4,\"に\",IF(J25<=1.6,\"ほ\",IF(J25<=1.8,\"へ\",IF(J25<=2.8,\"と\",IF(J25<=3.7,\"ち\",IF(J25<=4.7,\"り\",IF(J25<=5.6,\"ぬ\",IF(J25>5.6,\"-\"))))))))))))","v":"ほ"},"い","ろ"," ","ろ","ろ"," ","ろ","ほ"," "," "," "," "," "," "," "," "]
[]
[]
[]
[]
[null,null,null,null,null,null,null,null,null,"↓え",null,null,"↓え",null,null,null,"↓え",null,"↓え"]
[null,null,null,null,null,null,null,null,"→え",null,null,null,null,"←い",null,"｀柱",null,"←い",null,"←え"]
[]
[null,null,null,{"$f":"IF(OR(COUNTIF(C31:C32,\"→*\")>0,COUNTIF(C31:D31,\"↓*\")>0,COUNTIF(C32:D32,\"↑*\")>0,COUNTIF(D31:D32,\"←*\")>0,COUNTIF(D32,\"｀柱\")>0),\"柱\",\"無\")","v":"無"},"無","無","無","無","無","柱","柱","無","柱","柱","無","柱","柱","柱","柱","柱","無","無","無","無","無","無"]
[null,null,null,{"$f":"IF(ColorCount(D31:D32,$AC$4)<2,IFERROR(VLOOKUP(D31,$AD$2:$AE$8,2,0),\"0\"),\" \")","v":" "},{"$f":"IF(ColorCount(E31:E32,$AC$4)<2,IFERROR(VLOOKUP(E31,$AD$2:$AE$8,2,0),\"0\"),\" \")","v":" "},{"$f":"IF(ColorCount(F31:F32,$AC$4)<2,IFERROR(VLOOKUP(F31,$AD$2:$AE$8,2,0),\"0\"),\" \")","v":" "},{"$f":"IF(ColorCount(G31:G32,$AC$4)<2,IFERROR(VLOOKUP(G31,$AD$2:$AE$8,2,0),\"0\"),\" \")","v":" "},{"$f":"IF(ColorCount(H31:H32,$AC$4)<2,IFERROR(VLOOKUP(H31,$AD$2:$AE$8,2,0),\"0\"),\" \")","v":" "},{"$f":"IF(ColorCount(I31:I32,$AC$4)<2,IFERROR(VLOOKUP(I31,$AD$2:$AE$8,2,0),\"0\"),\" \")","v":" "},{"$f":"IF(ColorCount(J31:J32,$AC$4)<2,IFERROR(VLOOKUP(J31,$AD$2:$AE$8,2,0),\"0\"),\" \")","v":4},{"$f":"IF(ColorCount(K31:K32,$AC$4)<2,IFERROR(VLOOKUP(K31,$AD$2:$AE$8,2,0),\"0\"),\" \")","v":0},{"$f":"IF(ColorCount(L31:L32,$AC$4)<2,IFERROR(VLOOKUP(L31,$AD$2:$AE$8,2,0),\"0\"),\" \")","v":0},{"$f":"IF(ColorCount(M31:M32,$AC$4)<2,IFERROR(VLOOKUP(M31,$AD$2:$AE$8,2,0),\"0\"),\" \")","v":4},{"$f":"IF(ColorCount(N31:N32,$AC$4)<2,IFERROR(VLOOKUP(N31,$AD$2:$AE$8,2,0),\"0\"),\" \")","v":0},{"$f":"IF(ColorCount(O31:O32,$AC$4)<2,IFERROR(VLOOKUP(O31,$AD$2:$AE$8,2,0),\"0\"),\" \")","v":0},{"$f":"IF(ColorCount(P31:P32,$AC$4)<2,IFERROR(VLOOKUP(P31,$AD$2:$AE$8,2,0),\"0\"),\" \")","v":0},{"$f":"IF(ColorCount(Q31:Q32,$AC$4)<2,IFERROR(VLOOKUP(Q31,$AD$2:$AE$8,2,0),\"0\"),\" \")","v":4},{"$f":"IF(ColorCount(R31:R32,$AC$4)<2,IFERROR(VLOOKUP(R31,$AD$2:$AE$8,2,0),\"0\"),\" \")","v":0},{"$f":"IF(ColorCount(S31:S32,$AC$4)<2,IFERROR(VLOOKUP(S31,$AD$2:$AE$8,2,0),\"0\"),\" \")","v":4},{"$f":"IF(ColorCount(T31:T32,$AC$4)<2,IFERROR(VLOOKUP(T31,$AD$2:$AE$8,2,0),\"0\"),\" \")","v":" "},{"$f":"IF(ColorCount(U31:U32,$AC$4)<2,IFERROR(VLOOKUP(U31,$AD$2:$AE$8,2,0),\"0\"),\" \")","v":" "},{"$f":"IF(ColorCount(V31:V32,$AC$4)<2,IFERROR(VLOOKUP(V31,$AD$2:$AE$8,2,0),\"0\"),\" \")","v":" "},{"$f":"IF(ColorCount(W31:W32,$AC$4)<2,IFERROR(VLOOKUP(W31,$AD$2:$AE$8,2,0),\"0\"),\" \")","v":" "},{"$f":"IF(ColorCount(X31:X32,$AC$4)<2,IFERROR(VLOOKUP(X31,$AD$2:$AE$8,2,0),\"0\"),\" \")","v":" "},{"$f":"IF(ColorCount(Y31:Y32,$AC$4)<2,IFERROR(VLOOKUP(Y31,$AD$2:$AE$8,2,0),\"0\"),\" \")","v":" "},{"$f":"IF(ColorCount(Z31:Z32,$AC$4)<2,IFERROR(VLOOKUP(Z31,$AD$2:$AE$8,2,0),\"0\"),\" \")","v":" "}]
[null,null,null,{"$f":"IF(ColorCount(D31:D32,$AC$4)<2,IFERROR(VLOOKUP(D32,$AJ$2:$AK$8,2,0),\"0\"),\" \")","v":" "},{"$f":"IF(ColorCount(E31:E32,$AC$4)<2,IFERROR(VLOOKUP(E32,$AJ$2:$AK$8,2,0),\"0\"),\" \")","v":" "},{"$f":"IF(ColorCount(F31:F32,$AC$4)<2,IFERROR(VLOOKUP(F32,$AJ$2:$AK$8,2,0),\"0\"),\" \")","v":" "},{"$f":"IF(ColorCount(G31:G32,$AC$4)<2,IFERROR(VLOOKUP(G32,$AJ$2:$AK$8,2,0),\"0\"),\" \")","v":" "},{"$f":"IF(ColorCount(H31:H32,$AC$4)<2,IFERROR(VLOOKUP(H32,$AJ$2:$AK$8,2,0),\"0\"),\" \")","v":" "},{"$f":"IF(ColorCount(I31:I32,$AC$4)<2,IFERROR(VLOOKUP(I32,$AJ$2:$AK$8,2,0),\"0\"),\" \")","v":" "},{"$f":"IF(ColorCount(J31:J32,$AC$4)<2,IFERROR(VLOOKUP(J32,$AJ$2:$AK$8,2,0),\"0\"),\" \")","v":0},{"$f":"IF(ColorCount(K31:K32,$AC$4)<2,IFERROR(VLOOKUP(K32,$AJ$2:$AK$8,2,0),\"0\"),\" \")","v":0},{"$f":"IF(ColorCount(L31:L32,$AC$4)<2,IFERROR(VLOOKUP(L32,$AJ$2:$AK$8,2,0),\"0\"),\" \")","v":0},{"$f":"IF(ColorCount(M31:M32,$AC$4)<2,IFERROR(VLOOKUP(M32,$AJ$2:$AK$8,2,0),\"0\"),\" \")","v":0},{"$f":"IF(ColorCount(N31:N32,$AC$4)<2,IFERROR(VLOOKUP(N32,$AJ$2:$AK$8,2,0),\"0\"),\" \")","v":"0"},{"$f":"IF(ColorCount(O31:O32,$AC$4)<2,IFERROR(VLOOKUP(O32,$AJ$2:$AK$8,2,0),\"0\"),\" \")","v":0},{"$f":"IF(ColorCount(P31:P32,$AC$4)<2,IFERROR(VLOOKUP(P32,$AJ$2:$AK$8,2,0),\"0\"),\" \")","v":"0"},{"$f":"IF(ColorCount(Q31:Q32,$AC$4)<2,IFERROR(VLOOKUP(Q32,$AJ$2:$AK$8,2,0),\"0\"),\" \")","v":0},{"$f":"IF(ColorCount(R31:R32,$AC$4)<2,IFERROR(VLOOKUP(R32,$AJ$2:$AK$8,2,0),\"0\"),\" \")","v":"0"},{"$f":"IF(ColorCount(S31:S32,$AC$4)<2,IFERROR(VLOOKUP(S32,$AJ$2:$AK$8,2,0),\"0\"),\" \")","v":0},{"$f":"IF(ColorCount(T31:T32,$AC$4)<2,IFERROR(VLOOKUP(T32,$AJ$2:$AK$8,2,0),\"0\"),\" \")","v":" "},{"$f":"IF(ColorCount(U31:U32,$AC$4)<2,IFERROR(VLOOKUP(U32,$AJ$2:$AK$8,2,0),\"0\"),\" \")","v":" "},{"$f":"IF(ColorCount(V31:V32,$AC$4)<2,IFERROR(VLOOKUP(V32,$AJ$2:$AK$8,2,0),\"0\"),\" \")","v":" "},{"$f":"IF(ColorCount(W31:W32,$AC$4)<2,IFERROR(VLOOKUP(W32,$AJ$2:$AK$8,2,0),\"0\"),\" \")","v":" "},{"$f":"IF(ColorCount(X31:X32,$AC$4)<2,IFERROR(VLOOKUP(X32,$AJ$2:$AK$8,2,0),\"0\"),\" \")","v":" "},{"$f":"IF(ColorCount(Y31:Y32,$AC$4)<2,IFERROR(VLOOKUP(Y32,$AJ$2:$AK$8,2,0),\"0\"),\" \")","v":" "},{"$f":"IF(ColorCount(Z31:Z32,$AC$4)<2,IFERROR(VLOOKUP(Z32,$AJ$2:$AK$8,2,0),\"0\"),\" \")","v":" "}]
[null,null,null,{"$f":"IF(D35=\" \",\"\",D35+D36)","v":""},{"$f":"IF(E35=\" \",\"\",E35+E36)","v":""},{"$f":"IF(F35=\" \",\"\",F35+F36)","v":""},{"$f":"IF(G35=\" \",\"\",G35+G36)","v":""},{"$f":"IF(H35=\" \",\"\",H35+H36)","v":""},{"$f":"IF(I35=\" \",\"\",I35+I36)","v":""},4,0,0,4,0,0,0,4,0,4,"","","","","","",""]
[null,null,null,{"$f":"IF(D35=\" \",0,VLOOKUP(D35+D36,$AE$2:$AF$8,2,0))","v":0},0,0,0,0,0,"面材","無","無","面材","無","無","無","面材","無","面材",0,0,0,0,0,0,0]
[null,null,null,{"$f":"IF(D35=\" \",\"無\",VLOOKUP(D35+D36,$AE$2:$AF$8,2,0))","v":"無"},"無","無","無","無","無","面材","無","無","面材","無","無","無","面材","無","面材","無","無","無","無","無","無","無"]
[null,null,"倍率",{"$f":"IF(D38=0,\"\",VLOOKUP(D37,$AE$2:$AG$9,3,0))","v":""},"","","","","",2.5,0,0,2.5,0,0,0,2.5,0,2.5,"","","","","","",""]
[null,null,"出隅(0.8)他(0.5)",{"$f":"IF(ColorCount(C31:D32,$AC$4)=3,0.8,IF(AND(D38=0,C38=0),\"\",0.5))","v":""},{"$f":"IF(ColorCount(D31:E32,$AC$4)=3,0.8,IF(AND(E38=0,D38=0),\"\",0.5))","v":""},{"$f":"IF(ColorCount(E31:F32,$AC$4)=3,0.8,IF(AND(F38=0,E38=0),\"\",0.5))","v":""},{"$f":"IF(ColorCount(F31:G32,$AC$4)=3,0.8,IF(AND(G38=0,F38=0),\"\",0.5))","v":""},{"$f":"IF(ColorCount(G31:H32,$AC$4)=3,0.8,IF(AND(H38=0,G38=0),\"\",0.5))","v":""},{"$f":"IF(ColorCount(H31:I32,$AC$4)=3,0.8,IF(AND(I38=0,H38=0),\"\",0.5))","v":""},{"$f":"IF(ColorCount(I31:J32,$AC$4)=3,0.8,IF(AND(J38=0,I38=0),\"\",0.5))","v":0.8},{"$f":"IF(ColorCount(J31:K32,$AC$4)=3,0.8,IF(AND(K38=0,J38=0),\"\",0.5))","v":0.5},{"$f":"IF(ColorCount(K31:L32,$AC$4)=3,0.8,IF(AND(L38=0,K38=0),\"\",0.5))","v":0.5},{"$f":"IF(ColorCount(L31:M32,$AC$4)=3,0.8,IF(AND(M38=0,L38=0),\"\",0.5))","v":0.5},{"$f":"IF(ColorCount(M31:N32,$AC$4)=3,0.8,IF(AND(N38=0,M38=0),\"\",0.5))","v":0.5},{"$f":"IF(ColorCount(N31:O32,$AC$4)=3,0.8,IF(AND(O38=0,N38=0),\"\",0.5))","v":0.5},{"$f":"IF(ColorCount(O31:P32,$AC$4)=3,0.8,IF(AND(P38=0,O38=0),\"\",0.5))","v":0.5},{"$f":"IF(ColorCount(P31:Q32,$AC$4)=3,0.8,IF(AND(Q38=0,P38=0),\"\",0.5))","v":0.5},{"$f":"IF(ColorCount(Q31:R32,$AC$4)=3,0.8,IF(AND(R38=0,Q38=0),\"\",0.5))","v":0.5},{"$f":"IF(ColorCount(R31:S32,$AC$4)=3,0.8,IF(AND(S38=0,R38=0),\"\",0.5))","v":0.5},{"$f":"IF(ColorCount(S31:T32,$AC$4)=3,0.8,IF(AND(T38=0,S38=0),\"\",0.5))","v":0.8},{"$f":"IF(ColorCount(T31:U32,$AC$4)=3,0.8,IF(AND(U38=0,T38=0),\"\",0.5))","v":""},{"$f":"IF(ColorCount(U31:V32,$AC$4)=3,0.8,IF(AND(V38=0,U38=0),\"\",0.5))","v":""},{"$f":"IF(ColorCount(V31:W32,$AC$4)=3,0.8,IF(AND(W38=0,V38=0),\"\",0.5))","v":""},{"$f":"IF(ColorCount(W31:X32,$AC$4)=3,0.8,IF(AND(X38=0,W38=0),\"\",0.5))","v":""},{"$f":"IF(ColorCount(X31:Y32,$AC$4)=3,0.8,IF(AND(Y38=0,X38=0),\"\",0.5))","v":""},{"$f":"IF(ColorCount(Y31:Z32,$AC$4)=3,0.8,IF(AND(Z38=0,Y38=0),\"\",0.5))","v":""}]
[null,null,"柱頭補正値",{"$f":"IF(OR(AND(C39=\"右\",OR(D39=\"面材\",D39=\"無\")),AND(OR(C39=\"面材\",C39=\"無\"),D39=\"左\")),0.5,\"\")","v":""},"","","","",{"$f":"IF(OR(AND(H39=\"右\",OR(I39=\"面材\",I39=\"無\")),AND(OR(H39=\"面材\",H39=\"無\"),I39=\"左\")),0.5,\"\")","v":""},"","",{"$f":"IF(OR(AND(K39=\"右\",OR(L39=\"面材\",L39=\"無\")),AND(OR(K39=\"面材\",K39=\"無\"),L39=\"左\")),0.5,\"\")","v":""},{"$f":"IF(OR(AND(L39=\"右\",OR(M39=\"面材\",M39=\"無\")),AND(OR(L39=\"面材\",L39=\"無\"),M39=\"左\")),0.5,\"\")","v":""},"","","","","","","","","","","","",""]
[null,null,"柱脚補正値",{"$f":"IF(OR(AND(C39=\"左\",OR(D39=\"面材\",D39=\"無\")),AND(OR(C39=\"面材\",C39=\"無\"),D39=\"右\")),-0.5,\"\")","v":""},"","","","","","","",{"$f":"IF(OR(AND(K39=\"左\",OR(L39=\"面材\",L39=\"無\")),AND(OR(K39=\"面材\",K39=\"無\"),L39=\"右\")),-0.5,\"\")","v":""},{"$f":"IF(OR(AND(L39=\"左\",OR(M39=\"面材\",M39=\"無\")),AND(OR(L39=\"面材\",L39=\"無\"),M39=\"右\")),-0.5,\"\")","v":""},"","","","","","","","","","","","",""]
[null,null,"両端片筋かい補正値",{"$f":"IF(OR(AND(C39=\"右\",D39=\"右\"),AND(C39=\"左\",D39=\"左\"),AND(C39=\"右\",D39=\"左\"),AND(C39=\"左\",D39=\"右\")),1,\"\")","v":""},"","","","","",{"$f":"IF(OR(AND(I39=\"右\",J39=\"右\"),AND(I39=\"左\",J39=\"左\"),AND(I39=\"右\",J39=\"左\"),AND(I39=\"左\",J39=\"右\")),1,\"\")","v":""},"","","","",{"$f":"IF(OR(AND(N39=\"右\",O39=\"右\"),AND(N39=\"左\",O39=\"左\"),AND(N39=\"右\",O39=\"左\"),AND(N39=\"左\",O39=\"右\")),1,\"\")","v":""},"","","","","","","","","","",""]
[null,null,"タスキ+片筋かい補正値",{"$f":"IF(OR(AND(C39=\"タスキ\",OR(D39=\"右\",D39=\"左\")),AND(OR(C39=\"右\",C39=\"左\"),D39=\"タスキ\")),0.5,\"\")","v":""},"","","","","",{"$f":"IF(OR(AND(I39=\"タスキ\",OR(J39=\"右\",J39=\"左\")),AND(OR(I39=\"右\",I39=\"左\"),J39=\"タスキ\")),0.5,\"\")","v":""},{"$f":"IF(OR(AND(J39=\"タスキ\",OR(K39=\"右\",K39=\"左\")),AND(OR(J39=\"右\",J39=\"左\"),K39=\"タスキ\")),0.5,\"\")","v":""},"","","",{"$f":"IF(OR(AND(N39=\"タスキ\",OR(O39=\"右\",O39=\"左\")),AND(OR(N39=\"右\",N39=\"左\"),O39=\"タスキ\")),0.5,\"\")","v":""},"","","","","","","","","","",""]
[null,null,null,{"$f":"IF(D37=\"\",\"\",VLOOKUP(D37,$AE$2:$AH$8,4,0))","v":""},"","","","","","面材","無","無","面材",{"$f":"IF(N37=\"\",\"\",VLOOKUP(N37,$AE$2:$AH$8,4,0))","v":"無"},"無","無","面材","無","面材","","","","","","",""]
[null,null,"2階",{"$f":"D18","v":" "}," "," "," "," "," ",{"$f":"J18","v":"面材"},{"$f":"K18","v":"面材"},"←柱","無","面材","←柱","無","面材","←柱"," "," "," "," "," "," "," "," "]
[null,null,"1階",{"$f":"IF(D41=\"\",\" \",IF(AND(OR(D46=\"\",D46=\"無\"),D34=\"柱\"),\"←柱\",D46))","v":" "}," "," "," "," "," ","面材","←柱","無","面材","←柱","無","←柱","面材","←柱","面材","←柱"," "," "," "," "," "," "]
[]
[null,null,null,{"$f":"IF(AND(AND(D47<>\"無\",D47<>\"←柱\"),D48=\"←柱\",E48=\"無\"),E56,0)","v":0},0,0,0,0,0,0,1.25,0,0,1.25,0,0,0,0,0,0,0,0,0,0,0,{"$f":"IF(AND(AND(Z47<>\"無\",Z47<>\"←柱\"),Z48=\"←柱\",AA48=\"無\"),AA49,0)","v":0},"右"]
[null,null,null,{"$f":"IF(AND(AND(C47<>\"無\",C47<>\"←柱\"),C48=\"無\",D48<>\"無\"),C56,0)","v":0},0,0,0,0,0,0,{"$f":"IF(AND(AND(J47<>\"無\",J47<>\"←柱\"),J48=\"無\",K48<>\"無\"),J56,0)","v":0},{"$f":"IF(AND(AND(K47<>\"無\",K47<>\"←柱\"),K48=\"無\",L48<>\"無\"),K56,0)","v":0},0,0,0,0,{"$f":"IF(AND(AND(P47<>\"無\",P47<>\"←柱\"),P48=\"無\",Q48<>\"無\"),P56,0)","v":0},{"$f":"IF(AND(AND(Q47<>\"無\",Q47<>\"←柱\"),Q48=\"無\",R48<>\"無\"),Q56,0)","v":0},{"$f":"IF(AND(AND(R47<>\"無\",R47<>\"←柱\"),R48=\"無\",S48<>\"無\"),R56,0)","v":0},0,0,0,0,{"$f":"IF(AND(AND(W47<>\"無\",W47<>\"←柱\"),W48=\"無\",X48<>\"無\"),W56,0)","v":0},0,0,"左"]
[null,null,"柱右上壁",{"$f":"IF(AND(OR(C47=\"無\",C47=\"←柱\"),D47=\"無\",AND(E47<>\"無\",E47<>\"←柱\"),OR(C48=\"無\",C48=\"←柱\"),D48=\"←柱\",E48=\"無\"),E56,0)","v":0},0,0,0,0,0,0,0,0,0,0,0,0,0,0,0,0,0,0,0,0,0,{"$f":"IF(AND(OR(Y47=\"無\",Y47=\"←柱\"),Z47=\"無\",AND(AA47<>\"無\",AA47<>\"←柱\"),OR(Y48=\"無\",Y48=\"←柱\"),Z48=\"←柱\",AA48=\"無\"),AA49,0)","v":0},"右"]
[null,null,"柱左上壁",{"$f":"IF(AND(AND(B47<>\"無\",B37<>\"←柱\"),C47=\"←柱\",OR(D47=\"無\",D47=\"←柱\"),OR(B48=\"無\",B48=\"←柱\"),C48=\"無\",D48=\"←柱\"),C56,0)","v":0},0,0,0,0,0,0,0,0,0,0,0,1.25,0,0,0,0,0,0,0,0,0,0,"左"]
[null,null,"壁左柱左上壁",{"$f":"IF(AND(AND(B47<>\"無\",B47<>\"←柱\"),C47=\"←柱\",AND(D48<>\"無\",D48<>\"←柱\"),OR(B48=\"無\",B48=\"←柱\"),C48=\"無\"),C56,0)","v":0},0,0,0,0,0,0,0,0,1.25,0,0,0,0,0,0,0,0,0,0,0,0,0,"左"]
[null,null,"壁右柱右上壁",{"$f":"IF(AND(OR(D47=\"無\",D47=\"←柱\"),AND(E47<>\"無\",E47<>\"←柱\"),AND(C48<>\"無\",C48<>\"←柱\"),D48=\"←柱\",E48=\"無\"),E56,0)","v":0},0,0,0,0,0,0,0,0,0,0,0,0,0,0,0,0,0,0,0,0,0,{"$f":"IF(AND(OR(Z47=\"無\",Z47=\"←柱\"),AND(AA47<>\"無\",AA47<>\"←柱\"),AND(Y48<>\"無\",Y48<>\"←柱\"),Z48=\"←柱\",AA48=\"無\"),AA49,0)","v":0},"右"]
[null,null,"通常",{"$f":"IF(D25=\"\",\"\",(D20-D21+D22)*D23)","v":""},"","","","","",{"$f":"IF(J25=\"\",\"\",(J20-J21+J22)*J23)","v":2},0,{"$f":"IF(L25=\"\",\"\",(L20-L21+L22)*L23)","v":1.25},{"$f":"IF(M25=\"\",\"\",(M20-M21+M22)*M23)","v":""},1.25,1.25,"",1.25,{"$f":"IF(R25=\"\",\"\",(R20-R21+R22)*R23)","v":2},"","","","","","","",""]
[null,null,"柱ずれ補正(A2×B2)",{"$f":"IF(D59=\"\",\"\",MAX(D50:D55))","v":""},"","","","",{"$f":"IF(I59=\"\",\"\",MAX(I50:I55))","v":""},{"$f":"IF(J59=\"\",\"\",MAX(J50:J55))","v":0},1.25,0,1.25,1.25,0,1.25,0,0,0,0,"","","","","",""]
[null,null,"数値大",{"$f":"IF(D60=\"\",\"\",MAX(D56:D57))","v":""},"","","","","",{"$f":"IF(J60=\"\",\"\",MAX(J56:J57))","v":2},{"$f":"IF(K60=\"\",\"\",MAX(K56:K57))","v":1.25},1.25,1.25,1.25,1.25,1.25,1.25,2,0,{"$f":"IF(T60=\"\",\"\",MAX(T56:T57))","v":0},"","","","","",""]
[null,"A1","左右倍率大",{"$f":"IF(D41=\"\",\"\",MAX(C40,D40))","v":""},{"$f":"IF(E41=\"\",\"\",MAX(D40,E40))","v":""},"","","","",2.5,2.5,0,2.5,{"$f":"IF(N41=\"\",\"\",MAX(M40,N40))","v":2.5},0,0,{"$f":"IF(Q41=\"\",\"\",MAX(P40,Q40))","v":2.5},2.5,2.5,2.5,"","","","","",""]
[null,null,"左右倍率小",{"$f":"IF(D41=\"\",\"\",MINA(C40,D40))","v":""},"","","","","",0,0,0,0,0,0,0,0,0,0,0,"","","","","",""]
[null,null,"補正値",{"$f":"IF(D41=\"\",\"\",SUM(D42:D45))","v":""},"","","","","",{"$f":"IF(J41=\"\",\"\",SUM(J42:J45))","v":0},0,0,0,0,0,0,0,0,0,0,"","","","","",""]
[null,"B1","出隅(0.8)他(0.5)",{"$f":"IF(AND(D59=0,D60=0,D34=\"無\"),0,D41)","v":""},"","","","","",{"$f":"IF(AND(J59=0,J60=0,J34=\"無\"),0,J41)","v":0.8},{"$f":"IF(AND(K59=0,K60=0,K34=\"無\"),0,K41)","v":0.5},0,0.5,0.5,0,0.5,0.5,0.5,0.5,0.8,"","","","","",""]
[null,"L","出隅(0.4)他(0.6)出隅(1.0)他(1.6)",{"$f":"IF(D47<>\" \",\" \",IF(D62=0.8,0.4,(IF(D62=0.5,0.6,\" \"))))","v":" "}," "," "," "," "," ",{"$f":"IF(J47<>\" \",\" \",IF(J62=0.8,0.4,(IF(J62=0.5,0.6,\" \"))))","v":" "}," "," "," "," "," "," "," "," ",0.6,0.4,{"$f":"IF(U47<>\" \",\" \",IF(U62=0.8,0.4,(IF(U62=0.5,0.6,\" \"))))","v":" "},{"$f":"IF(V47<>\" \",\" \",IF(V62=0.8,0.4,(IF(V62=0.5,0.6,\" \"))))","v":" "}," "," "," "," "]
[null,null,"柱補正",{"$f":"IF(D47=\" \",\" \",IF(AND(D34=\"柱\",D41=0.5),1.6,(IF(AND(D34=\"柱\",D41=0.8),1,0))))","v":" "}," "," "," "," "," ",1,1.6,0,1.6,1.6,{"$f":"IF(O47=\" \",\" \",IF(AND(O34=\"柱\",O41=0.5),1.6,(IF(AND(O34=\"柱\",O41=0.8),1,0))))","v":0},1.6,1.6,1.6,{"$f":"IF(S47=\" \",\" \",IF(AND(S34=\"柱\",S41=0.5),1.6,(IF(AND(S34=\"柱\",S41=0.8),1,0))))","v":" "},{"$f":"IF(T47=\" \",\" \",IF(AND(T34=\"柱\",T41=0.5),1.6,(IF(AND(T34=\"柱\",T41=0.8),1,0))))","v":" "}," "," "," "," "," "," "]
[null,"N","N値平家",{"$f":"IF(D63<1,(D59-D60+D61)*D62-D63,\"\")","v":""},"","","","","",{"$f":"IF(J63<1,(J59-J60+J61)*J62-J63,\"\")","v":""},"","","","","",{"$f":"IF(P63<1,(P59-P60+P61)*P62-P63,\"\")","v":""},"","",0.65,{"$f":"IF(T63<1,(T59-T60+T61)*T62-T63,\"\")","v":1.6},"","","","","",""]
[null,null,"N値2階",{"$f":"IF(OR(D64=\" \",D64=0),\"\",(D59-D60+D61)*D62+D58-D64)","v":""},{"$f":"IF(OR(E64=\" \",E64=0),\"\",(E59-E60+E61)*E62+E58-E64)","v":""},"","","","",{"$f":"IF(OR(J64=\" \",J64=0),\"\",(J59-J60+J61)*J62+J58-J64)","v":3},0.89999999999999991,{"$f":"IF(OR(L64=\" \",L64=0),\"\",(L59-L60+L61)*L62+L58-L64)","v":""},{"$f":"IF(OR(M64=\" \",M64=0),\"\",(M59-M60+M61)*M62+M58-M64)","v":0.89999999999999991},0.89999999999999991,"",-0.35000000000000009,0.89999999999999991,1.65,"","","","","","","",""]
[null,null,"N値数値大",{"$f":"IF(AND(D65=\"\",D66=\"\"),\" \",MAX(D65,D66))","v":" "},{"$f":"IF(AND(E65=\"\",E66=\"\"),\" \",MAX(E65,E66))","v":" "}," "," "," ",{"$f":"IF(AND(I65=\"\",I66=\"\"),\" \",MAX(I65,I66))","v":" "},{"$f":"IF(AND(J65=\"\",J66=\"\"),\" \",MAX(J65,J66))","v":3},{"$f":"IF(AND(K65=\"\",K66=\"\"),\" \",MAX(K65,K66))","v":0.89999999999999991}," ",0.89999999999999991,0.89999999999999991," ",-0.35000000000000009,0.89999999999999991,1.65,0.65,1.6," "," "," "," "," "," "]
[null,null,"最終N値（1階、2階で数値大）",{"$f":"IF(D67=\" \",\" \",IF(D57>0,MAX(C25,E25,D67),MAX(D67,D25)))","v":" "}," "," "," "," "," ",{"$f":"IF(J67=\" \",\" \",IF(J57>0,MAX(I25,K25,J67),MAX(J67,J25)))","v":3},{"$f":"IF(K67=\" \",\" \",IF(K57>0,MAX(J25,L25,K67),MAX(K67,K25)))","v":1.6},{"$f":"IF(L67=\" \",\" \",IF(L57>0,MAX(K25,M25,L67),MAX(L67,L25)))","v":" "},0.89999999999999991,0.89999999999999991," ",0.65,0.89999999999999991,1.65,0.65,1.6," "," "," "," "," "," "]
[null,null,"金物",{"$f":"IF(D68=\"\",\" \",IF(D68<=0,\"い\",IF(D68<=0.65,\"ろ\",IF(D68<=1,\"は\",IF(D68<=1.4,\"に\",IF(D68<=1.6,\"ほ\",IF(D68<=1.8,\"へ\",IF(D68<=2.8,\"と\",IF(D68<=3.7,\"ち\",IF(D68<=4.7,\"り\",IF(D68<=5.6,\"ぬ\",IF(D68>5.6,\" \"))))))))))))","v":" "},{"$f":"IF(E68=\"\",\" \",IF(E68<=0,\"い\",IF(E68<=0.65,\"ろ\",IF(E68<=1,\"は\",IF(E68<=1.4,\"に\",IF(E68<=1.6,\"ほ\",IF(E68<=1.8,\"へ\",IF(E68<=2.8,\"と\",IF(E68<=3.7,\"ち\",IF(E68<=4.7,\"り\",IF(E68<=5.6,\"ぬ\",IF(E68>5.6,\" \"))))))))))))","v":" "}," "," "," "," ","ち","ほ"," ","は","は"," ","ろ","は","へ","ろ","ほ"," "," "," "," "," "," "]

{"sheet":"梁間軸組","index":11,"n_rows":47,"n_cols":67,"rows_kept":47,"cut":false,"hidden":true,"merged":[[37,4,37,5],[37,6,37,17],[20,24,23,24],[20,18,23,18],[20,19,23,19],[20,20,23,20],[20,21,23,21],[20,22,23,22],[20,10,23,10],[20,15,23,15],[20,12,23,12],[20,13,23,13],[20,14,23,14],[20,11,23,11],[35,1,35,2],[35,4,35,5],[35,6,35,17],[36,4,36,5],[36,6,36,17],[38,4,38,5],[38,6,38,17],[39,4,39,5],[39,6,39,17],[40,4,40,5],[40,6,40,17],[41,4,41,5],[41,6,41,17],[42,4,42,5],[42,6,42,17],[43,4,43,5],[43,6,43,17],[44,4,44,5],[44,6,44,17],[45,4,45,5],[45,6,45,17],[46,4,46,5],[46,6,46,17],[2,18,2,20],[2,56,2,58],[20,42,23,42],[20,56,23,56],[20,57,23,57],[20,58,23,58],[20,37,23,37],[20,38,23,38],[20,39,23,39],[20,40,23,40],[20,41,23,41],[20,23,23,23],[20,53,22,53],[20,47,22,47],[20,48,22,48],[20,49,22,49],[20,60,23,60],[20,62,23,62],[20,66,23,66],[20,59,23,59],[20,61,23,61],[20,63,23,63],[20,64,23,64],[20,65,23,65],[20,50,22,50],[20,51,22,51],[20,52,22,52],[20,54,22,54],[20,55,22,55]]}
[]
[]
[null,null,null,null,null,null,null,null,null,null,null,null,null,null,null,null,null,null,"A1",null,null,"B1","L","N","金物",null,null,null,null,null,null,null,null,null,null,null,null,null,null,null,null,null,null,null,null,null,null,null,null,null,null,null,null,null,null,null,"A1",null,null,"B1","L",null,"N","N",null,null,"金物"]
[null,null,null,null,{"$f":"IF(OR(COUNTIF(C4:C5,\"→*\")>0,COUNTIF(C4:D4,\"↓*\")>0,COUNTIF(C5:D5,\"↑*\")>0,COUNTIF(D4:D5,\"←*\")>0,COUNTIF(D5,\"｀柱\")>0),\"柱\",\"無\")","v":"無"},{"$f":"IF(ColorCount(C4:D4,$B$3)<2,IFERROR(VLOOKUP(C4,$B$28:$C$34,2,0),\"0\"),\" \")","v":" "},{"$f":"IF(ColorCount(C4:D4,$B$3)<2,IFERROR(VLOOKUP(D4,$H$28:$I$34,2,0),\"0\"),\" \")","v":" "},{"$f":"IF(F4=\" \",\"\",F4+G4)","v":""},{"$f":"IF(F4=\" \",0,VLOOKUP(F4+G4,$C$28:$D$34,2,0))","v":0},{"$f":"IF(F4=\" \",\"無\",VLOOKUP(F4+G4,$C$28:$D$34,2,0))","v":"無"},{"$f":"IF(I4=0,\"\",VLOOKUP(H4,$C$28:$E$34,3,0))","v":""},{"$f":"IF(ColorCount(C4:D5,$B$4)=3,0.8,IF(AND(I5=0,I4=0),\"\",0.5))","v":""},{"$f":"IF(OR(AND(J5=\"左\",OR(J4=\"面材\",J4=\"無\")),AND(OR(J5=\"面材\",J5=\"無\"),J4=\"右\")),-0.5,\"\")","v":""},{"$f":"IF(OR(AND(J5=\"右\",OR(J4=\"面材\",J4=\"無\")),AND(OR(J5=\"面材\",J5=\"無\"),J4=\"左\")),0.5,\"\")","v":""},{"$f":"IF(OR(AND(J5=\"右\",J4=\"右\"),AND(J5=\"左\",J4=\"左\"),AND(J5=\"右\",J4=\"左\"),AND(J5=\"左\",J4=\"右\")),1,\"\")","v":""},{"$f":"IF(OR(AND(J5=\"タスキ\",OR(J4=\"右\",J4=\"左\")),AND(OR(J5=\"右\",J5=\"左\"),J4=\"タスキ\")),0.5,\"\")","v":""},{"$f":"IF(L4=\"\",\" \",IF(AND(OR(R4=\"\",R4=\"無\"),E4=\"柱\"),\"↓柱\",R4))","v":" "},{"$f":"IF(H4=\"\",\"\",VLOOKUP(H4,$C$28:$F$34,4,0))","v":""},{"$f":"IF(L4=\"\",\"\",MAX(K5,K4))","v":""},{"$f":"IF(L4=\"\",\"\",MINA(K5,K4))","v":""},{"$f":"IF(L4=\"\",\"\",SUM(M4:P4))","v":""},{"$f":"IF(AND(S4=0,T4=0,E4=\"無\"),\"\",L4)","v":""},{"$f":"IF(V4=\"\",\"\",IF(V4=0.8,0.4,(IF(V4=0.5,0.6,0))))","v":""},{"$f":"IF(W4=\"\",\"\",(S4-T4+U4)*V4-W4)","v":""},{"$f":"IF(X4=\"\",\" \",IF(X4<=0,\"い\",IF(X4<=0.65,\"ろ\",IF(X4<=1,\"は\",IF(X4<=1.4,\"に\",IF(X4<=1.6,\"ほ\",IF(X4<=1.8,\"へ\",IF(X4<=2.8,\"と\",IF(X4<=3.7,\"ち\",IF(X4<=4.7,\"り\",IF(X4<=5.6,\"ぬ\",IF(X4>5.6,\" \"))))))))))))","v":" "},null,null,null,null,null,null,{"$f":"IF(OR(COUNTIF(AD4:AD5,\"→*\")>0,COUNTIF(AD4:AE4,\"↓*\")>0,COUNTIF(AD5:AE5,\"↑*\")>0,COUNTIF(AE4:AE5,\"←*\")>0,COUNTIF(AE5,\"｀柱\")>0),\"柱\",\"無\")","v":"無"},{"$f":"IF(ColorCount(AD4:AE4,$AC$3)<2,IFERROR(VLOOKUP(AD4,$B$28:$C$34,2,0),\"0\"),\" \")","v":" "},{"$f":"IF(ColorCount(AD4:AE4,$AC$3)<2,IFERROR(VLOOKUP(AE4,$H$28:$I$34,2,0),\"0\"),\" \")","v":" "},{"$f":"IF(AG4=\" \",\"\",AG4+AH4)","v":""},{"$f":"IF(AG4=\" \",0,VLOOKUP(AG4+AH4,$C$28:$D$34,2,0))","v":0},{"$f":"IF(AG4=\" \",\"無\",VLOOKUP(AG4+AH4,$C$28:$D$34,2,0))","v":"無"},{"$f":"IF(AJ4=0,\"\",VLOOKUP(AI4,$C$28:$E$34,3,0))","v":""},{"$f":"IF(ColorCount(AD4:AE5,$AC$4)=3,0.8,IF(AND(AJ5=0,AJ4=0),\"\",0.5))","v":""},{"$f":"IF(OR(AND(AK5=\"左\",OR(AK4=\"面材\",AK4=\"無\")),AND(OR(AK5=\"面材\",AK5=\"無\"),AK4=\"右\")),-0.5,\"\")","v":""},{"$f":"IF(OR(AND(AK5=\"右\",OR(AK4=\"面材\",AK4=\"無\")),AND(OR(AK5=\"面材\",AK5=\"無\"),AK4=\"左\")),0.5,\"\")","v":""},{"$f":"IF(OR(AND(AK5=\"右\",AK4=\"右\"),AND(AK5=\"左\",AK4=\"左\"),AND(AK5=\"右\",AK4=\"左\"),AND(AK5=\"左\",AK4=\"右\")),1,\"\")","v":""},{"$f":"IF(OR(AND(AK5=\"タスキ\",OR(AK4=\"右\",AK4=\"左\")),AND(OR(AK5=\"右\",AK5=\"左\"),AK4=\"タスキ\")),0.5,\"\")","v":""},{"$f":"IF(AI4=\"\",\"\",VLOOKUP(AI4,$C$28:$F$34,4,0))","v":""},{"$f":"Q4","v":" "},{"$f":"IF(AM4=\"\",\" \",IF(AND(OR(AR4=\"\",AR4=\"無\"),AF4=\"柱\"),\"↓柱\",AR4))","v":" "},null,{"$f":"IF(AND(AND(AS4<>\"無\",AS4<>\"↓柱\"),AT4=\"↓柱\",AT3=\"無\"),#REF!,0)","v":0},{"$f":"IF(AND(AND(AS5<>\"無\",AS5<>\"↓柱\"),AT5=\"無\",AT4<>\"無\"),BB5,0)","v":0},{"$f":"IF(AND(OR(AS5=\"無\",AS5=\"↓柱\"),AS4=\"無\",AND(AS3<>\"無\",AS3<>\"↓柱\"),OR(AT5=\"無\",AT5=\"↓柱\"),AT4=\"↓柱\",AT3=\"無\"),#REF!,0)","v":0},{"$f":"IF(AND(AND(AS6<>\"無\",AS6<>\"↓柱\"),AS5=\"↓柱\",OR(AS4=\"無\",AS4=\"↓柱\"),OR(AT6=\"無\",AT6=\"↓柱\"),AT5=\"無\",AT4=\"↓柱\"),BB5,0)","v":0},{"$f":"IF(AND(AND(AS6<>\"無\",AS6<>\"↓柱\"),AS5=\"↓柱\",AND(AT4<>\"無\",AT4<>\"↓柱\"),OR(AT6=\"無\",AT6=\"↓柱\"),AT5=\"無\"),BB5,0)","v":0},{"$f":"IF(AND(OR(AS4=\"無\",AS4=\"↓柱\"),AND(AS3<>\"無\",AS3<>\"↓柱\"),AND(AT5<>\"無\",AT5<>\"↓柱\"),AT4=\"↓柱\",AT3=\"無\"),#REF!,0)","v":0},{"$f":"IF(X4=\"\",\"\",(S4-T4+U4)*V4)","v":""},{"$f":"IF(BE4=\"\",\"\",MAX(AV4:BA4))","v":""},{"$f":"IF(BE4=\"\",\"\",MAX(BB4:BC4))","v":""},{"$f":"IF(AM4=\"\",\"\",MAX(AL5,AL4))","v":""},{"$f":"IF(AM4=\"\",\"\",MINA(AL5,AL4))","v":""},{"$f":"IF(AM4=\"\",\"\",SUM(AN4:AQ4))","v":""},{"$f":"IF(AND(BE4=0,BF4=0,AF4=\"無\"),0,AM4)","v":""},{"$f":"IF(AS4<>\" \",\" \",IF(BH4=0.8,0.4,(IF(BH4=0.5,0.6,\" \"))))","v":" "},{"$f":"IF(AS4=\" \",\" \",IF(AND(AF4=\"柱\",AM4=0.5),1.6,(IF(AND(AF4=\"柱\",AM4=0.8),1,0))))","v":" "},{"$f":"IF(BI4<1,(BE4-BF4+BG4)*BH4-BI4,\"\")","v":""},{"$f":"IF(OR(BJ4=\" \",BJ4=0),\"\",(BE4-BF4+BG4)*BH4+BD4-BJ4)","v":""},{"$f":"IF(AND(BK4=\"\",BL4=\"\"),\" \",MAX(BK4,BL4))","v":" "},{"$f":"IF(BM4=\" \",\" \",IF(BC4>0,MAX(X3,X5,BM4),MAX(X4,BM4)))","v":" "},{"$f":"IF(BN4=\"\",\" \",IF(BN4<=0,\"い\",IF(BN4<=0.65,\"ろ\",IF(BN4<=1,\"は\",IF(BN4<=1.4,\"に\",IF(BN4<=1.6,\"ほ\",IF(BN4<=1.8,\"へ\",IF(BN4<=2.8,\"と\",IF(BN4<=3.7,\"ち\",IF(BN4<=4.7,\"り\",IF(BN4<=5.6,\"ぬ\",IF(BN4>5.6,\" \"))))))))))))","v":" "}]
[null,null,null,null,{"$f":"IF(OR(COUNTIF(C5:C6,\"→*\")>0,COUNTIF(C5:D5,\"↓*\")>0,COUNTIF(C6:D6,\"↑*\")>0,COUNTIF(D5:D6,\"←*\")>0,COUNTIF(D6,\"｀柱\")>0),\"柱\",\"無\")","v":"無"},{"$f":"IF(ColorCount(C5:D5,$B$3)<2,IFERROR(VLOOKUP(C5,$B$28:$C$34,2,0),\"0\"),\" \")","v":" "},{"$f":"IF(ColorCount(C5:D5,$B$3)<2,IFERROR(VLOOKUP(D5,$H$28:$I$34,2,0),\"0\"),\" \")","v":" "},{"$f":"IF(F5=\" \",\"\",F5+G5)","v":""},0,"無","",{"$f":"IF(ColorCount(C5:D6,$B$4)=3,0.8,IF(AND(I6=0,I5=0),\"\",0.5))","v":""},{"$f":"IF(OR(AND(J6=\"左\",OR(J5=\"面材\",J5=\"無\")),AND(OR(J6=\"面材\",J6=\"無\"),J5=\"右\")),-0.5,\"\")","v":""},{"$f":"IF(OR(AND(J6=\"右\",OR(J5=\"面材\",J5=\"無\")),AND(OR(J6=\"面材\",J6=\"無\"),J5=\"左\")),0.5,\"\")","v":""},{"$f":"IF(OR(AND(J6=\"右\",J5=\"右\"),AND(J6=\"左\",J5=\"左\"),AND(J6=\"右\",J5=\"左\"),AND(J6=\"左\",J5=\"右\")),1,\"\")","v":""},{"$f":"IF(OR(AND(J6=\"タスキ\",OR(J5=\"右\",J5=\"左\")),AND(OR(J6=\"右\",J6=\"左\"),J5=\"タスキ\")),0.5,\"\")","v":""}," ","","",{"$f":"IF(L5=\"\",\"\",MINA(K6,K5))","v":""},"","","",""," ",null,null,null,null,null,null,{"$f":"IF(OR(COUNTIF(AD5:AD6,\"→*\")>0,COUNTIF(AD5:AE5,\"↓*\")>0,COUNTIF(AD6:AE6,\"↑*\")>0,COUNTIF(AE5:AE6,\"←*\")>0,COUNTIF(AE6,\"｀柱\")>0),\"柱\",\"無\")","v":"無"},{"$f":"IF(ColorCount(AD5:AE5,$AC$3)<2,IFERROR(VLOOKUP(AD5,$B$28:$C$34,2,0),\"0\"),\" \")","v":" "},{"$f":"IF(ColorCount(AD5:AE5,$AC$3)<2,IFERROR(VLOOKUP(AE5,$H$28:$I$34,2,0),\"0\"),\" \")","v":" "},{"$f":"IF(AG5=\" \",\"\",AG5+AH5)","v":""},0,"無","",{"$f":"IF(ColorCount(AD5:AE6,$AC$4)=3,0.8,IF(AND(AJ6=0,AJ5=0),\"\",0.5))","v":""},"","","","",""," "," ",null,{"$f":"IF(AND(AND(AS5<>\"無\",AS5<>\"↓柱\"),AT5=\"↓柱\",AT4=\"無\"),BB4,0)","v":0},0,{"$f":"IF(AND(OR(AS6=\"無\",AS6=\"↓柱\"),AS5=\"無\",AND(AS4<>\"無\",AS4<>\"↓柱\"),OR(AT6=\"無\",AT6=\"↓柱\"),AT5=\"↓柱\",AT4=\"無\"),BB4,0)","v":0},0,0,{"$f":"IF(AND(OR(AS5=\"無\",AS5=\"↓柱\"),AND(AS4<>\"無\",AS4<>\"↓柱\"),AND(AT6<>\"無\",AT6<>\"↓柱\"),AT5=\"↓柱\",AT4=\"無\"),BB4,0)","v":0},"","","","","","",""," "," ","",""," "," "," "]
[null,null,null,null,"無",{"$f":"IF(ColorCount(C6:D6,$B$3)<2,IFERROR(VLOOKUP(C6,$B$28:$C$34,2,0),\"0\"),\" \")","v":" "},{"$f":"IF(ColorCount(C6:D6,$B$3)<2,IFERROR(VLOOKUP(D6,$H$28:$I$34,2,0),\"0\"),\" \")","v":" "},"",0,"無","",{"$f":"IF(ColorCount(C6:D7,$B$4)=3,0.8,IF(AND(I7=0,I6=0),\"\",0.5))","v":""},"","","",""," ","","",{"$f":"IF(L6=\"\",\"\",MINA(K7,K6))","v":""},"","","",""," ",null,null,null,null,null,null,"無",{"$f":"IF(ColorCount(AD6:AE6,$AC$3)<2,IFERROR(VLOOKUP(AD6,$B$28:$C$34,2,0),\"0\"),\" \")","v":" "},{"$f":"IF(ColorCount(AD6:AE6,$AC$3)<2,IFERROR(VLOOKUP(AE6,$H$28:$I$34,2,0),\"0\"),\" \")","v":" "},"",0,"無","",{"$f":"IF(ColorCount(AD6:AE7,$AC$4)=3,0.8,IF(AND(AJ7=0,AJ6=0),\"\",0.5))","v":""},"","","","",""," "," ",null,0,0,0,0,0,0,"","","","","","",""," "," ","",""," "," "," "]
[null,null,null,"↓え","柱",{"$f":"IF(ColorCount(C7:D7,$B$3)<2,IFERROR(VLOOKUP(C7,$B$28:$C$34,2,0),\"0\"),\" \")","v":" "},{"$f":"IF(ColorCount(C7:D7,$B$3)<2,IFERROR(VLOOKUP(D7,$H$28:$I$34,2,0),\"0\"),\" \")","v":" "},"",{"$f":"IF(F7=\" \",0,VLOOKUP(F7+G7,$C$28:$D$34,2,0))","v":0},"無","",{"$f":"IF(ColorCount(C7:D8,$B$4)=3,0.8,IF(AND(I8=0,I7=0),\"\",0.5))","v":0.5},-0.5,{"$f":"IF(OR(AND(J8=\"右\",OR(J7=\"面材\",J7=\"無\")),AND(OR(J8=\"面材\",J8=\"無\"),J7=\"左\")),0.5,\"\")","v":""},"","","↓柱","",2,{"$f":"IF(L7=\"\",\"\",MINA(K8,K7))","v":0},-0.5,0.5,0.6,0.15000000000000002,"ろ",null,null,null,null,"↓え",null,"柱",{"$f":"IF(ColorCount(AD7:AE7,$AC$3)<2,IFERROR(VLOOKUP(AD7,$B$28:$C$34,2,0),\"0\"),\" \")","v":" "},{"$f":"IF(ColorCount(AD7:AE7,$AC$3)<2,IFERROR(VLOOKUP(AE7,$H$28:$I$34,2,0),\"0\"),\" \")","v":" "},"",0,"無","",{"$f":"IF(ColorCount(AD7:AE8,$AC$4)=3,0.8,IF(AND(AJ8=0,AJ7=0),\"\",0.5))","v":0.5},-0.5,"","","","","↓柱","↓柱",null,0,0,0,0,0,0,0.75,0,0.75,2,0,-0.5,0.5," ",1.6,"",-0.10000000000000009,-0.10000000000000009,0.15000000000000002,"ろ"]
[null,null,null,"←い","柱",{"$f":"IF(ColorCount(C8:D8,$B$3)<2,IFERROR(VLOOKUP(C8,$B$28:$C$34,2,0),\"0\"),\" \")","v":0},{"$f":"IF(ColorCount(C8:D8,$B$3)<2,IFERROR(VLOOKUP(D8,$H$28:$I$34,2,0),\"0\"),\" \")","v":2},2,"左","左",2,{"$f":"IF(ColorCount(C8:D9,$B$4)=3,0.8,IF(AND(I9=0,I8=0),\"\",0.5))","v":0.5},"","",1,"",{"$f":"IF(L8=\"\",\" \",IF(AND(OR(R8=\"\",R8=\"無\"),E8=\"柱\"),\"↓柱\",R8))","v":"左上"},"左上",2,{"$f":"IF(L8=\"\",\"\",MINA(K9,K8))","v":2},1,0.5,0.6,-9.9999999999999978E-2,"い",null,null,null,null,null,"←い","柱",{"$f":"IF(ColorCount(AD8:AE8,$AC$3)<2,IFERROR(VLOOKUP(AD8,$B$28:$C$34,2,0),\"0\"),\" \")","v":0},{"$f":"IF(ColorCount(AD8:AE8,$AC$3)<2,IFERROR(VLOOKUP(AE8,$H$28:$I$34,2,0),\"0\"),\" \")","v":2},2,"左","左",2,{"$f":"IF(ColorCount(AD8:AE9,$AC$4)=3,0.8,IF(AND(AJ9=0,AJ8=0),\"\",0.5))","v":0.5},"","",1,"","左上","左上","左上",null,0,0,0,0,0,0,0.5,0,{"$f":"IF(BE8=\"\",\"\",MAX(BB8:BC8))","v":0.5},2,2,1,0.5," ",1.6,{"$f":"IF(BI8<1,(BE8-BF8+BG8)*BH8-BI8,\"\")","v":""},-0.60000000000000009,-0.60000000000000009,{"$f":"IF(BM8=\" \",\" \",IF(BC8>0,MAX(X7,X9,BM8),MAX(X8,BM8)))","v":-9.9999999999999978E-2},"い"]
[null,null,null,"←あ","柱",{"$f":"IF(ColorCount(C9:D9,$B$3)<2,IFERROR(VLOOKUP(C9,$B$28:$C$34,2,0),\"0\"),\" \")","v":0},{"$f":"IF(ColorCount(C9:D9,$B$3)<2,IFERROR(VLOOKUP(D9,$H$28:$I$34,2,0),\"0\"),\" \")","v":1},1,"右","右",2,{"$f":"IF(ColorCount(C9:D10,$B$4)=3,0.8,IF(AND(I10=0,I9=0),\"\",0.5))","v":0.5},-0.5,"","","",{"$f":"IF(L9=\"\",\" \",IF(AND(OR(R9=\"\",R9=\"無\"),E9=\"柱\"),\"↓柱\",R9))","v":"右上"},"右上",2,0,-0.5,0.5,0.6,0.15000000000000002,"ろ",null,null,null,null,null,"←あ","柱",{"$f":"IF(ColorCount(AD9:AE9,$AC$3)<2,IFERROR(VLOOKUP(AD9,$B$28:$C$34,2,0),\"0\"),\" \")","v":0},{"$f":"IF(ColorCount(AD9:AE9,$AC$3)<2,IFERROR(VLOOKUP(AE9,$H$28:$I$34,2,0),\"0\"),\" \")","v":1},1,"右","右",2,{"$f":"IF(ColorCount(AD9:AE10,$AC$4)=3,0.8,IF(AND(AJ10=0,AJ9=0),\"\",0.5))","v":0.5},-0.5,"","","","右上","右上","右上",null,0,0,0,0,0,0,0.75,0,{"$f":"IF(BE9=\"\",\"\",MAX(BB9:BC9))","v":0.75},2,0,-0.5,0.5," ",1.6,"",-0.10000000000000009,-0.10000000000000009,{"$f":"IF(BM9=\" \",\" \",IF(BC9>0,MAX(X8,X10,BM9),MAX(X9,BM9)))","v":0.15000000000000002},"ろ"]
[null,null,"↑い",null,"柱",{"$f":"IF(ColorCount(C10:D10,$B$3)<2,IFERROR(VLOOKUP(C10,$B$28:$C$34,2,0),\"0\"),\" \")","v":"0"},{"$f":"IF(ColorCount(C10:D10,$B$3)<2,IFERROR(VLOOKUP(D10,$H$28:$I$34,2,0),\"0\"),\" \")","v":0},0,"無","無",0,{"$f":"IF(ColorCount(C10:D11,$B$4)=3,0.8,IF(AND(I11=0,I10=0),\"\",0.5))","v":0.5},"","","","","↓柱","無",{"$f":"IF(L10=\"\",\"\",MAX(K11,K10))","v":0},0,0,0.5,0.6,-0.6,"い",null,null,null,null,"↑い",null,"無",{"$f":"IF(ColorCount(AD10:AE10,$AC$3)<2,IFERROR(VLOOKUP(AD10,$B$28:$C$34,2,0),\"0\"),\" \")","v":"0"},{"$f":"IF(ColorCount(AD10:AE10,$AC$3)<2,IFERROR(VLOOKUP(AE10,$H$28:$I$34,2,0),\"0\"),\" \")","v":0},0,"無","無",0,{"$f":"IF(ColorCount(AD10:AE11,$AC$4)=3,0.8,IF(AND(AJ11=0,AJ10=0),\"\",0.5))","v":0.5},"","","","","無","↓柱","無",null,0,0,0,0,0,0,0,0,0,0,0,0,{"$f":"IF(AND(BE10=0,BF10=0,AF10=\"無\"),0,AM10)","v":0}," ",0,"",""," "," "," "]
[null,null,null,"｀柱","無",{"$f":"IF(ColorCount(C11:D11,$B$3)<2,IFERROR(VLOOKUP(C11,$B$28:$C$34,2,0),\"0\"),\" \")","v":0},{"$f":"IF(ColorCount(C11:D11,$B$3)<2,IFERROR(VLOOKUP(D11,$H$28:$I$34,2,0),\"0\"),\" \")","v":"0"},0,"無","無",0,{"$f":"IF(ColorCount(C11:D12,$B$4)=3,0.8,IF(AND(I12=0,I11=0),\"\",0.5))","v":0.5},"","","","","無","無",0,0,0,"",{"$f":"IF(V11=\"\",\"\",IF(V11=0.8,0.4,(IF(V11=0.5,0.6,0))))","v":""},""," ",null,null,null,null,null,null,"無",{"$f":"IF(ColorCount(AD11:AE11,$AC$3)<2,IFERROR(VLOOKUP(AD11,$B$28:$C$34,2,0),\"0\"),\" \")","v":0},{"$f":"IF(ColorCount(AD11:AE11,$AC$3)<2,IFERROR(VLOOKUP(AE11,$H$28:$I$34,2,0),\"0\"),\" \")","v":0},0,"無","無",0,{"$f":"IF(ColorCount(AD11:AE12,$AC$4)=3,0.8,IF(AND(AJ12=0,AJ11=0),\"\",0.5))","v":0.5},"","","","","無","無","無",null,0,0,0,0,0,0,"",0,0,0,0,0,{"$f":"IF(AND(BE11=0,BF11=0,AF11=\"無\"),0,AM11)","v":0}," ",0,"",""," "," "," "]
[null,null,null,null,"柱",{"$f":"IF(ColorCount(C12:D12,$B$3)<2,IFERROR(VLOOKUP(C12,$B$28:$C$34,2,0),\"0\"),\" \")","v":0},{"$f":"IF(ColorCount(C12:D12,$B$3)<2,IFERROR(VLOOKUP(D12,$H$28:$I$34,2,0),\"0\"),\" \")","v":0},0,"無","無",0,{"$f":"IF(ColorCount(C12:D13,$B$4)=3,0.8,IF(AND(I13=0,I12=0),\"\",0.5))","v":0.5},"",0.5,"","","↓柱","無",{"$f":"IF(L12=\"\",\"\",MAX(K13,K12))","v":2},0,0.5,{"$f":"IF(AND(S12=0,T12=0,E12=\"無\"),\"\",L12)","v":0.5},{"$f":"IF(V12=\"\",\"\",IF(V12=0.8,0.4,(IF(V12=0.5,0.6,0))))","v":0.6},{"$f":"IF(W12=\"\",\"\",(S12-T12+U12)*V12-W12)","v":0.65},"ろ",null,null,null,null,null,null,"柱",{"$f":"IF(ColorCount(AD12:AE12,$AC$3)<2,IFERROR(VLOOKUP(AD12,$B$28:$C$34,2,0),\"0\"),\" \")","v":0},{"$f":"IF(ColorCount(AD12:AE12,$AC$3)<2,IFERROR(VLOOKUP(AE12,$H$28:$I$34,2,0),\"0\"),\" \")","v":0},0,"無","無",0,{"$f":"IF(ColorCount(AD12:AE13,$AC$4)=3,0.8,IF(AND(AJ13=0,AJ12=0),\"\",0.5))","v":0.5},"",0.5,"","","無","↓柱","↓柱",null,0,0,0,0,0,0,{"$f":"IF(X12=\"\",\"\",(S12-T12+U12)*V12)","v":1.25},0,1.25,2,0,0.5,0.5," ",1.6,"",0.89999999999999991,0.89999999999999991,0.89999999999999991,"は"]
[null,null,null,"←あ","柱",{"$f":"IF(ColorCount(C13:D13,$B$3)<2,IFERROR(VLOOKUP(C13,$B$28:$C$34,2,0),\"0\"),\" \")","v":0},{"$f":"IF(ColorCount(C13:D13,$B$3)<2,IFERROR(VLOOKUP(D13,$H$28:$I$34,2,0),\"0\"),\" \")","v":1},1,"右","右",2,{"$f":"IF(ColorCount(C13:D14,$B$4)=3,0.8,IF(AND(I14=0,I13=0),\"\",0.5))","v":0.5},-0.5,"","","","右上","右上",2,0,-0.5,{"$f":"IF(AND(S13=0,T13=0,E13=\"無\"),\"\",L13)","v":0.5},0.6,{"$f":"IF(W13=\"\",\"\",(S13-T13+U13)*V13-W13)","v":0.15000000000000002},"ろ",null,null,null,null,null,"←あ","柱",{"$f":"IF(ColorCount(AD13:AE13,$AC$3)<2,IFERROR(VLOOKUP(AD13,$B$28:$C$34,2,0),\"0\"),\" \")","v":0},{"$f":"IF(ColorCount(AD13:AE13,$AC$3)<2,IFERROR(VLOOKUP(AE13,$H$28:$I$34,2,0),\"0\"),\" \")","v":1},1,"右","右",2,{"$f":"IF(ColorCount(AD13:AE14,$AC$4)=3,0.8,IF(AND(AJ14=0,AJ13=0),\"\",0.5))","v":0.5},-0.5,"","","","右上","右上","右上",null,0,0,0,0,0,0,{"$f":"IF(X13=\"\",\"\",(S13-T13+U13)*V13)","v":0.75},0,0.75,{"$f":"IF(AM13=\"\",\"\",MAX(AL14,AL13))","v":2},0,-0.5,0.5," ",1.6,{"$f":"IF(BI13<1,(BE13-BF13+BG13)*BH13-BI13,\"\")","v":""},-0.10000000000000009,-0.10000000000000009,0.15000000000000002,"ろ"]
[null,null,"↑え",null,"無",{"$f":"IF(ColorCount(C14:D14,$B$3)<2,IFERROR(VLOOKUP(C14,$B$28:$C$34,2,0),\"0\"),\" \")","v":" "},{"$f":"IF(ColorCount(C14:D14,$B$3)<2,IFERROR(VLOOKUP(D14,$H$28:$I$34,2,0),\"0\"),\" \")","v":" "},"",0,"無","",{"$f":"IF(ColorCount(C14:D15,$B$4)=3,0.8,IF(AND(I15=0,I14=0),\"\",0.5))","v":""},"","","",""," ","","","","","","",""," ",null,null,null,null,"↑え",null,"無",{"$f":"IF(ColorCount(AD14:AE14,$AC$3)<2,IFERROR(VLOOKUP(AD14,$B$28:$C$34,2,0),\"0\"),\" \")","v":" "},{"$f":"IF(ColorCount(AD14:AE14,$AC$3)<2,IFERROR(VLOOKUP(AE14,$H$28:$I$34,2,0),\"0\"),\" \")","v":" "},"",0,"無","",{"$f":"IF(ColorCount(AD14:AE15,$AC$4)=3,0.8,IF(AND(AJ15=0,AJ14=0),\"\",0.5))","v":""},"","","","",""," "," ",null,0,0,0,0,0,0,"","","","","","",""," "," ","",""," "," "," "]
[null,null,null,null,"無",{"$f":"IF(ColorCount(C15:D15,$B$3)<2,IFERROR(VLOOKUP(C15,$B$28:$C$34,2,0),\"0\"),\" \")","v":" "},{"$f":"IF(ColorCount(C15:D15,$B$3)<2,IFERROR(VLOOKUP(D15,$H$28:$I$34,2,0),\"0\"),\" \")","v":" "},"",0,"無","",{"$f":"IF(ColorCount(C15:D16,$B$4)=3,0.8,IF(AND(I16=0,I15=0),\"\",0.5))","v":""},"","","",""," ","","","","","","",""," ",null,null,null,null,null,null,"無",{"$f":"IF(ColorCount(AD15:AE15,$AC$3)<2,IFERROR(VLOOKUP(AD15,$B$28:$C$34,2,0),\"0\"),\" \")","v":" "},{"$f":"IF(ColorCount(AD15:AE15,$AC$3)<2,IFERROR(VLOOKUP(AE15,$H$28:$I$34,2,0),\"0\"),\" \")","v":" "},"",0,"無","",{"$f":"IF(ColorCount(AD15:AE16,$AC$4)=3,0.8,IF(AND(AJ16=0,AJ15=0),\"\",0.5))","v":""},"","","","",""," "," ",null,0,0,0,0,0,0,"","","","","","",""," "," ","",""," "," "," "]
[null,null,null,null,"無",{"$f":"IF(ColorCount(C16:D16,$B$3)<2,IFERROR(VLOOKUP(C16,$B$28:$C$34,2,0),\"0\"),\" \")","v":" "},{"$f":"IF(ColorCount(C16:D16,$B$3)<2,IFERROR(VLOOKUP(D16,$H$28:$I$34,2,0),\"0\"),\" \")","v":" "},"",0,"無","",{"$f":"IF(ColorCount(C16:D17,$B$4)=3,0.8,IF(AND(I17=0,I16=0),\"\",0.5))","v":""},"","","",""," ","","","","","","",""," ",null,null,null,null,null,null,"無",{"$f":"IF(ColorCount(AD16:AE16,$AC$3)<2,IFERROR(VLOOKUP(AD16,$B$28:$C$34,2,0),\"0\"),\" \")","v":" "},{"$f":"IF(ColorCount(AD16:AE16,$AC$3)<2,IFERROR(VLOOKUP(AE16,$H$28:$I$34,2,0),\"0\"),\" \")","v":" "},"",0,"無","",{"$f":"IF(ColorCount(AD16:AE17,$AC$4)=3,0.8,IF(AND(AJ17=0,AJ16=0),\"\",0.5))","v":""},"","","","",""," "," ",null,0,0,0,0,0,0,"","","","","","",""," "," ","",""," "," "," "]
[null,null,null,null,"無",{"$f":"IF(ColorCount(C17:D17,$B$3)<2,IFERROR(VLOOKUP(C17,$B$28:$C$34,2,0),\"0\"),\" \")","v":" "},{"$f":"IF(ColorCount(C17:D17,$B$3)<2,IFERROR(VLOOKUP(D17,$H$28:$I$34,2,0),\"0\"),\" \")","v":" "},"",0,"無","",{"$f":"IF(ColorCount(C17:D18,$B$4)=3,0.8,IF(AND(I18=0,I17=0),\"\",0.5))","v":""},"","","",""," ","","","","","","",""," ",null,null,null,null,null,null,"無",{"$f":"IF(ColorCount(AD17:AE17,$AC$3)<2,IFERROR(VLOOKUP(AD17,$B$28:$C$34,2,0),\"0\"),\" \")","v":" "},{"$f":"IF(ColorCount(AD17:AE17,$AC$3)<2,IFERROR(VLOOKUP(AE17,$H$28:$I$34,2,0),\"0\"),\" \")","v":" "},"",0,"無","",{"$f":"IF(ColorCount(AD17:AE18,$AC$4)=3,0.8,IF(AND(AJ18=0,AJ17=0),\"\",0.5))","v":""},"","","","",""," "," ",null,0,0,0,0,0,0,"","","","","","",""," "," ","",""," "," "," "]
[null,null,null,null,"無",{"$f":"IF(ColorCount(C18:D18,$B$3)<2,IFERROR(VLOOKUP(C18,$B$28:$C$34,2,0),\"0\"),\" \")","v":" "},{"$f":"IF(ColorCount(C18:D18,$B$3)<2,IFERROR(VLOOKUP(D18,$H$28:$I$34,2,0),\"0\"),\" \")","v":" "},"",0,"無","",{"$f":"IF(ColorCount(C18:D19,$B$4)=3,0.8,IF(AND(I19=0,I18=0),\"\",0.5))","v":""},"","","",""," ","","","","","","",""," ",null,null,null,null,null,null,"無",{"$f":"IF(ColorCount(AD18:AE18,$AC$3)<2,IFERROR(VLOOKUP(AD18,$B$28:$C$34,2,0),\"0\"),\" \")","v":" "},{"$f":"IF(ColorCount(AD18:AE18,$AC$3)<2,IFERROR(VLOOKUP(AE18,$H$28:$I$34,2,0),\"0\"),\" \")","v":" "},"",0,"無","",{"$f":"IF(ColorCount(AD18:AE19,$AC$4)=3,0.8,IF(AND(AJ19=0,AJ18=0),\"\",0.5))","v":""},"","","","",""," "," ",null,0,0,0,0,0,0,"","","","","","",""," "," ","",""," "," "," "]
[null,null,null,null,"無",{"$f":"IF(ColorCount(C19:D19,$B$3)<2,IFERROR(VLOOKUP(C19,$B$28:$C$34,2,0),\"0\"),\" \")","v":" "},{"$f":"IF(ColorCount(C19:D19,$B$3)<2,IFERROR(VLOOKUP(D19,$H$28:$I$34,2,0),\"0\"),\" \")","v":" "},"",0,"無","",{"$f":"IF(ColorCount(C19:D20,$B$4)=3,0.8,IF(AND(I20=0,I19=0),\"\",0.5))","v":""},"","","",""," ","","","","","","",""," ",null,null,null,null,null,null,"無",{"$f":"IF(ColorCount(AD19:AE19,$AC$3)<2,IFERROR(VLOOKUP(AD19,$B$28:$C$34,2,0),\"0\"),\" \")","v":" "},{"$f":"IF(ColorCount(AD19:AE19,$AC$3)<2,IFERROR(VLOOKUP(AE19,$H$28:$I$34,2,0),\"0\"),\" \")","v":" "},"",0,"無","",{"$f":"IF(ColorCount(AD19:AE20,$AC$4)=3,0.8,IF(AND(AJ20=0,AJ19=0),\"\",0.5))","v":""},"","","","",""," "," ",null,0,0,0,0,0,0,"","","","","","",""," "," ","",""," "," "," "]
[null,null,null,null,"無",{"$f":"IF(ColorCount(C20:D20,$B$3)<2,IFERROR(VLOOKUP(C20,$B$28:$C$34,2,0),\"0\"),\" \")","v":" "},{"$f":"IF(ColorCount(C20:D20,$B$3)<2,IFERROR(VLOOKUP(D20,$H$28:$I$34,2,0),\"0\"),\" \")","v":" "},"",{"$f":"IF(F20=\" \",0,VLOOKUP(F20+G20,$C$28:$D$34,2,0))","v":0},"無","",{"$f":"IF(ColorCount(C20:D21,$B$4)=3,0.8,IF(AND(I21=0,I20=0),\"\",0.5))","v":""},"","","",""," ","","","",{"$f":"IF(L20=\"\",\"\",SUM(M20:P20))","v":""},"","","",{"$f":"IF(X20=\"\",\" \",IF(X20<=0,\"い\",IF(X20<=0.65,\"ろ\",IF(X20<=1,\"は\",IF(X20<=1.4,\"に\",IF(X20<=1.6,\"ほ\",IF(X20<=1.8,\"へ\",IF(X20<=2.8,\"と\",IF(X20<=3.7,\"ち\",IF(X20<=4.7,\"り\",IF(X20<=5.6,\"ぬ\",IF(X20>5.6,\" \"))))))))))))","v":" "},null,null,null,null,null,null,"無",{"$f":"IF(ColorCount(AD20:AE20,$AC$3)<2,IFERROR(VLOOKUP(AD20,$B$28:$C$34,2,0),\"0\"),\" \")","v":" "},{"$f":"IF(ColorCount(AD20:AE20,$AC$3)<2,IFERROR(VLOOKUP(AE20,$H$28:$I$34,2,0),\"0\"),\" \")","v":" "},"",0,"無","",{"$f":"IF(ColorCount(AD20:AE21,$AC$4)=3,0.8,IF(AND(AJ21=0,AJ20=0),\"\",0.5))","v":""},"","","","",""," "," ",null,0,0,0,0,0,0,"","","","","","",{"$f":"AM20","v":""},{"$f":"IF(AS20<>\" \",\" \",IF(BH20=0.8,0.4,(IF(BH20=0.5,0.6,\" \"))))","v":" "},{"$f":"IF(AS20=\" \",\" \",IF(AND(AF20=\"柱\",AM20=0.5),1.6,(IF(AND(AF20=\"柱\",AM20=0.8),1,0))))","v":" "},{"$f":"IF(BI20<1,(BE20-BF20+BG20)*BH20-BI20,\"\")","v":""},{"$f":"IF(OR(BJ20=\" \",BJ20=0),\"\",(BE20-BF20+BG20)*BH20+BD20-BJ20)","v":""},{"$f":"IF(AND(BK20=\"\",BL20=\"\"),\" \",MAX(BK20,BL20))","v":" "}," ",{"$f":"IF(BN20=\"\",\" \",IF(BN20<=0,\"い\",IF(BN20<=0.65,\"ろ\",IF(BN20<=1,\"は\",IF(BN20<=1.4,\"に\",IF(BN20<=1.6,\"ほ\",IF(BN20<=1.8,\"へ\",IF(BN20<=2.8,\"と\",IF(BN20<=3.7,\"ち\",IF(BN20<=4.7,\"り\",IF(BN20<=5.6,\"ぬ\",IF(BN20>5.6,\" \"))))))))))))","v":" "}]
[null,null,null,null,null,null,null,null,null,null,"倍\n率","出隅(0.8)他(0.5)","柱\n頭\n補\n正\n値","柱\n脚\n補\n正\n値","両\n端\n片\n筋\n補\n正\n値","タ\nス\nキ\n+\n片\n筋\n補\n正\n値",null,null,"左\n右\n倍\n率\n大","左右倍率小","補正値","出\n隅\n0.8\n他\n0.5","出\n隅\n0.4\n他\n0.6","N値","金物",null,null,null,null,null,null,null,null,null,null,null,null,"倍\n率","出隅(0.8)他(0.5)","柱\n頭\n補\n正\n値","柱\n脚\n補\n正\n値","両\n端\n片\n筋\n補\n正\n値","タ\nス\nキ\n+\n片\n筋\n補\n正\n値",null,null,null,null,null,null,"柱右上壁","柱左上壁","壁左柱左上壁","壁右柱右上壁","通常","柱ずれ集計","計算値大","左\n右\n倍\n率\n大","左右倍率小","補正値","出\n隅\n0.8\n他\n0.5","出\n隅\n0.4\n他\n0.6","出\n隅\n1.0\n他\n1.6","N値平家","N値２階","N値数値大","最終N値","金物"]
[]
[]
[]
[]
[]
[]
[null,"→あ",1,"右",2,"右上",null,"←あ",1,"右",2]
[null,"→い",2,"左",2,"左上",null,"←い",2,"左",2]
[null,"→う",3,"タスキ",4,"タスキ",null,"←う",3,"タスキ",4]
[null,"→え",4,"面材",2.5,"面材",null,"←え",4,"面材",2.5]
[null,"→お",5,"右",4.5,"右面",null,"←お",5,"右",4.5]
[null,"→か",6,"左",4.5,"左面",null,"←か",6,"左",4.5]
[null,0,0,"無",0,"無",null,0,0,"無",0]
[]
[null,"N値",null,null,"必要耐力（kN)",null,"金物等（これらと同等以上の接合方法を含む）"]
[null,0,"以下","い",0,null,"短ほぞ差し、かすがい打"]
[null,0.65,"以下","ろ",3.4,null,"長ほぞ差し込み栓打、L字形かど金物くぎCN65×5本"]
[null,1,"以下","は",5.0999999999999996,null,"T字形かど金物くぎCN65×5本、山形プレート金物くぎCN90×8本"]
[null,1.4,"以下","に",7.5,null,"羽子板ボルトφ12mm、短冊金物"]
[null,1.6,"以下","ほ",8.5,null,"羽子板ボルトφ12mmに長さ50mm径4.5mmのスクリュー釘"]
[null,1.8,"以下","へ",10,null,"10kN用引き寄せ金物"]
[null,2.8,"以下","と",15,null,"15kN用引き寄せ金物"]
[null,3.7,"以下","ち",20,null,"20kN用引き寄せ金物"]
[null,4.7,"以下","り",25,null,"25kN用引き寄せ金物"]
[null,5.6,"以下","ぬ",30,null,"30kN用引き寄せ金物"]
[null,5.6,"超","-","N×5.3",null,"N×5.3kNに見合う金物"]

{"sheet":"部品","index":12,"n_rows":0,"n_cols":0,"rows_kept":0,"cut":false,"hidden":false,"merged":[]}

{"sheet":"グリッド調整","index":13,"n_rows":36,"n_cols":28,"rows_kept":36,"cut":false,"hidden":false,"merged":[[1,15,1,18],[28,2,28,4],[34,2,34,4],[2,13,2,14],[1,3,1,6],[1,9,1,12],[1,7,1,8],[2,7,2,8],[8,1,13,2],[3,1,3,2],[3,7,3,8],[3,13,3,14],[3,19,3,20],[1,0,3,0],[1,27,1,30],[2,25,2,26],[6,1,7,2],[6,4,6,5],[3,25,3,26],[1,19,1,20],[1,21,1,24],[2,19,2,20],[1,25,1,26],[6,3,7,3],[7,13,7,20],[1,1,1,2],[2,1,2,2],[1,13,1,14]]}
[null,null,3,"尺",null,null,null,null,1,"尺",null,null,null,null,2,"尺",null,null,null,null,4,"尺",null,null,null,null,5,"尺"]
["↑基本とする幅",30,null,"←①基本にしたいグリッド幅にB列の幅を動かす。その時のピルセル数を隣のセルに入力する。",null,null,null,{"$f":"B2/3","v":10},null,"←②表示されてるピルセル数にH列の幅を動かし合わせる。",null,null,null,{"$f":"B2*(2/3)","v":20},null,"←③表示されてるピルセル数にN列の幅を動かし合わせる。",null,null,null,{"$f":"B2*(4/3)","v":40},null,"←④表示されてるピルセル数にT列の幅を動かし合わせる。",null,null,null,{"$f":"B2*(5/3)","v":50},null,"←⑤表示されてるピルセル数にZ列の幅を動かし合わせる。"]
[null,3.57,null,null,null,null,null,0.83,null,null,null,null,null,2.14,null,null,null,null,null,5,null,null,null,null,null,6.43]
[null,{"$f":"B3/C1","v":1.19},null,null,null,null,null,{"$f":"H3/I1","v":0.83},null,null,null,null,null,{"$f":"N3/O1","v":1.07},null,null,null,null,null,{"$f":"T3/U1","v":1.25},null,null,null,null,null,{"$f":"Z3/AA1","v":1.286}]
[]
[]
[null,{"$f":"B2","v":30},null,30,{"$f":"D7/A8","v":10}]
[3,null,null,null,null,null,null,null,null,null,null,null,null,"←最後にこのボタンを押す。"]
["尺","←⑥表示されてるピルセル数に5行目の高さを動かし合わせる。"]
[]
[]
[]
[]
[]
[]
[]
[]
[]
[]
[]
[]
[]
[]
[]
[]
[]
[]
[]
[null,null,"列グリッド倍率"]
[null,null,303,"1尺",{"$f":"グリッド調整!H4","v":0.83}]
[null,null,606,"2尺",{"$f":"グリッド調整!N4","v":1.07}]
[null,null,910,"3尺",{"$f":"グリッド調整!B4","v":1.19}]
[null,null,1213,"4尺",{"$f":"グリッド調整!T4","v":1.25}]
[null,null,1515,"5尺",{"$f":"グリッド調整!Z4","v":1.286}]
[null,null,"行グリッド倍率"]
[null,null,910,"3尺",{"$f":"グリッド調整!E7","v":10}]